Back to the "Multiple platform build/check report" | [A] B C D E F G H I J K L M N O P Q R S T U V W X Y Z |
Package 5/553 | Hostname | OS / Arch | BUILD | CHECK | BUILD BIN | ||||
a4Preproc 1.4.0 Tobias Verbeke
| lamb2 | Linux (openSUSE 11.4) / x86_64 | OK | OK | |||||
moscato2 | Windows Server 2008 R2 Enterprise SP1 (64-bit) / x64 | OK | OK | OK | |||||
petty | Mac OS X Leopard (10.5.8) / i386 | [ OK ] | OK | OK |
Package: a4Preproc |
Version: 1.4.0 |
Command: /Library/Frameworks/R.framework/Versions/2.15/Resources/bin/R CMD build --keep-empty-dirs --no-resave-data a4Preproc |
StartedAt: 2012-09-23 22:25:50 -0700 (Sun, 23 Sep 2012) |
EndedAt: 2012-09-23 22:25:51 -0700 (Sun, 23 Sep 2012) |
EllapsedTime: 0.9 seconds |
RetCode: 0 |
Status: OK |
PackageFile: a4Preproc_1.4.0.tar.gz |
PackageFileSize: 1.838 KiB |
* checking for file 'a4Preproc/DESCRIPTION' ... OK * preparing 'a4Preproc': * checking DESCRIPTION meta-information ... OK * checking for LF line-endings in source and make files * checking for empty or unneeded directories * building 'a4Preproc_1.4.0.tar.gz'