Back to the "Multiple platform build/check report"[A] B  C  D  E  F  G  H  I  J  K  L  M  N  O  P  Q  R  S  T  U  V  W  X  Y  Z 

Package 12/554HostnameOS / ArchBUILDCHECKBUILD BIN
affxparser 1.28.0
Kasper Daniel Hansen
Snapshot Date: 2012-03-31 17:01:49 -0700 (Sat, 31 Mar 2012)
URL: https://hedgehog.fhcrc.org/bioconductor/branches/RELEASE_2_10/madman/Rpacks/affxparser
Last Changed Rev: 64688 / Revision: 64719
Last Changed Date: 2012-03-30 17:27:12 -0700 (Fri, 30 Mar 2012)
lamb2 Linux (openSUSE 11.4) / x86_64  OK  OK 
puck5 Linux (Ubuntu 12.04) / x86_64  OK [ OK ]
moscato2 Windows Server 2008 R2 Enterprise SP1 (64-bit) / x64  OK  OK  OK 
petty Mac OS X Leopard (10.5.8) / i386  OK  OK  OK 

Summary

Package: affxparser
Version: 1.28.0
Command: /home/hpages/test-puck5/bbs-2.10-bioc/R/bin/R CMD check --no-vignettes --timings affxparser_1.28.0.tar.gz
StartedAt: 2012-03-31 23:19:25 -0700 (Sat, 31 Mar 2012)
EndedAt: 2012-03-31 23:20:58 -0700 (Sat, 31 Mar 2012)
EllapsedTime: 92.8 seconds
RetCode: 0
Status:  OK 
CheckDir: affxparser.Rcheck
Warnings: 0

Command output

* using log directory '/loc/home/hpages/test-puck5/bbs-2.10-bioc/meat/affxparser.Rcheck'
* using R version 2.15.0 RC (2012-03-22 r58802)
* using platform: x86_64-unknown-linux-gnu (64-bit)
* using session charset: ISO8859-1
* using option '--no-vignettes'
* checking for file 'affxparser/DESCRIPTION' ... OK
* this is package 'affxparser' version '1.28.0'
* checking package namespace information ... OK
* checking package dependencies ... OK
* checking if this is a source package ... OK
* checking if there is a namespace ... OK
* checking whether package 'affxparser' can be installed ... OK
* checking installed package size ... NOTE
  installed size is 13.5Mb
  sub-directories of 1Mb or more:
    libs  13.1Mb
* checking package directory ... OK
* checking for portable file names ... OK
* checking for sufficient/correct file permissions ... OK
* checking DESCRIPTION meta-information ... OK
* checking top-level files ... OK
* checking index information ... OK
* checking package subdirectories ... OK
* checking R files for non-ASCII characters ... OK
* checking R files for syntax errors ... OK
* checking whether the package can be loaded ... OK
* checking whether the package can be loaded with stated dependencies ... OK
* checking whether the package can be unloaded cleanly ... OK
* checking whether the namespace can be loaded with stated dependencies ... OK
* checking whether the namespace can be unloaded cleanly ... OK
* checking for unstated dependencies in R code ... OK
* checking S3 generic/method consistency ... OK
* checking replacement functions ... OK
* checking foreign function calls ... OK
* checking R code for possible problems ... NOTE
Found .Internal calls in the following functions:
  'readCel' 'readCelUnits'
with calls to .Internal functions
  'qsort'

Packages should not call .Internal(): it is not part of the API, for
use only by R itself and subject to change without notice.
* checking Rd files ... OK
* checking Rd metadata ... OK
* checking Rd cross-references ... OK
* checking for missing documentation entries ... OK
* checking for code/documentation mismatches ... OK
* checking Rd \usage sections ... OK
* checking Rd contents ... OK
* checking for unstated dependencies in examples ... OK
* checking line endings in C/C++/Fortran sources/headers ... OK
* checking line endings in Makefiles ... OK
* checking for portable compilation flags in Makevars ... OK
* checking for portable use of $(BLAS_LIBS) and $(LAPACK_LIBS) ... OK
* checking compiled code ... NOTE
File '/loc/home/hpages/test-puck5/bbs-2.10-bioc/meat/affxparser.Rcheck/affxparser/libs/affxparser.so':
  Found '_ZSt4cerr', possibly from 'std::cerr' (C++)
    Object: 'fusion_sdk/util/Verbose.o'
  Found '_ZSt4cout', possibly from 'std::cout' (C++)
    Object: 'fusion_sdk/file/TsvFile/TsvFile.o'
  Found 'exit', possibly from 'exit' (C)
    Objects: 'fusion_sdk/util/Err.o', 'R_affx_clf_pgf_parser.o'
  Found 'printf', possibly from 'printf' (C)
    Object: 'fusion_sdk/file/TsvFile/TsvFile.o'
  Found 'putchar', possibly from 'putchar' (C)
    Object: 'fusion_sdk/file/TsvFile/TsvFile.o'
  Found 'puts', possibly from 'printf' (C), 'puts' (C)
    Object: 'fusion_sdk/file/TsvFile/TsvFile.o'
  Found 'stdout', possibly from 'stdout' (C)
    Object: 'fusion_sdk/util/Util.o'

Compiled code should not call functions which might terminate R nor
write to stdout/stderr instead of to the console.

See 'Writing portable packages' in the 'Writing R Extensions' manual.
* checking examples ... OK
* checking PDF version of manual ... OK

NOTE: There were 3 notes.
See
  '/loc/home/hpages/test-puck5/bbs-2.10-bioc/meat/affxparser.Rcheck/00check.log'
for details.

affxparser.Rcheck/00install.out:

* installing *source* package 'affxparser' ...
** libs
rm -f fusion_sdk/calvin_files/data/src/CDFData.o fusion_sdk/calvin_files/data/src/CDFProbeGroupInformation.o fusion_sdk/calvin_files/data/src/CDFProbeInformation.o fusion_sdk/calvin_files/data/src/CDFProbeSetInformation.o fusion_sdk/calvin_files/data/src/CDFQCProbeInformation.o fusion_sdk/calvin_files/data/src/CDFQCProbeSetInformation.o fusion_sdk/calvin_files/data/src/CELData.o fusion_sdk/calvin_files/data/src/CHPBackgroundZone.o fusion_sdk/calvin_files/data/src/CHPData.o fusion_sdk/calvin_files/data/src/CHPExpressionEntry.o fusion_sdk/calvin_files/data/src/CHPMultiDataData.o fusion_sdk/calvin_files/data/src/CHPTilingData.o fusion_sdk/calvin_files/data/src/CHPQuantificationData.o fusion_sdk/calvin_files/data/src/CHPQuantificationDetectionData.o fusion_sdk/calvin_files/data/src/CHPGenotypeEntry.o fusion_sdk/calvin_files/data/src/CHPUniversalEntry.o fusion_sdk/calvin_files/data/src/DataGroup.o fusion_sdk/calvin_files/data/src/DataGroupHeader.o fusion_sdk/calvin_files/data/src/DataSet.o fusion_sdk/calvin_files/data/src/DataSetHeader.o fusion_sdk/calvin_files/data/src/FileHeader.o fusion_sdk/calvin_files/data/src/GenericData.o fusion_sdk/calvin_files/data/src/GenericDataHeader.o fusion_sdk/calvin_files/exception/src/ExceptionBase.o fusion_sdk/calvin_files/fusion/src/CalvinAdapter/CalvinCELDataAdapter.o fusion_sdk/calvin_files/fusion/src/CalvinAdapter/CalvinCHPDataAdapter.o fusion_sdk/calvin_files/fusion/src/FusionBPMAPData.o fusion_sdk/calvin_files/fusion/src/FusionCDFData.o fusion_sdk/calvin_files/fusion/src/FusionCDFQCProbeSetNames.o fusion_sdk/calvin_files/fusion/src/FusionCELData.o fusion_sdk/calvin_files/fusion/src/FusionCHPData.o fusion_sdk/calvin_files/fusion/src/FusionProbeSetResults.o fusion_sdk/calvin_files/fusion/src/GCOSAdapter/GCOSCELDataAdapter.o fusion_sdk/calvin_files/fusion/src/GCOSAdapter/GCOSCHPDataAdapter.o fusion_sdk/calvin_files/fusion/src/FusionCHPLegacyData.o fusion_sdk/calvin_files/fusion/src/FusionCHPMultiDataAccessor.o fusion_sdk/calvin_files/fusion/src/FusionCHPMultiDataData.o fusion_sdk/calvin_files/fusion/src/FusionCHPTilingData.o fusion_sdk/calvin_files/fusion/src/FusionCHPGenericData.o fusion_sdk/calvin_files/fusion/src/FusionCHPQuantificationData.o fusion_sdk/calvin_files/fusion/src/FusionCHPQuantificationDetectionData.o fusion_sdk/calvin_files/parameter/src/ParameterNameValueType.o fusion_sdk/calvin_files/parsers/src/CDFFileReader.o fusion_sdk/calvin_files/parsers/src/CelFileReader.o fusion_sdk/calvin_files/parsers/src/CHPFileReader.o fusion_sdk/calvin_files/parsers/src/CHPMultiDataFileReader.o fusion_sdk/calvin_files/parsers/src/CHPTilingFileReader.o fusion_sdk/calvin_files/parsers/src/CHPQuantificationFileReader.o fusion_sdk/calvin_files/parsers/src/CHPQuantificationDetectionFileReader.o fusion_sdk/calvin_files/parsers/src/DataGroupHeaderReader.o fusion_sdk/calvin_files/parsers/src/DataGroupReader.o fusion_sdk/calvin_files/parsers/src/DataSetHeaderReader.o fusion_sdk/calvin_files/parsers/src/DataSetReader.o fusion_sdk/calvin_files/parsers/src/FileHeaderReader.o fusion_sdk/calvin_files/parsers/src/FileInput.o fusion_sdk/calvin_files/parsers/src/GenericDataHeaderReader.o fusion_sdk/calvin_files/parsers/src/GenericFileReader.o fusion_sdk/calvin_files/utils/src/AffymetrixGuid.o fusion_sdk/calvin_files/utils/src/DateTime.o fusion_sdk/calvin_files/utils/src/FileUtils.o fusion_sdk/calvin_files/utils/src/StringUtils.o fusion_sdk/calvin_files/utils/src/checksum.o fusion_sdk/file/BPMAPFileData.o fusion_sdk/file/BPMAPFileWriter.o fusion_sdk/file/CDFFileData.o fusion_sdk/file/CELFileData.o fusion_sdk/file/CHPFileData.o fusion_sdk/file/FileIO.o fusion_sdk/file/FileWriter.o fusion_sdk/file/TsvFile/TsvFile.o fusion_sdk/util/AffxByteArray.o fusion_sdk/util/AffxConv.o fusion_sdk/util/AffxFile.o fusion_sdk/util/MsgStream.o fusion_sdk/util/Util.o fusion_sdk/util/Err.o fusion_sdk/util/Verbose.o fusion_sdk/util/RowFile.o fusion_sdk/util/TableFile.o fusion_sdk/util/Convert.o R_affx_cel_parser.o R_affx_cdf_parser.o R_affx_cdf_extras.o R_affx_bpmap_parser.o R_affx_clf_pgf_parser.o R_affx_chp_parser.o
g++ -I/home/hpages/test-puck5/bbs-2.10-bioc/R/include -DNDEBUG -I. -Ifusion_sdk/calvin_files/array/src -Ifusion_sdk/calvin_files/data/src -Ifusion_sdk/calvin_files/exception/src -Ifusion_sdk/calvin_files/fusion/src -Ifusion_sdk/calvin_files/fusion/src/GCOSAdapter -Ifusion_sdk/calvin_files/fusion/src/CalvinAdapter -Ifusion_sdk/calvin_files/parameter/src -Ifusion_sdk/calvin_files/parsers/src -Ifusion_sdk/calvin_files/portability/src -Ifusion_sdk/calvin_files/template/src -Ifusion_sdk/calvin_files/utils/src -Ifusion_sdk/calvin_files/writers/src -Ifusion_sdk/file -Ifusion_sdk/file/TsvFile -Ifusion_sdk/portability -Ifusion_sdk/util -Ifusion_sdk -D_USE_MEM_MAPPING_ -I/usr/local/include    -fpic  -g -O2  -O0 -c fusion_sdk/calvin_files/data/src/CDFData.cpp -o fusion_sdk/calvin_files/data/src/CDFData.o
g++ -I/home/hpages/test-puck5/bbs-2.10-bioc/R/include -DNDEBUG -I. -Ifusion_sdk/calvin_files/array/src -Ifusion_sdk/calvin_files/data/src -Ifusion_sdk/calvin_files/exception/src -Ifusion_sdk/calvin_files/fusion/src -Ifusion_sdk/calvin_files/fusion/src/GCOSAdapter -Ifusion_sdk/calvin_files/fusion/src/CalvinAdapter -Ifusion_sdk/calvin_files/parameter/src -Ifusion_sdk/calvin_files/parsers/src -Ifusion_sdk/calvin_files/portability/src -Ifusion_sdk/calvin_files/template/src -Ifusion_sdk/calvin_files/utils/src -Ifusion_sdk/calvin_files/writers/src -Ifusion_sdk/file -Ifusion_sdk/file/TsvFile -Ifusion_sdk/portability -Ifusion_sdk/util -Ifusion_sdk -D_USE_MEM_MAPPING_ -I/usr/local/include    -fpic  -g -O2  -O0 -c fusion_sdk/calvin_files/data/src/CDFProbeGroupInformation.cpp -o fusion_sdk/calvin_files/data/src/CDFProbeGroupInformation.o
g++ -I/home/hpages/test-puck5/bbs-2.10-bioc/R/include -DNDEBUG -I. -Ifusion_sdk/calvin_files/array/src -Ifusion_sdk/calvin_files/data/src -Ifusion_sdk/calvin_files/exception/src -Ifusion_sdk/calvin_files/fusion/src -Ifusion_sdk/calvin_files/fusion/src/GCOSAdapter -Ifusion_sdk/calvin_files/fusion/src/CalvinAdapter -Ifusion_sdk/calvin_files/parameter/src -Ifusion_sdk/calvin_files/parsers/src -Ifusion_sdk/calvin_files/portability/src -Ifusion_sdk/calvin_files/template/src -Ifusion_sdk/calvin_files/utils/src -Ifusion_sdk/calvin_files/writers/src -Ifusion_sdk/file -Ifusion_sdk/file/TsvFile -Ifusion_sdk/portability -Ifusion_sdk/util -Ifusion_sdk -D_USE_MEM_MAPPING_ -I/usr/local/include    -fpic  -g -O2  -O0 -c fusion_sdk/calvin_files/data/src/CDFProbeInformation.cpp -o fusion_sdk/calvin_files/data/src/CDFProbeInformation.o
g++ -I/home/hpages/test-puck5/bbs-2.10-bioc/R/include -DNDEBUG -I. -Ifusion_sdk/calvin_files/array/src -Ifusion_sdk/calvin_files/data/src -Ifusion_sdk/calvin_files/exception/src -Ifusion_sdk/calvin_files/fusion/src -Ifusion_sdk/calvin_files/fusion/src/GCOSAdapter -Ifusion_sdk/calvin_files/fusion/src/CalvinAdapter -Ifusion_sdk/calvin_files/parameter/src -Ifusion_sdk/calvin_files/parsers/src -Ifusion_sdk/calvin_files/portability/src -Ifusion_sdk/calvin_files/template/src -Ifusion_sdk/calvin_files/utils/src -Ifusion_sdk/calvin_files/writers/src -Ifusion_sdk/file -Ifusion_sdk/file/TsvFile -Ifusion_sdk/portability -Ifusion_sdk/util -Ifusion_sdk -D_USE_MEM_MAPPING_ -I/usr/local/include    -fpic  -g -O2  -O0 -c fusion_sdk/calvin_files/data/src/CDFProbeSetInformation.cpp -o fusion_sdk/calvin_files/data/src/CDFProbeSetInformation.o
g++ -I/home/hpages/test-puck5/bbs-2.10-bioc/R/include -DNDEBUG -I. -Ifusion_sdk/calvin_files/array/src -Ifusion_sdk/calvin_files/data/src -Ifusion_sdk/calvin_files/exception/src -Ifusion_sdk/calvin_files/fusion/src -Ifusion_sdk/calvin_files/fusion/src/GCOSAdapter -Ifusion_sdk/calvin_files/fusion/src/CalvinAdapter -Ifusion_sdk/calvin_files/parameter/src -Ifusion_sdk/calvin_files/parsers/src -Ifusion_sdk/calvin_files/portability/src -Ifusion_sdk/calvin_files/template/src -Ifusion_sdk/calvin_files/utils/src -Ifusion_sdk/calvin_files/writers/src -Ifusion_sdk/file -Ifusion_sdk/file/TsvFile -Ifusion_sdk/portability -Ifusion_sdk/util -Ifusion_sdk -D_USE_MEM_MAPPING_ -I/usr/local/include    -fpic  -g -O2  -O0 -c fusion_sdk/calvin_files/data/src/CDFQCProbeInformation.cpp -o fusion_sdk/calvin_files/data/src/CDFQCProbeInformation.o
g++ -I/home/hpages/test-puck5/bbs-2.10-bioc/R/include -DNDEBUG -I. -Ifusion_sdk/calvin_files/array/src -Ifusion_sdk/calvin_files/data/src -Ifusion_sdk/calvin_files/exception/src -Ifusion_sdk/calvin_files/fusion/src -Ifusion_sdk/calvin_files/fusion/src/GCOSAdapter -Ifusion_sdk/calvin_files/fusion/src/CalvinAdapter -Ifusion_sdk/calvin_files/parameter/src -Ifusion_sdk/calvin_files/parsers/src -Ifusion_sdk/calvin_files/portability/src -Ifusion_sdk/calvin_files/template/src -Ifusion_sdk/calvin_files/utils/src -Ifusion_sdk/calvin_files/writers/src -Ifusion_sdk/file -Ifusion_sdk/file/TsvFile -Ifusion_sdk/portability -Ifusion_sdk/util -Ifusion_sdk -D_USE_MEM_MAPPING_ -I/usr/local/include    -fpic  -g -O2  -O0 -c fusion_sdk/calvin_files/data/src/CDFQCProbeSetInformation.cpp -o fusion_sdk/calvin_files/data/src/CDFQCProbeSetInformation.o
g++ -I/home/hpages/test-puck5/bbs-2.10-bioc/R/include -DNDEBUG -I. -Ifusion_sdk/calvin_files/array/src -Ifusion_sdk/calvin_files/data/src -Ifusion_sdk/calvin_files/exception/src -Ifusion_sdk/calvin_files/fusion/src -Ifusion_sdk/calvin_files/fusion/src/GCOSAdapter -Ifusion_sdk/calvin_files/fusion/src/CalvinAdapter -Ifusion_sdk/calvin_files/parameter/src -Ifusion_sdk/calvin_files/parsers/src -Ifusion_sdk/calvin_files/portability/src -Ifusion_sdk/calvin_files/template/src -Ifusion_sdk/calvin_files/utils/src -Ifusion_sdk/calvin_files/writers/src -Ifusion_sdk/file -Ifusion_sdk/file/TsvFile -Ifusion_sdk/portability -Ifusion_sdk/util -Ifusion_sdk -D_USE_MEM_MAPPING_ -I/usr/local/include    -fpic  -g -O2  -O0 -c fusion_sdk/calvin_files/data/src/CELData.cpp -o fusion_sdk/calvin_files/data/src/CELData.o
g++ -I/home/hpages/test-puck5/bbs-2.10-bioc/R/include -DNDEBUG -I. -Ifusion_sdk/calvin_files/array/src -Ifusion_sdk/calvin_files/data/src -Ifusion_sdk/calvin_files/exception/src -Ifusion_sdk/calvin_files/fusion/src -Ifusion_sdk/calvin_files/fusion/src/GCOSAdapter -Ifusion_sdk/calvin_files/fusion/src/CalvinAdapter -Ifusion_sdk/calvin_files/parameter/src -Ifusion_sdk/calvin_files/parsers/src -Ifusion_sdk/calvin_files/portability/src -Ifusion_sdk/calvin_files/template/src -Ifusion_sdk/calvin_files/utils/src -Ifusion_sdk/calvin_files/writers/src -Ifusion_sdk/file -Ifusion_sdk/file/TsvFile -Ifusion_sdk/portability -Ifusion_sdk/util -Ifusion_sdk -D_USE_MEM_MAPPING_ -I/usr/local/include    -fpic  -g -O2  -O0 -c fusion_sdk/calvin_files/data/src/CHPBackgroundZone.cpp -o fusion_sdk/calvin_files/data/src/CHPBackgroundZone.o
g++ -I/home/hpages/test-puck5/bbs-2.10-bioc/R/include -DNDEBUG -I. -Ifusion_sdk/calvin_files/array/src -Ifusion_sdk/calvin_files/data/src -Ifusion_sdk/calvin_files/exception/src -Ifusion_sdk/calvin_files/fusion/src -Ifusion_sdk/calvin_files/fusion/src/GCOSAdapter -Ifusion_sdk/calvin_files/fusion/src/CalvinAdapter -Ifusion_sdk/calvin_files/parameter/src -Ifusion_sdk/calvin_files/parsers/src -Ifusion_sdk/calvin_files/portability/src -Ifusion_sdk/calvin_files/template/src -Ifusion_sdk/calvin_files/utils/src -Ifusion_sdk/calvin_files/writers/src -Ifusion_sdk/file -Ifusion_sdk/file/TsvFile -Ifusion_sdk/portability -Ifusion_sdk/util -Ifusion_sdk -D_USE_MEM_MAPPING_ -I/usr/local/include    -fpic  -g -O2  -O0 -c fusion_sdk/calvin_files/data/src/CHPData.cpp -o fusion_sdk/calvin_files/data/src/CHPData.o
g++ -I/home/hpages/test-puck5/bbs-2.10-bioc/R/include -DNDEBUG -I. -Ifusion_sdk/calvin_files/array/src -Ifusion_sdk/calvin_files/data/src -Ifusion_sdk/calvin_files/exception/src -Ifusion_sdk/calvin_files/fusion/src -Ifusion_sdk/calvin_files/fusion/src/GCOSAdapter -Ifusion_sdk/calvin_files/fusion/src/CalvinAdapter -Ifusion_sdk/calvin_files/parameter/src -Ifusion_sdk/calvin_files/parsers/src -Ifusion_sdk/calvin_files/portability/src -Ifusion_sdk/calvin_files/template/src -Ifusion_sdk/calvin_files/utils/src -Ifusion_sdk/calvin_files/writers/src -Ifusion_sdk/file -Ifusion_sdk/file/TsvFile -Ifusion_sdk/portability -Ifusion_sdk/util -Ifusion_sdk -D_USE_MEM_MAPPING_ -I/usr/local/include    -fpic  -g -O2  -O0 -c fusion_sdk/calvin_files/data/src/CHPExpressionEntry.cpp -o fusion_sdk/calvin_files/data/src/CHPExpressionEntry.o
g++ -I/home/hpages/test-puck5/bbs-2.10-bioc/R/include -DNDEBUG -I. -Ifusion_sdk/calvin_files/array/src -Ifusion_sdk/calvin_files/data/src -Ifusion_sdk/calvin_files/exception/src -Ifusion_sdk/calvin_files/fusion/src -Ifusion_sdk/calvin_files/fusion/src/GCOSAdapter -Ifusion_sdk/calvin_files/fusion/src/CalvinAdapter -Ifusion_sdk/calvin_files/parameter/src -Ifusion_sdk/calvin_files/parsers/src -Ifusion_sdk/calvin_files/portability/src -Ifusion_sdk/calvin_files/template/src -Ifusion_sdk/calvin_files/utils/src -Ifusion_sdk/calvin_files/writers/src -Ifusion_sdk/file -Ifusion_sdk/file/TsvFile -Ifusion_sdk/portability -Ifusion_sdk/util -Ifusion_sdk -D_USE_MEM_MAPPING_ -I/usr/local/include    -fpic  -g -O2  -O0 -c fusion_sdk/calvin_files/data/src/CHPMultiDataData.cpp -o fusion_sdk/calvin_files/data/src/CHPMultiDataData.o
g++ -I/home/hpages/test-puck5/bbs-2.10-bioc/R/include -DNDEBUG -I. -Ifusion_sdk/calvin_files/array/src -Ifusion_sdk/calvin_files/data/src -Ifusion_sdk/calvin_files/exception/src -Ifusion_sdk/calvin_files/fusion/src -Ifusion_sdk/calvin_files/fusion/src/GCOSAdapter -Ifusion_sdk/calvin_files/fusion/src/CalvinAdapter -Ifusion_sdk/calvin_files/parameter/src -Ifusion_sdk/calvin_files/parsers/src -Ifusion_sdk/calvin_files/portability/src -Ifusion_sdk/calvin_files/template/src -Ifusion_sdk/calvin_files/utils/src -Ifusion_sdk/calvin_files/writers/src -Ifusion_sdk/file -Ifusion_sdk/file/TsvFile -Ifusion_sdk/portability -Ifusion_sdk/util -Ifusion_sdk -D_USE_MEM_MAPPING_ -I/usr/local/include    -fpic  -g -O2  -O0 -c fusion_sdk/calvin_files/data/src/CHPTilingData.cpp -o fusion_sdk/calvin_files/data/src/CHPTilingData.o
g++ -I/home/hpages/test-puck5/bbs-2.10-bioc/R/include -DNDEBUG -I. -Ifusion_sdk/calvin_files/array/src -Ifusion_sdk/calvin_files/data/src -Ifusion_sdk/calvin_files/exception/src -Ifusion_sdk/calvin_files/fusion/src -Ifusion_sdk/calvin_files/fusion/src/GCOSAdapter -Ifusion_sdk/calvin_files/fusion/src/CalvinAdapter -Ifusion_sdk/calvin_files/parameter/src -Ifusion_sdk/calvin_files/parsers/src -Ifusion_sdk/calvin_files/portability/src -Ifusion_sdk/calvin_files/template/src -Ifusion_sdk/calvin_files/utils/src -Ifusion_sdk/calvin_files/writers/src -Ifusion_sdk/file -Ifusion_sdk/file/TsvFile -Ifusion_sdk/portability -Ifusion_sdk/util -Ifusion_sdk -D_USE_MEM_MAPPING_ -I/usr/local/include    -fpic  -g -O2  -O0 -c fusion_sdk/calvin_files/data/src/CHPQuantificationData.cpp -o fusion_sdk/calvin_files/data/src/CHPQuantificationData.o
g++ -I/home/hpages/test-puck5/bbs-2.10-bioc/R/include -DNDEBUG -I. -Ifusion_sdk/calvin_files/array/src -Ifusion_sdk/calvin_files/data/src -Ifusion_sdk/calvin_files/exception/src -Ifusion_sdk/calvin_files/fusion/src -Ifusion_sdk/calvin_files/fusion/src/GCOSAdapter -Ifusion_sdk/calvin_files/fusion/src/CalvinAdapter -Ifusion_sdk/calvin_files/parameter/src -Ifusion_sdk/calvin_files/parsers/src -Ifusion_sdk/calvin_files/portability/src -Ifusion_sdk/calvin_files/template/src -Ifusion_sdk/calvin_files/utils/src -Ifusion_sdk/calvin_files/writers/src -Ifusion_sdk/file -Ifusion_sdk/file/TsvFile -Ifusion_sdk/portability -Ifusion_sdk/util -Ifusion_sdk -D_USE_MEM_MAPPING_ -I/usr/local/include    -fpic  -g -O2  -O0 -c fusion_sdk/calvin_files/data/src/CHPQuantificationDetectionData.cpp -o fusion_sdk/calvin_files/data/src/CHPQuantificationDetectionData.o
g++ -I/home/hpages/test-puck5/bbs-2.10-bioc/R/include -DNDEBUG -I. -Ifusion_sdk/calvin_files/array/src -Ifusion_sdk/calvin_files/data/src -Ifusion_sdk/calvin_files/exception/src -Ifusion_sdk/calvin_files/fusion/src -Ifusion_sdk/calvin_files/fusion/src/GCOSAdapter -Ifusion_sdk/calvin_files/fusion/src/CalvinAdapter -Ifusion_sdk/calvin_files/parameter/src -Ifusion_sdk/calvin_files/parsers/src -Ifusion_sdk/calvin_files/portability/src -Ifusion_sdk/calvin_files/template/src -Ifusion_sdk/calvin_files/utils/src -Ifusion_sdk/calvin_files/writers/src -Ifusion_sdk/file -Ifusion_sdk/file/TsvFile -Ifusion_sdk/portability -Ifusion_sdk/util -Ifusion_sdk -D_USE_MEM_MAPPING_ -I/usr/local/include    -fpic  -g -O2  -O0 -c fusion_sdk/calvin_files/data/src/CHPGenotypeEntry.cpp -o fusion_sdk/calvin_files/data/src/CHPGenotypeEntry.o
g++ -I/home/hpages/test-puck5/bbs-2.10-bioc/R/include -DNDEBUG -I. -Ifusion_sdk/calvin_files/array/src -Ifusion_sdk/calvin_files/data/src -Ifusion_sdk/calvin_files/exception/src -Ifusion_sdk/calvin_files/fusion/src -Ifusion_sdk/calvin_files/fusion/src/GCOSAdapter -Ifusion_sdk/calvin_files/fusion/src/CalvinAdapter -Ifusion_sdk/calvin_files/parameter/src -Ifusion_sdk/calvin_files/parsers/src -Ifusion_sdk/calvin_files/portability/src -Ifusion_sdk/calvin_files/template/src -Ifusion_sdk/calvin_files/utils/src -Ifusion_sdk/calvin_files/writers/src -Ifusion_sdk/file -Ifusion_sdk/file/TsvFile -Ifusion_sdk/portability -Ifusion_sdk/util -Ifusion_sdk -D_USE_MEM_MAPPING_ -I/usr/local/include    -fpic  -g -O2  -O0 -c fusion_sdk/calvin_files/data/src/CHPUniversalEntry.cpp -o fusion_sdk/calvin_files/data/src/CHPUniversalEntry.o
g++ -I/home/hpages/test-puck5/bbs-2.10-bioc/R/include -DNDEBUG -I. -Ifusion_sdk/calvin_files/array/src -Ifusion_sdk/calvin_files/data/src -Ifusion_sdk/calvin_files/exception/src -Ifusion_sdk/calvin_files/fusion/src -Ifusion_sdk/calvin_files/fusion/src/GCOSAdapter -Ifusion_sdk/calvin_files/fusion/src/CalvinAdapter -Ifusion_sdk/calvin_files/parameter/src -Ifusion_sdk/calvin_files/parsers/src -Ifusion_sdk/calvin_files/portability/src -Ifusion_sdk/calvin_files/template/src -Ifusion_sdk/calvin_files/utils/src -Ifusion_sdk/calvin_files/writers/src -Ifusion_sdk/file -Ifusion_sdk/file/TsvFile -Ifusion_sdk/portability -Ifusion_sdk/util -Ifusion_sdk -D_USE_MEM_MAPPING_ -I/usr/local/include    -fpic  -g -O2  -O0 -c fusion_sdk/calvin_files/data/src/DataGroup.cpp -o fusion_sdk/calvin_files/data/src/DataGroup.o
g++ -I/home/hpages/test-puck5/bbs-2.10-bioc/R/include -DNDEBUG -I. -Ifusion_sdk/calvin_files/array/src -Ifusion_sdk/calvin_files/data/src -Ifusion_sdk/calvin_files/exception/src -Ifusion_sdk/calvin_files/fusion/src -Ifusion_sdk/calvin_files/fusion/src/GCOSAdapter -Ifusion_sdk/calvin_files/fusion/src/CalvinAdapter -Ifusion_sdk/calvin_files/parameter/src -Ifusion_sdk/calvin_files/parsers/src -Ifusion_sdk/calvin_files/portability/src -Ifusion_sdk/calvin_files/template/src -Ifusion_sdk/calvin_files/utils/src -Ifusion_sdk/calvin_files/writers/src -Ifusion_sdk/file -Ifusion_sdk/file/TsvFile -Ifusion_sdk/portability -Ifusion_sdk/util -Ifusion_sdk -D_USE_MEM_MAPPING_ -I/usr/local/include    -fpic  -g -O2  -O0 -c fusion_sdk/calvin_files/data/src/DataGroupHeader.cpp -o fusion_sdk/calvin_files/data/src/DataGroupHeader.o
g++ -I/home/hpages/test-puck5/bbs-2.10-bioc/R/include -DNDEBUG -I. -Ifusion_sdk/calvin_files/array/src -Ifusion_sdk/calvin_files/data/src -Ifusion_sdk/calvin_files/exception/src -Ifusion_sdk/calvin_files/fusion/src -Ifusion_sdk/calvin_files/fusion/src/GCOSAdapter -Ifusion_sdk/calvin_files/fusion/src/CalvinAdapter -Ifusion_sdk/calvin_files/parameter/src -Ifusion_sdk/calvin_files/parsers/src -Ifusion_sdk/calvin_files/portability/src -Ifusion_sdk/calvin_files/template/src -Ifusion_sdk/calvin_files/utils/src -Ifusion_sdk/calvin_files/writers/src -Ifusion_sdk/file -Ifusion_sdk/file/TsvFile -Ifusion_sdk/portability -Ifusion_sdk/util -Ifusion_sdk -D_USE_MEM_MAPPING_ -I/usr/local/include    -fpic  -g -O2  -O0 -c fusion_sdk/calvin_files/data/src/DataSet.cpp -o fusion_sdk/calvin_files/data/src/DataSet.o
g++ -I/home/hpages/test-puck5/bbs-2.10-bioc/R/include -DNDEBUG -I. -Ifusion_sdk/calvin_files/array/src -Ifusion_sdk/calvin_files/data/src -Ifusion_sdk/calvin_files/exception/src -Ifusion_sdk/calvin_files/fusion/src -Ifusion_sdk/calvin_files/fusion/src/GCOSAdapter -Ifusion_sdk/calvin_files/fusion/src/CalvinAdapter -Ifusion_sdk/calvin_files/parameter/src -Ifusion_sdk/calvin_files/parsers/src -Ifusion_sdk/calvin_files/portability/src -Ifusion_sdk/calvin_files/template/src -Ifusion_sdk/calvin_files/utils/src -Ifusion_sdk/calvin_files/writers/src -Ifusion_sdk/file -Ifusion_sdk/file/TsvFile -Ifusion_sdk/portability -Ifusion_sdk/util -Ifusion_sdk -D_USE_MEM_MAPPING_ -I/usr/local/include    -fpic  -g -O2  -O0 -c fusion_sdk/calvin_files/data/src/DataSetHeader.cpp -o fusion_sdk/calvin_files/data/src/DataSetHeader.o
g++ -I/home/hpages/test-puck5/bbs-2.10-bioc/R/include -DNDEBUG -I. -Ifusion_sdk/calvin_files/array/src -Ifusion_sdk/calvin_files/data/src -Ifusion_sdk/calvin_files/exception/src -Ifusion_sdk/calvin_files/fusion/src -Ifusion_sdk/calvin_files/fusion/src/GCOSAdapter -Ifusion_sdk/calvin_files/fusion/src/CalvinAdapter -Ifusion_sdk/calvin_files/parameter/src -Ifusion_sdk/calvin_files/parsers/src -Ifusion_sdk/calvin_files/portability/src -Ifusion_sdk/calvin_files/template/src -Ifusion_sdk/calvin_files/utils/src -Ifusion_sdk/calvin_files/writers/src -Ifusion_sdk/file -Ifusion_sdk/file/TsvFile -Ifusion_sdk/portability -Ifusion_sdk/util -Ifusion_sdk -D_USE_MEM_MAPPING_ -I/usr/local/include    -fpic  -g -O2  -O0 -c fusion_sdk/calvin_files/data/src/FileHeader.cpp -o fusion_sdk/calvin_files/data/src/FileHeader.o
g++ -I/home/hpages/test-puck5/bbs-2.10-bioc/R/include -DNDEBUG -I. -Ifusion_sdk/calvin_files/array/src -Ifusion_sdk/calvin_files/data/src -Ifusion_sdk/calvin_files/exception/src -Ifusion_sdk/calvin_files/fusion/src -Ifusion_sdk/calvin_files/fusion/src/GCOSAdapter -Ifusion_sdk/calvin_files/fusion/src/CalvinAdapter -Ifusion_sdk/calvin_files/parameter/src -Ifusion_sdk/calvin_files/parsers/src -Ifusion_sdk/calvin_files/portability/src -Ifusion_sdk/calvin_files/template/src -Ifusion_sdk/calvin_files/utils/src -Ifusion_sdk/calvin_files/writers/src -Ifusion_sdk/file -Ifusion_sdk/file/TsvFile -Ifusion_sdk/portability -Ifusion_sdk/util -Ifusion_sdk -D_USE_MEM_MAPPING_ -I/usr/local/include    -fpic  -g -O2  -O0 -c fusion_sdk/calvin_files/data/src/GenericData.cpp -o fusion_sdk/calvin_files/data/src/GenericData.o
g++ -I/home/hpages/test-puck5/bbs-2.10-bioc/R/include -DNDEBUG -I. -Ifusion_sdk/calvin_files/array/src -Ifusion_sdk/calvin_files/data/src -Ifusion_sdk/calvin_files/exception/src -Ifusion_sdk/calvin_files/fusion/src -Ifusion_sdk/calvin_files/fusion/src/GCOSAdapter -Ifusion_sdk/calvin_files/fusion/src/CalvinAdapter -Ifusion_sdk/calvin_files/parameter/src -Ifusion_sdk/calvin_files/parsers/src -Ifusion_sdk/calvin_files/portability/src -Ifusion_sdk/calvin_files/template/src -Ifusion_sdk/calvin_files/utils/src -Ifusion_sdk/calvin_files/writers/src -Ifusion_sdk/file -Ifusion_sdk/file/TsvFile -Ifusion_sdk/portability -Ifusion_sdk/util -Ifusion_sdk -D_USE_MEM_MAPPING_ -I/usr/local/include    -fpic  -g -O2  -O0 -c fusion_sdk/calvin_files/data/src/GenericDataHeader.cpp -o fusion_sdk/calvin_files/data/src/GenericDataHeader.o
g++ -I/home/hpages/test-puck5/bbs-2.10-bioc/R/include -DNDEBUG -I. -Ifusion_sdk/calvin_files/array/src -Ifusion_sdk/calvin_files/data/src -Ifusion_sdk/calvin_files/exception/src -Ifusion_sdk/calvin_files/fusion/src -Ifusion_sdk/calvin_files/fusion/src/GCOSAdapter -Ifusion_sdk/calvin_files/fusion/src/CalvinAdapter -Ifusion_sdk/calvin_files/parameter/src -Ifusion_sdk/calvin_files/parsers/src -Ifusion_sdk/calvin_files/portability/src -Ifusion_sdk/calvin_files/template/src -Ifusion_sdk/calvin_files/utils/src -Ifusion_sdk/calvin_files/writers/src -Ifusion_sdk/file -Ifusion_sdk/file/TsvFile -Ifusion_sdk/portability -Ifusion_sdk/util -Ifusion_sdk -D_USE_MEM_MAPPING_ -I/usr/local/include    -fpic  -g -O2  -O0 -c fusion_sdk/calvin_files/exception/src/ExceptionBase.cpp -o fusion_sdk/calvin_files/exception/src/ExceptionBase.o
g++ -I/home/hpages/test-puck5/bbs-2.10-bioc/R/include -DNDEBUG -I. -Ifusion_sdk/calvin_files/array/src -Ifusion_sdk/calvin_files/data/src -Ifusion_sdk/calvin_files/exception/src -Ifusion_sdk/calvin_files/fusion/src -Ifusion_sdk/calvin_files/fusion/src/GCOSAdapter -Ifusion_sdk/calvin_files/fusion/src/CalvinAdapter -Ifusion_sdk/calvin_files/parameter/src -Ifusion_sdk/calvin_files/parsers/src -Ifusion_sdk/calvin_files/portability/src -Ifusion_sdk/calvin_files/template/src -Ifusion_sdk/calvin_files/utils/src -Ifusion_sdk/calvin_files/writers/src -Ifusion_sdk/file -Ifusion_sdk/file/TsvFile -Ifusion_sdk/portability -Ifusion_sdk/util -Ifusion_sdk -D_USE_MEM_MAPPING_ -I/usr/local/include    -fpic  -g -O2  -O0 -c fusion_sdk/calvin_files/fusion/src/CalvinAdapter/CalvinCELDataAdapter.cpp -o fusion_sdk/calvin_files/fusion/src/CalvinAdapter/CalvinCELDataAdapter.o
g++ -I/home/hpages/test-puck5/bbs-2.10-bioc/R/include -DNDEBUG -I. -Ifusion_sdk/calvin_files/array/src -Ifusion_sdk/calvin_files/data/src -Ifusion_sdk/calvin_files/exception/src -Ifusion_sdk/calvin_files/fusion/src -Ifusion_sdk/calvin_files/fusion/src/GCOSAdapter -Ifusion_sdk/calvin_files/fusion/src/CalvinAdapter -Ifusion_sdk/calvin_files/parameter/src -Ifusion_sdk/calvin_files/parsers/src -Ifusion_sdk/calvin_files/portability/src -Ifusion_sdk/calvin_files/template/src -Ifusion_sdk/calvin_files/utils/src -Ifusion_sdk/calvin_files/writers/src -Ifusion_sdk/file -Ifusion_sdk/file/TsvFile -Ifusion_sdk/portability -Ifusion_sdk/util -Ifusion_sdk -D_USE_MEM_MAPPING_ -I/usr/local/include    -fpic  -g -O2  -O0 -c fusion_sdk/calvin_files/fusion/src/CalvinAdapter/CalvinCHPDataAdapter.cpp -o fusion_sdk/calvin_files/fusion/src/CalvinAdapter/CalvinCHPDataAdapter.o
g++ -I/home/hpages/test-puck5/bbs-2.10-bioc/R/include -DNDEBUG -I. -Ifusion_sdk/calvin_files/array/src -Ifusion_sdk/calvin_files/data/src -Ifusion_sdk/calvin_files/exception/src -Ifusion_sdk/calvin_files/fusion/src -Ifusion_sdk/calvin_files/fusion/src/GCOSAdapter -Ifusion_sdk/calvin_files/fusion/src/CalvinAdapter -Ifusion_sdk/calvin_files/parameter/src -Ifusion_sdk/calvin_files/parsers/src -Ifusion_sdk/calvin_files/portability/src -Ifusion_sdk/calvin_files/template/src -Ifusion_sdk/calvin_files/utils/src -Ifusion_sdk/calvin_files/writers/src -Ifusion_sdk/file -Ifusion_sdk/file/TsvFile -Ifusion_sdk/portability -Ifusion_sdk/util -Ifusion_sdk -D_USE_MEM_MAPPING_ -I/usr/local/include    -fpic  -g -O2  -O0 -c fusion_sdk/calvin_files/fusion/src/FusionBPMAPData.cpp -o fusion_sdk/calvin_files/fusion/src/FusionBPMAPData.o
g++ -I/home/hpages/test-puck5/bbs-2.10-bioc/R/include -DNDEBUG -I. -Ifusion_sdk/calvin_files/array/src -Ifusion_sdk/calvin_files/data/src -Ifusion_sdk/calvin_files/exception/src -Ifusion_sdk/calvin_files/fusion/src -Ifusion_sdk/calvin_files/fusion/src/GCOSAdapter -Ifusion_sdk/calvin_files/fusion/src/CalvinAdapter -Ifusion_sdk/calvin_files/parameter/src -Ifusion_sdk/calvin_files/parsers/src -Ifusion_sdk/calvin_files/portability/src -Ifusion_sdk/calvin_files/template/src -Ifusion_sdk/calvin_files/utils/src -Ifusion_sdk/calvin_files/writers/src -Ifusion_sdk/file -Ifusion_sdk/file/TsvFile -Ifusion_sdk/portability -Ifusion_sdk/util -Ifusion_sdk -D_USE_MEM_MAPPING_ -I/usr/local/include    -fpic  -g -O2  -O0 -c fusion_sdk/calvin_files/fusion/src/FusionCDFData.cpp -o fusion_sdk/calvin_files/fusion/src/FusionCDFData.o
g++ -I/home/hpages/test-puck5/bbs-2.10-bioc/R/include -DNDEBUG -I. -Ifusion_sdk/calvin_files/array/src -Ifusion_sdk/calvin_files/data/src -Ifusion_sdk/calvin_files/exception/src -Ifusion_sdk/calvin_files/fusion/src -Ifusion_sdk/calvin_files/fusion/src/GCOSAdapter -Ifusion_sdk/calvin_files/fusion/src/CalvinAdapter -Ifusion_sdk/calvin_files/parameter/src -Ifusion_sdk/calvin_files/parsers/src -Ifusion_sdk/calvin_files/portability/src -Ifusion_sdk/calvin_files/template/src -Ifusion_sdk/calvin_files/utils/src -Ifusion_sdk/calvin_files/writers/src -Ifusion_sdk/file -Ifusion_sdk/file/TsvFile -Ifusion_sdk/portability -Ifusion_sdk/util -Ifusion_sdk -D_USE_MEM_MAPPING_ -I/usr/local/include    -fpic  -g -O2  -O0 -c fusion_sdk/calvin_files/fusion/src/FusionCDFQCProbeSetNames.cpp -o fusion_sdk/calvin_files/fusion/src/FusionCDFQCProbeSetNames.o
g++ -I/home/hpages/test-puck5/bbs-2.10-bioc/R/include -DNDEBUG -I. -Ifusion_sdk/calvin_files/array/src -Ifusion_sdk/calvin_files/data/src -Ifusion_sdk/calvin_files/exception/src -Ifusion_sdk/calvin_files/fusion/src -Ifusion_sdk/calvin_files/fusion/src/GCOSAdapter -Ifusion_sdk/calvin_files/fusion/src/CalvinAdapter -Ifusion_sdk/calvin_files/parameter/src -Ifusion_sdk/calvin_files/parsers/src -Ifusion_sdk/calvin_files/portability/src -Ifusion_sdk/calvin_files/template/src -Ifusion_sdk/calvin_files/utils/src -Ifusion_sdk/calvin_files/writers/src -Ifusion_sdk/file -Ifusion_sdk/file/TsvFile -Ifusion_sdk/portability -Ifusion_sdk/util -Ifusion_sdk -D_USE_MEM_MAPPING_ -I/usr/local/include    -fpic  -g -O2  -O0 -c fusion_sdk/calvin_files/fusion/src/FusionCELData.cpp -o fusion_sdk/calvin_files/fusion/src/FusionCELData.o
g++ -I/home/hpages/test-puck5/bbs-2.10-bioc/R/include -DNDEBUG -I. -Ifusion_sdk/calvin_files/array/src -Ifusion_sdk/calvin_files/data/src -Ifusion_sdk/calvin_files/exception/src -Ifusion_sdk/calvin_files/fusion/src -Ifusion_sdk/calvin_files/fusion/src/GCOSAdapter -Ifusion_sdk/calvin_files/fusion/src/CalvinAdapter -Ifusion_sdk/calvin_files/parameter/src -Ifusion_sdk/calvin_files/parsers/src -Ifusion_sdk/calvin_files/portability/src -Ifusion_sdk/calvin_files/template/src -Ifusion_sdk/calvin_files/utils/src -Ifusion_sdk/calvin_files/writers/src -Ifusion_sdk/file -Ifusion_sdk/file/TsvFile -Ifusion_sdk/portability -Ifusion_sdk/util -Ifusion_sdk -D_USE_MEM_MAPPING_ -I/usr/local/include    -fpic  -g -O2  -O0 -c fusion_sdk/calvin_files/fusion/src/FusionCHPData.cpp -o fusion_sdk/calvin_files/fusion/src/FusionCHPData.o
g++ -I/home/hpages/test-puck5/bbs-2.10-bioc/R/include -DNDEBUG -I. -Ifusion_sdk/calvin_files/array/src -Ifusion_sdk/calvin_files/data/src -Ifusion_sdk/calvin_files/exception/src -Ifusion_sdk/calvin_files/fusion/src -Ifusion_sdk/calvin_files/fusion/src/GCOSAdapter -Ifusion_sdk/calvin_files/fusion/src/CalvinAdapter -Ifusion_sdk/calvin_files/parameter/src -Ifusion_sdk/calvin_files/parsers/src -Ifusion_sdk/calvin_files/portability/src -Ifusion_sdk/calvin_files/template/src -Ifusion_sdk/calvin_files/utils/src -Ifusion_sdk/calvin_files/writers/src -Ifusion_sdk/file -Ifusion_sdk/file/TsvFile -Ifusion_sdk/portability -Ifusion_sdk/util -Ifusion_sdk -D_USE_MEM_MAPPING_ -I/usr/local/include    -fpic  -g -O2  -O0 -c fusion_sdk/calvin_files/fusion/src/FusionProbeSetResults.cpp -o fusion_sdk/calvin_files/fusion/src/FusionProbeSetResults.o
g++ -I/home/hpages/test-puck5/bbs-2.10-bioc/R/include -DNDEBUG -I. -Ifusion_sdk/calvin_files/array/src -Ifusion_sdk/calvin_files/data/src -Ifusion_sdk/calvin_files/exception/src -Ifusion_sdk/calvin_files/fusion/src -Ifusion_sdk/calvin_files/fusion/src/GCOSAdapter -Ifusion_sdk/calvin_files/fusion/src/CalvinAdapter -Ifusion_sdk/calvin_files/parameter/src -Ifusion_sdk/calvin_files/parsers/src -Ifusion_sdk/calvin_files/portability/src -Ifusion_sdk/calvin_files/template/src -Ifusion_sdk/calvin_files/utils/src -Ifusion_sdk/calvin_files/writers/src -Ifusion_sdk/file -Ifusion_sdk/file/TsvFile -Ifusion_sdk/portability -Ifusion_sdk/util -Ifusion_sdk -D_USE_MEM_MAPPING_ -I/usr/local/include    -fpic  -g -O2  -O0 -c fusion_sdk/calvin_files/fusion/src/GCOSAdapter/GCOSCELDataAdapter.cpp -o fusion_sdk/calvin_files/fusion/src/GCOSAdapter/GCOSCELDataAdapter.o
g++ -I/home/hpages/test-puck5/bbs-2.10-bioc/R/include -DNDEBUG -I. -Ifusion_sdk/calvin_files/array/src -Ifusion_sdk/calvin_files/data/src -Ifusion_sdk/calvin_files/exception/src -Ifusion_sdk/calvin_files/fusion/src -Ifusion_sdk/calvin_files/fusion/src/GCOSAdapter -Ifusion_sdk/calvin_files/fusion/src/CalvinAdapter -Ifusion_sdk/calvin_files/parameter/src -Ifusion_sdk/calvin_files/parsers/src -Ifusion_sdk/calvin_files/portability/src -Ifusion_sdk/calvin_files/template/src -Ifusion_sdk/calvin_files/utils/src -Ifusion_sdk/calvin_files/writers/src -Ifusion_sdk/file -Ifusion_sdk/file/TsvFile -Ifusion_sdk/portability -Ifusion_sdk/util -Ifusion_sdk -D_USE_MEM_MAPPING_ -I/usr/local/include    -fpic  -g -O2  -O0 -c fusion_sdk/calvin_files/fusion/src/GCOSAdapter/GCOSCHPDataAdapter.cpp -o fusion_sdk/calvin_files/fusion/src/GCOSAdapter/GCOSCHPDataAdapter.o
g++ -I/home/hpages/test-puck5/bbs-2.10-bioc/R/include -DNDEBUG -I. -Ifusion_sdk/calvin_files/array/src -Ifusion_sdk/calvin_files/data/src -Ifusion_sdk/calvin_files/exception/src -Ifusion_sdk/calvin_files/fusion/src -Ifusion_sdk/calvin_files/fusion/src/GCOSAdapter -Ifusion_sdk/calvin_files/fusion/src/CalvinAdapter -Ifusion_sdk/calvin_files/parameter/src -Ifusion_sdk/calvin_files/parsers/src -Ifusion_sdk/calvin_files/portability/src -Ifusion_sdk/calvin_files/template/src -Ifusion_sdk/calvin_files/utils/src -Ifusion_sdk/calvin_files/writers/src -Ifusion_sdk/file -Ifusion_sdk/file/TsvFile -Ifusion_sdk/portability -Ifusion_sdk/util -Ifusion_sdk -D_USE_MEM_MAPPING_ -I/usr/local/include    -fpic  -g -O2  -O0 -c fusion_sdk/calvin_files/fusion/src/FusionCHPLegacyData.cpp -o fusion_sdk/calvin_files/fusion/src/FusionCHPLegacyData.o
g++ -I/home/hpages/test-puck5/bbs-2.10-bioc/R/include -DNDEBUG -I. -Ifusion_sdk/calvin_files/array/src -Ifusion_sdk/calvin_files/data/src -Ifusion_sdk/calvin_files/exception/src -Ifusion_sdk/calvin_files/fusion/src -Ifusion_sdk/calvin_files/fusion/src/GCOSAdapter -Ifusion_sdk/calvin_files/fusion/src/CalvinAdapter -Ifusion_sdk/calvin_files/parameter/src -Ifusion_sdk/calvin_files/parsers/src -Ifusion_sdk/calvin_files/portability/src -Ifusion_sdk/calvin_files/template/src -Ifusion_sdk/calvin_files/utils/src -Ifusion_sdk/calvin_files/writers/src -Ifusion_sdk/file -Ifusion_sdk/file/TsvFile -Ifusion_sdk/portability -Ifusion_sdk/util -Ifusion_sdk -D_USE_MEM_MAPPING_ -I/usr/local/include    -fpic  -g -O2  -O0 -c fusion_sdk/calvin_files/fusion/src/FusionCHPMultiDataAccessor.cpp -o fusion_sdk/calvin_files/fusion/src/FusionCHPMultiDataAccessor.o
g++ -I/home/hpages/test-puck5/bbs-2.10-bioc/R/include -DNDEBUG -I. -Ifusion_sdk/calvin_files/array/src -Ifusion_sdk/calvin_files/data/src -Ifusion_sdk/calvin_files/exception/src -Ifusion_sdk/calvin_files/fusion/src -Ifusion_sdk/calvin_files/fusion/src/GCOSAdapter -Ifusion_sdk/calvin_files/fusion/src/CalvinAdapter -Ifusion_sdk/calvin_files/parameter/src -Ifusion_sdk/calvin_files/parsers/src -Ifusion_sdk/calvin_files/portability/src -Ifusion_sdk/calvin_files/template/src -Ifusion_sdk/calvin_files/utils/src -Ifusion_sdk/calvin_files/writers/src -Ifusion_sdk/file -Ifusion_sdk/file/TsvFile -Ifusion_sdk/portability -Ifusion_sdk/util -Ifusion_sdk -D_USE_MEM_MAPPING_ -I/usr/local/include    -fpic  -g -O2  -O0 -c fusion_sdk/calvin_files/fusion/src/FusionCHPMultiDataData.cpp -o fusion_sdk/calvin_files/fusion/src/FusionCHPMultiDataData.o
g++ -I/home/hpages/test-puck5/bbs-2.10-bioc/R/include -DNDEBUG -I. -Ifusion_sdk/calvin_files/array/src -Ifusion_sdk/calvin_files/data/src -Ifusion_sdk/calvin_files/exception/src -Ifusion_sdk/calvin_files/fusion/src -Ifusion_sdk/calvin_files/fusion/src/GCOSAdapter -Ifusion_sdk/calvin_files/fusion/src/CalvinAdapter -Ifusion_sdk/calvin_files/parameter/src -Ifusion_sdk/calvin_files/parsers/src -Ifusion_sdk/calvin_files/portability/src -Ifusion_sdk/calvin_files/template/src -Ifusion_sdk/calvin_files/utils/src -Ifusion_sdk/calvin_files/writers/src -Ifusion_sdk/file -Ifusion_sdk/file/TsvFile -Ifusion_sdk/portability -Ifusion_sdk/util -Ifusion_sdk -D_USE_MEM_MAPPING_ -I/usr/local/include    -fpic  -g -O2  -O0 -c fusion_sdk/calvin_files/fusion/src/FusionCHPTilingData.cpp -o fusion_sdk/calvin_files/fusion/src/FusionCHPTilingData.o
g++ -I/home/hpages/test-puck5/bbs-2.10-bioc/R/include -DNDEBUG -I. -Ifusion_sdk/calvin_files/array/src -Ifusion_sdk/calvin_files/data/src -Ifusion_sdk/calvin_files/exception/src -Ifusion_sdk/calvin_files/fusion/src -Ifusion_sdk/calvin_files/fusion/src/GCOSAdapter -Ifusion_sdk/calvin_files/fusion/src/CalvinAdapter -Ifusion_sdk/calvin_files/parameter/src -Ifusion_sdk/calvin_files/parsers/src -Ifusion_sdk/calvin_files/portability/src -Ifusion_sdk/calvin_files/template/src -Ifusion_sdk/calvin_files/utils/src -Ifusion_sdk/calvin_files/writers/src -Ifusion_sdk/file -Ifusion_sdk/file/TsvFile -Ifusion_sdk/portability -Ifusion_sdk/util -Ifusion_sdk -D_USE_MEM_MAPPING_ -I/usr/local/include    -fpic  -g -O2  -O0 -c fusion_sdk/calvin_files/fusion/src/FusionCHPGenericData.cpp -o fusion_sdk/calvin_files/fusion/src/FusionCHPGenericData.o
g++ -I/home/hpages/test-puck5/bbs-2.10-bioc/R/include -DNDEBUG -I. -Ifusion_sdk/calvin_files/array/src -Ifusion_sdk/calvin_files/data/src -Ifusion_sdk/calvin_files/exception/src -Ifusion_sdk/calvin_files/fusion/src -Ifusion_sdk/calvin_files/fusion/src/GCOSAdapter -Ifusion_sdk/calvin_files/fusion/src/CalvinAdapter -Ifusion_sdk/calvin_files/parameter/src -Ifusion_sdk/calvin_files/parsers/src -Ifusion_sdk/calvin_files/portability/src -Ifusion_sdk/calvin_files/template/src -Ifusion_sdk/calvin_files/utils/src -Ifusion_sdk/calvin_files/writers/src -Ifusion_sdk/file -Ifusion_sdk/file/TsvFile -Ifusion_sdk/portability -Ifusion_sdk/util -Ifusion_sdk -D_USE_MEM_MAPPING_ -I/usr/local/include    -fpic  -g -O2  -O0 -c fusion_sdk/calvin_files/fusion/src/FusionCHPQuantificationData.cpp -o fusion_sdk/calvin_files/fusion/src/FusionCHPQuantificationData.o
g++ -I/home/hpages/test-puck5/bbs-2.10-bioc/R/include -DNDEBUG -I. -Ifusion_sdk/calvin_files/array/src -Ifusion_sdk/calvin_files/data/src -Ifusion_sdk/calvin_files/exception/src -Ifusion_sdk/calvin_files/fusion/src -Ifusion_sdk/calvin_files/fusion/src/GCOSAdapter -Ifusion_sdk/calvin_files/fusion/src/CalvinAdapter -Ifusion_sdk/calvin_files/parameter/src -Ifusion_sdk/calvin_files/parsers/src -Ifusion_sdk/calvin_files/portability/src -Ifusion_sdk/calvin_files/template/src -Ifusion_sdk/calvin_files/utils/src -Ifusion_sdk/calvin_files/writers/src -Ifusion_sdk/file -Ifusion_sdk/file/TsvFile -Ifusion_sdk/portability -Ifusion_sdk/util -Ifusion_sdk -D_USE_MEM_MAPPING_ -I/usr/local/include    -fpic  -g -O2  -O0 -c fusion_sdk/calvin_files/fusion/src/FusionCHPQuantificationDetectionData.cpp -o fusion_sdk/calvin_files/fusion/src/FusionCHPQuantificationDetectionData.o
g++ -I/home/hpages/test-puck5/bbs-2.10-bioc/R/include -DNDEBUG -I. -Ifusion_sdk/calvin_files/array/src -Ifusion_sdk/calvin_files/data/src -Ifusion_sdk/calvin_files/exception/src -Ifusion_sdk/calvin_files/fusion/src -Ifusion_sdk/calvin_files/fusion/src/GCOSAdapter -Ifusion_sdk/calvin_files/fusion/src/CalvinAdapter -Ifusion_sdk/calvin_files/parameter/src -Ifusion_sdk/calvin_files/parsers/src -Ifusion_sdk/calvin_files/portability/src -Ifusion_sdk/calvin_files/template/src -Ifusion_sdk/calvin_files/utils/src -Ifusion_sdk/calvin_files/writers/src -Ifusion_sdk/file -Ifusion_sdk/file/TsvFile -Ifusion_sdk/portability -Ifusion_sdk/util -Ifusion_sdk -D_USE_MEM_MAPPING_ -I/usr/local/include    -fpic  -g -O2  -O0 -c fusion_sdk/calvin_files/parameter/src/ParameterNameValueType.cpp -o fusion_sdk/calvin_files/parameter/src/ParameterNameValueType.o
g++ -I/home/hpages/test-puck5/bbs-2.10-bioc/R/include -DNDEBUG -I. -Ifusion_sdk/calvin_files/array/src -Ifusion_sdk/calvin_files/data/src -Ifusion_sdk/calvin_files/exception/src -Ifusion_sdk/calvin_files/fusion/src -Ifusion_sdk/calvin_files/fusion/src/GCOSAdapter -Ifusion_sdk/calvin_files/fusion/src/CalvinAdapter -Ifusion_sdk/calvin_files/parameter/src -Ifusion_sdk/calvin_files/parsers/src -Ifusion_sdk/calvin_files/portability/src -Ifusion_sdk/calvin_files/template/src -Ifusion_sdk/calvin_files/utils/src -Ifusion_sdk/calvin_files/writers/src -Ifusion_sdk/file -Ifusion_sdk/file/TsvFile -Ifusion_sdk/portability -Ifusion_sdk/util -Ifusion_sdk -D_USE_MEM_MAPPING_ -I/usr/local/include    -fpic  -g -O2  -O0 -c fusion_sdk/calvin_files/parsers/src/CDFFileReader.cpp -o fusion_sdk/calvin_files/parsers/src/CDFFileReader.o
g++ -I/home/hpages/test-puck5/bbs-2.10-bioc/R/include -DNDEBUG -I. -Ifusion_sdk/calvin_files/array/src -Ifusion_sdk/calvin_files/data/src -Ifusion_sdk/calvin_files/exception/src -Ifusion_sdk/calvin_files/fusion/src -Ifusion_sdk/calvin_files/fusion/src/GCOSAdapter -Ifusion_sdk/calvin_files/fusion/src/CalvinAdapter -Ifusion_sdk/calvin_files/parameter/src -Ifusion_sdk/calvin_files/parsers/src -Ifusion_sdk/calvin_files/portability/src -Ifusion_sdk/calvin_files/template/src -Ifusion_sdk/calvin_files/utils/src -Ifusion_sdk/calvin_files/writers/src -Ifusion_sdk/file -Ifusion_sdk/file/TsvFile -Ifusion_sdk/portability -Ifusion_sdk/util -Ifusion_sdk -D_USE_MEM_MAPPING_ -I/usr/local/include    -fpic  -g -O2  -O0 -c fusion_sdk/calvin_files/parsers/src/CelFileReader.cpp -o fusion_sdk/calvin_files/parsers/src/CelFileReader.o
g++ -I/home/hpages/test-puck5/bbs-2.10-bioc/R/include -DNDEBUG -I. -Ifusion_sdk/calvin_files/array/src -Ifusion_sdk/calvin_files/data/src -Ifusion_sdk/calvin_files/exception/src -Ifusion_sdk/calvin_files/fusion/src -Ifusion_sdk/calvin_files/fusion/src/GCOSAdapter -Ifusion_sdk/calvin_files/fusion/src/CalvinAdapter -Ifusion_sdk/calvin_files/parameter/src -Ifusion_sdk/calvin_files/parsers/src -Ifusion_sdk/calvin_files/portability/src -Ifusion_sdk/calvin_files/template/src -Ifusion_sdk/calvin_files/utils/src -Ifusion_sdk/calvin_files/writers/src -Ifusion_sdk/file -Ifusion_sdk/file/TsvFile -Ifusion_sdk/portability -Ifusion_sdk/util -Ifusion_sdk -D_USE_MEM_MAPPING_ -I/usr/local/include    -fpic  -g -O2  -O0 -c fusion_sdk/calvin_files/parsers/src/CHPFileReader.cpp -o fusion_sdk/calvin_files/parsers/src/CHPFileReader.o
g++ -I/home/hpages/test-puck5/bbs-2.10-bioc/R/include -DNDEBUG -I. -Ifusion_sdk/calvin_files/array/src -Ifusion_sdk/calvin_files/data/src -Ifusion_sdk/calvin_files/exception/src -Ifusion_sdk/calvin_files/fusion/src -Ifusion_sdk/calvin_files/fusion/src/GCOSAdapter -Ifusion_sdk/calvin_files/fusion/src/CalvinAdapter -Ifusion_sdk/calvin_files/parameter/src -Ifusion_sdk/calvin_files/parsers/src -Ifusion_sdk/calvin_files/portability/src -Ifusion_sdk/calvin_files/template/src -Ifusion_sdk/calvin_files/utils/src -Ifusion_sdk/calvin_files/writers/src -Ifusion_sdk/file -Ifusion_sdk/file/TsvFile -Ifusion_sdk/portability -Ifusion_sdk/util -Ifusion_sdk -D_USE_MEM_MAPPING_ -I/usr/local/include    -fpic  -g -O2  -O0 -c fusion_sdk/calvin_files/parsers/src/CHPMultiDataFileReader.cpp -o fusion_sdk/calvin_files/parsers/src/CHPMultiDataFileReader.o
g++ -I/home/hpages/test-puck5/bbs-2.10-bioc/R/include -DNDEBUG -I. -Ifusion_sdk/calvin_files/array/src -Ifusion_sdk/calvin_files/data/src -Ifusion_sdk/calvin_files/exception/src -Ifusion_sdk/calvin_files/fusion/src -Ifusion_sdk/calvin_files/fusion/src/GCOSAdapter -Ifusion_sdk/calvin_files/fusion/src/CalvinAdapter -Ifusion_sdk/calvin_files/parameter/src -Ifusion_sdk/calvin_files/parsers/src -Ifusion_sdk/calvin_files/portability/src -Ifusion_sdk/calvin_files/template/src -Ifusion_sdk/calvin_files/utils/src -Ifusion_sdk/calvin_files/writers/src -Ifusion_sdk/file -Ifusion_sdk/file/TsvFile -Ifusion_sdk/portability -Ifusion_sdk/util -Ifusion_sdk -D_USE_MEM_MAPPING_ -I/usr/local/include    -fpic  -g -O2  -O0 -c fusion_sdk/calvin_files/parsers/src/CHPTilingFileReader.cpp -o fusion_sdk/calvin_files/parsers/src/CHPTilingFileReader.o
g++ -I/home/hpages/test-puck5/bbs-2.10-bioc/R/include -DNDEBUG -I. -Ifusion_sdk/calvin_files/array/src -Ifusion_sdk/calvin_files/data/src -Ifusion_sdk/calvin_files/exception/src -Ifusion_sdk/calvin_files/fusion/src -Ifusion_sdk/calvin_files/fusion/src/GCOSAdapter -Ifusion_sdk/calvin_files/fusion/src/CalvinAdapter -Ifusion_sdk/calvin_files/parameter/src -Ifusion_sdk/calvin_files/parsers/src -Ifusion_sdk/calvin_files/portability/src -Ifusion_sdk/calvin_files/template/src -Ifusion_sdk/calvin_files/utils/src -Ifusion_sdk/calvin_files/writers/src -Ifusion_sdk/file -Ifusion_sdk/file/TsvFile -Ifusion_sdk/portability -Ifusion_sdk/util -Ifusion_sdk -D_USE_MEM_MAPPING_ -I/usr/local/include    -fpic  -g -O2  -O0 -c fusion_sdk/calvin_files/parsers/src/CHPQuantificationFileReader.cpp -o fusion_sdk/calvin_files/parsers/src/CHPQuantificationFileReader.o
g++ -I/home/hpages/test-puck5/bbs-2.10-bioc/R/include -DNDEBUG -I. -Ifusion_sdk/calvin_files/array/src -Ifusion_sdk/calvin_files/data/src -Ifusion_sdk/calvin_files/exception/src -Ifusion_sdk/calvin_files/fusion/src -Ifusion_sdk/calvin_files/fusion/src/GCOSAdapter -Ifusion_sdk/calvin_files/fusion/src/CalvinAdapter -Ifusion_sdk/calvin_files/parameter/src -Ifusion_sdk/calvin_files/parsers/src -Ifusion_sdk/calvin_files/portability/src -Ifusion_sdk/calvin_files/template/src -Ifusion_sdk/calvin_files/utils/src -Ifusion_sdk/calvin_files/writers/src -Ifusion_sdk/file -Ifusion_sdk/file/TsvFile -Ifusion_sdk/portability -Ifusion_sdk/util -Ifusion_sdk -D_USE_MEM_MAPPING_ -I/usr/local/include    -fpic  -g -O2  -O0 -c fusion_sdk/calvin_files/parsers/src/CHPQuantificationDetectionFileReader.cpp -o fusion_sdk/calvin_files/parsers/src/CHPQuantificationDetectionFileReader.o
g++ -I/home/hpages/test-puck5/bbs-2.10-bioc/R/include -DNDEBUG -I. -Ifusion_sdk/calvin_files/array/src -Ifusion_sdk/calvin_files/data/src -Ifusion_sdk/calvin_files/exception/src -Ifusion_sdk/calvin_files/fusion/src -Ifusion_sdk/calvin_files/fusion/src/GCOSAdapter -Ifusion_sdk/calvin_files/fusion/src/CalvinAdapter -Ifusion_sdk/calvin_files/parameter/src -Ifusion_sdk/calvin_files/parsers/src -Ifusion_sdk/calvin_files/portability/src -Ifusion_sdk/calvin_files/template/src -Ifusion_sdk/calvin_files/utils/src -Ifusion_sdk/calvin_files/writers/src -Ifusion_sdk/file -Ifusion_sdk/file/TsvFile -Ifusion_sdk/portability -Ifusion_sdk/util -Ifusion_sdk -D_USE_MEM_MAPPING_ -I/usr/local/include    -fpic  -g -O2  -O0 -c fusion_sdk/calvin_files/parsers/src/DataGroupHeaderReader.cpp -o fusion_sdk/calvin_files/parsers/src/DataGroupHeaderReader.o
g++ -I/home/hpages/test-puck5/bbs-2.10-bioc/R/include -DNDEBUG -I. -Ifusion_sdk/calvin_files/array/src -Ifusion_sdk/calvin_files/data/src -Ifusion_sdk/calvin_files/exception/src -Ifusion_sdk/calvin_files/fusion/src -Ifusion_sdk/calvin_files/fusion/src/GCOSAdapter -Ifusion_sdk/calvin_files/fusion/src/CalvinAdapter -Ifusion_sdk/calvin_files/parameter/src -Ifusion_sdk/calvin_files/parsers/src -Ifusion_sdk/calvin_files/portability/src -Ifusion_sdk/calvin_files/template/src -Ifusion_sdk/calvin_files/utils/src -Ifusion_sdk/calvin_files/writers/src -Ifusion_sdk/file -Ifusion_sdk/file/TsvFile -Ifusion_sdk/portability -Ifusion_sdk/util -Ifusion_sdk -D_USE_MEM_MAPPING_ -I/usr/local/include    -fpic  -g -O2  -O0 -c fusion_sdk/calvin_files/parsers/src/DataGroupReader.cpp -o fusion_sdk/calvin_files/parsers/src/DataGroupReader.o
g++ -I/home/hpages/test-puck5/bbs-2.10-bioc/R/include -DNDEBUG -I. -Ifusion_sdk/calvin_files/array/src -Ifusion_sdk/calvin_files/data/src -Ifusion_sdk/calvin_files/exception/src -Ifusion_sdk/calvin_files/fusion/src -Ifusion_sdk/calvin_files/fusion/src/GCOSAdapter -Ifusion_sdk/calvin_files/fusion/src/CalvinAdapter -Ifusion_sdk/calvin_files/parameter/src -Ifusion_sdk/calvin_files/parsers/src -Ifusion_sdk/calvin_files/portability/src -Ifusion_sdk/calvin_files/template/src -Ifusion_sdk/calvin_files/utils/src -Ifusion_sdk/calvin_files/writers/src -Ifusion_sdk/file -Ifusion_sdk/file/TsvFile -Ifusion_sdk/portability -Ifusion_sdk/util -Ifusion_sdk -D_USE_MEM_MAPPING_ -I/usr/local/include    -fpic  -g -O2  -O0 -c fusion_sdk/calvin_files/parsers/src/DataSetHeaderReader.cpp -o fusion_sdk/calvin_files/parsers/src/DataSetHeaderReader.o
g++ -I/home/hpages/test-puck5/bbs-2.10-bioc/R/include -DNDEBUG -I. -Ifusion_sdk/calvin_files/array/src -Ifusion_sdk/calvin_files/data/src -Ifusion_sdk/calvin_files/exception/src -Ifusion_sdk/calvin_files/fusion/src -Ifusion_sdk/calvin_files/fusion/src/GCOSAdapter -Ifusion_sdk/calvin_files/fusion/src/CalvinAdapter -Ifusion_sdk/calvin_files/parameter/src -Ifusion_sdk/calvin_files/parsers/src -Ifusion_sdk/calvin_files/portability/src -Ifusion_sdk/calvin_files/template/src -Ifusion_sdk/calvin_files/utils/src -Ifusion_sdk/calvin_files/writers/src -Ifusion_sdk/file -Ifusion_sdk/file/TsvFile -Ifusion_sdk/portability -Ifusion_sdk/util -Ifusion_sdk -D_USE_MEM_MAPPING_ -I/usr/local/include    -fpic  -g -O2  -O0 -c fusion_sdk/calvin_files/parsers/src/DataSetReader.cpp -o fusion_sdk/calvin_files/parsers/src/DataSetReader.o
g++ -I/home/hpages/test-puck5/bbs-2.10-bioc/R/include -DNDEBUG -I. -Ifusion_sdk/calvin_files/array/src -Ifusion_sdk/calvin_files/data/src -Ifusion_sdk/calvin_files/exception/src -Ifusion_sdk/calvin_files/fusion/src -Ifusion_sdk/calvin_files/fusion/src/GCOSAdapter -Ifusion_sdk/calvin_files/fusion/src/CalvinAdapter -Ifusion_sdk/calvin_files/parameter/src -Ifusion_sdk/calvin_files/parsers/src -Ifusion_sdk/calvin_files/portability/src -Ifusion_sdk/calvin_files/template/src -Ifusion_sdk/calvin_files/utils/src -Ifusion_sdk/calvin_files/writers/src -Ifusion_sdk/file -Ifusion_sdk/file/TsvFile -Ifusion_sdk/portability -Ifusion_sdk/util -Ifusion_sdk -D_USE_MEM_MAPPING_ -I/usr/local/include    -fpic  -g -O2  -O0 -c fusion_sdk/calvin_files/parsers/src/FileHeaderReader.cpp -o fusion_sdk/calvin_files/parsers/src/FileHeaderReader.o
g++ -I/home/hpages/test-puck5/bbs-2.10-bioc/R/include -DNDEBUG -I. -Ifusion_sdk/calvin_files/array/src -Ifusion_sdk/calvin_files/data/src -Ifusion_sdk/calvin_files/exception/src -Ifusion_sdk/calvin_files/fusion/src -Ifusion_sdk/calvin_files/fusion/src/GCOSAdapter -Ifusion_sdk/calvin_files/fusion/src/CalvinAdapter -Ifusion_sdk/calvin_files/parameter/src -Ifusion_sdk/calvin_files/parsers/src -Ifusion_sdk/calvin_files/portability/src -Ifusion_sdk/calvin_files/template/src -Ifusion_sdk/calvin_files/utils/src -Ifusion_sdk/calvin_files/writers/src -Ifusion_sdk/file -Ifusion_sdk/file/TsvFile -Ifusion_sdk/portability -Ifusion_sdk/util -Ifusion_sdk -D_USE_MEM_MAPPING_ -I/usr/local/include    -fpic  -g -O2  -O0 -c fusion_sdk/calvin_files/parsers/src/FileInput.cpp -o fusion_sdk/calvin_files/parsers/src/FileInput.o
g++ -I/home/hpages/test-puck5/bbs-2.10-bioc/R/include -DNDEBUG -I. -Ifusion_sdk/calvin_files/array/src -Ifusion_sdk/calvin_files/data/src -Ifusion_sdk/calvin_files/exception/src -Ifusion_sdk/calvin_files/fusion/src -Ifusion_sdk/calvin_files/fusion/src/GCOSAdapter -Ifusion_sdk/calvin_files/fusion/src/CalvinAdapter -Ifusion_sdk/calvin_files/parameter/src -Ifusion_sdk/calvin_files/parsers/src -Ifusion_sdk/calvin_files/portability/src -Ifusion_sdk/calvin_files/template/src -Ifusion_sdk/calvin_files/utils/src -Ifusion_sdk/calvin_files/writers/src -Ifusion_sdk/file -Ifusion_sdk/file/TsvFile -Ifusion_sdk/portability -Ifusion_sdk/util -Ifusion_sdk -D_USE_MEM_MAPPING_ -I/usr/local/include    -fpic  -g -O2  -O0 -c fusion_sdk/calvin_files/parsers/src/GenericDataHeaderReader.cpp -o fusion_sdk/calvin_files/parsers/src/GenericDataHeaderReader.o
g++ -I/home/hpages/test-puck5/bbs-2.10-bioc/R/include -DNDEBUG -I. -Ifusion_sdk/calvin_files/array/src -Ifusion_sdk/calvin_files/data/src -Ifusion_sdk/calvin_files/exception/src -Ifusion_sdk/calvin_files/fusion/src -Ifusion_sdk/calvin_files/fusion/src/GCOSAdapter -Ifusion_sdk/calvin_files/fusion/src/CalvinAdapter -Ifusion_sdk/calvin_files/parameter/src -Ifusion_sdk/calvin_files/parsers/src -Ifusion_sdk/calvin_files/portability/src -Ifusion_sdk/calvin_files/template/src -Ifusion_sdk/calvin_files/utils/src -Ifusion_sdk/calvin_files/writers/src -Ifusion_sdk/file -Ifusion_sdk/file/TsvFile -Ifusion_sdk/portability -Ifusion_sdk/util -Ifusion_sdk -D_USE_MEM_MAPPING_ -I/usr/local/include    -fpic  -g -O2  -O0 -c fusion_sdk/calvin_files/parsers/src/GenericFileReader.cpp -o fusion_sdk/calvin_files/parsers/src/GenericFileReader.o
g++ -I/home/hpages/test-puck5/bbs-2.10-bioc/R/include -DNDEBUG -I. -Ifusion_sdk/calvin_files/array/src -Ifusion_sdk/calvin_files/data/src -Ifusion_sdk/calvin_files/exception/src -Ifusion_sdk/calvin_files/fusion/src -Ifusion_sdk/calvin_files/fusion/src/GCOSAdapter -Ifusion_sdk/calvin_files/fusion/src/CalvinAdapter -Ifusion_sdk/calvin_files/parameter/src -Ifusion_sdk/calvin_files/parsers/src -Ifusion_sdk/calvin_files/portability/src -Ifusion_sdk/calvin_files/template/src -Ifusion_sdk/calvin_files/utils/src -Ifusion_sdk/calvin_files/writers/src -Ifusion_sdk/file -Ifusion_sdk/file/TsvFile -Ifusion_sdk/portability -Ifusion_sdk/util -Ifusion_sdk -D_USE_MEM_MAPPING_ -I/usr/local/include    -fpic  -g -O2  -O0 -c fusion_sdk/calvin_files/utils/src/AffymetrixGuid.cpp -o fusion_sdk/calvin_files/utils/src/AffymetrixGuid.o
g++ -I/home/hpages/test-puck5/bbs-2.10-bioc/R/include -DNDEBUG -I. -Ifusion_sdk/calvin_files/array/src -Ifusion_sdk/calvin_files/data/src -Ifusion_sdk/calvin_files/exception/src -Ifusion_sdk/calvin_files/fusion/src -Ifusion_sdk/calvin_files/fusion/src/GCOSAdapter -Ifusion_sdk/calvin_files/fusion/src/CalvinAdapter -Ifusion_sdk/calvin_files/parameter/src -Ifusion_sdk/calvin_files/parsers/src -Ifusion_sdk/calvin_files/portability/src -Ifusion_sdk/calvin_files/template/src -Ifusion_sdk/calvin_files/utils/src -Ifusion_sdk/calvin_files/writers/src -Ifusion_sdk/file -Ifusion_sdk/file/TsvFile -Ifusion_sdk/portability -Ifusion_sdk/util -Ifusion_sdk -D_USE_MEM_MAPPING_ -I/usr/local/include    -fpic  -g -O2  -O0 -c fusion_sdk/calvin_files/utils/src/DateTime.cpp -o fusion_sdk/calvin_files/utils/src/DateTime.o
g++ -I/home/hpages/test-puck5/bbs-2.10-bioc/R/include -DNDEBUG -I. -Ifusion_sdk/calvin_files/array/src -Ifusion_sdk/calvin_files/data/src -Ifusion_sdk/calvin_files/exception/src -Ifusion_sdk/calvin_files/fusion/src -Ifusion_sdk/calvin_files/fusion/src/GCOSAdapter -Ifusion_sdk/calvin_files/fusion/src/CalvinAdapter -Ifusion_sdk/calvin_files/parameter/src -Ifusion_sdk/calvin_files/parsers/src -Ifusion_sdk/calvin_files/portability/src -Ifusion_sdk/calvin_files/template/src -Ifusion_sdk/calvin_files/utils/src -Ifusion_sdk/calvin_files/writers/src -Ifusion_sdk/file -Ifusion_sdk/file/TsvFile -Ifusion_sdk/portability -Ifusion_sdk/util -Ifusion_sdk -D_USE_MEM_MAPPING_ -I/usr/local/include    -fpic  -g -O2  -O0 -c fusion_sdk/calvin_files/utils/src/FileUtils.cpp -o fusion_sdk/calvin_files/utils/src/FileUtils.o
g++ -I/home/hpages/test-puck5/bbs-2.10-bioc/R/include -DNDEBUG -I. -Ifusion_sdk/calvin_files/array/src -Ifusion_sdk/calvin_files/data/src -Ifusion_sdk/calvin_files/exception/src -Ifusion_sdk/calvin_files/fusion/src -Ifusion_sdk/calvin_files/fusion/src/GCOSAdapter -Ifusion_sdk/calvin_files/fusion/src/CalvinAdapter -Ifusion_sdk/calvin_files/parameter/src -Ifusion_sdk/calvin_files/parsers/src -Ifusion_sdk/calvin_files/portability/src -Ifusion_sdk/calvin_files/template/src -Ifusion_sdk/calvin_files/utils/src -Ifusion_sdk/calvin_files/writers/src -Ifusion_sdk/file -Ifusion_sdk/file/TsvFile -Ifusion_sdk/portability -Ifusion_sdk/util -Ifusion_sdk -D_USE_MEM_MAPPING_ -I/usr/local/include    -fpic  -g -O2  -O0 -c fusion_sdk/calvin_files/utils/src/StringUtils.cpp -o fusion_sdk/calvin_files/utils/src/StringUtils.o
g++ -I/home/hpages/test-puck5/bbs-2.10-bioc/R/include -DNDEBUG -I. -Ifusion_sdk/calvin_files/array/src -Ifusion_sdk/calvin_files/data/src -Ifusion_sdk/calvin_files/exception/src -Ifusion_sdk/calvin_files/fusion/src -Ifusion_sdk/calvin_files/fusion/src/GCOSAdapter -Ifusion_sdk/calvin_files/fusion/src/CalvinAdapter -Ifusion_sdk/calvin_files/parameter/src -Ifusion_sdk/calvin_files/parsers/src -Ifusion_sdk/calvin_files/portability/src -Ifusion_sdk/calvin_files/template/src -Ifusion_sdk/calvin_files/utils/src -Ifusion_sdk/calvin_files/writers/src -Ifusion_sdk/file -Ifusion_sdk/file/TsvFile -Ifusion_sdk/portability -Ifusion_sdk/util -Ifusion_sdk -D_USE_MEM_MAPPING_ -I/usr/local/include    -fpic  -g -O2  -O0 -c fusion_sdk/calvin_files/utils/src/checksum.cpp -o fusion_sdk/calvin_files/utils/src/checksum.o
g++ -I/home/hpages/test-puck5/bbs-2.10-bioc/R/include -DNDEBUG -I. -Ifusion_sdk/calvin_files/array/src -Ifusion_sdk/calvin_files/data/src -Ifusion_sdk/calvin_files/exception/src -Ifusion_sdk/calvin_files/fusion/src -Ifusion_sdk/calvin_files/fusion/src/GCOSAdapter -Ifusion_sdk/calvin_files/fusion/src/CalvinAdapter -Ifusion_sdk/calvin_files/parameter/src -Ifusion_sdk/calvin_files/parsers/src -Ifusion_sdk/calvin_files/portability/src -Ifusion_sdk/calvin_files/template/src -Ifusion_sdk/calvin_files/utils/src -Ifusion_sdk/calvin_files/writers/src -Ifusion_sdk/file -Ifusion_sdk/file/TsvFile -Ifusion_sdk/portability -Ifusion_sdk/util -Ifusion_sdk -D_USE_MEM_MAPPING_ -I/usr/local/include    -fpic  -g -O2  -O0 -c fusion_sdk/file/BPMAPFileData.cpp -o fusion_sdk/file/BPMAPFileData.o
g++ -I/home/hpages/test-puck5/bbs-2.10-bioc/R/include -DNDEBUG -I. -Ifusion_sdk/calvin_files/array/src -Ifusion_sdk/calvin_files/data/src -Ifusion_sdk/calvin_files/exception/src -Ifusion_sdk/calvin_files/fusion/src -Ifusion_sdk/calvin_files/fusion/src/GCOSAdapter -Ifusion_sdk/calvin_files/fusion/src/CalvinAdapter -Ifusion_sdk/calvin_files/parameter/src -Ifusion_sdk/calvin_files/parsers/src -Ifusion_sdk/calvin_files/portability/src -Ifusion_sdk/calvin_files/template/src -Ifusion_sdk/calvin_files/utils/src -Ifusion_sdk/calvin_files/writers/src -Ifusion_sdk/file -Ifusion_sdk/file/TsvFile -Ifusion_sdk/portability -Ifusion_sdk/util -Ifusion_sdk -D_USE_MEM_MAPPING_ -I/usr/local/include    -fpic  -g -O2  -O0 -c fusion_sdk/file/BPMAPFileWriter.cpp -o fusion_sdk/file/BPMAPFileWriter.o
g++ -I/home/hpages/test-puck5/bbs-2.10-bioc/R/include -DNDEBUG -I. -Ifusion_sdk/calvin_files/array/src -Ifusion_sdk/calvin_files/data/src -Ifusion_sdk/calvin_files/exception/src -Ifusion_sdk/calvin_files/fusion/src -Ifusion_sdk/calvin_files/fusion/src/GCOSAdapter -Ifusion_sdk/calvin_files/fusion/src/CalvinAdapter -Ifusion_sdk/calvin_files/parameter/src -Ifusion_sdk/calvin_files/parsers/src -Ifusion_sdk/calvin_files/portability/src -Ifusion_sdk/calvin_files/template/src -Ifusion_sdk/calvin_files/utils/src -Ifusion_sdk/calvin_files/writers/src -Ifusion_sdk/file -Ifusion_sdk/file/TsvFile -Ifusion_sdk/portability -Ifusion_sdk/util -Ifusion_sdk -D_USE_MEM_MAPPING_ -I/usr/local/include    -fpic  -g -O2  -O0 -c fusion_sdk/file/CDFFileData.cpp -o fusion_sdk/file/CDFFileData.o
g++ -I/home/hpages/test-puck5/bbs-2.10-bioc/R/include -DNDEBUG -I. -Ifusion_sdk/calvin_files/array/src -Ifusion_sdk/calvin_files/data/src -Ifusion_sdk/calvin_files/exception/src -Ifusion_sdk/calvin_files/fusion/src -Ifusion_sdk/calvin_files/fusion/src/GCOSAdapter -Ifusion_sdk/calvin_files/fusion/src/CalvinAdapter -Ifusion_sdk/calvin_files/parameter/src -Ifusion_sdk/calvin_files/parsers/src -Ifusion_sdk/calvin_files/portability/src -Ifusion_sdk/calvin_files/template/src -Ifusion_sdk/calvin_files/utils/src -Ifusion_sdk/calvin_files/writers/src -Ifusion_sdk/file -Ifusion_sdk/file/TsvFile -Ifusion_sdk/portability -Ifusion_sdk/util -Ifusion_sdk -D_USE_MEM_MAPPING_ -I/usr/local/include    -fpic  -g -O2  -O0 -c fusion_sdk/file/CELFileData.cpp -o fusion_sdk/file/CELFileData.o
g++ -I/home/hpages/test-puck5/bbs-2.10-bioc/R/include -DNDEBUG -I. -Ifusion_sdk/calvin_files/array/src -Ifusion_sdk/calvin_files/data/src -Ifusion_sdk/calvin_files/exception/src -Ifusion_sdk/calvin_files/fusion/src -Ifusion_sdk/calvin_files/fusion/src/GCOSAdapter -Ifusion_sdk/calvin_files/fusion/src/CalvinAdapter -Ifusion_sdk/calvin_files/parameter/src -Ifusion_sdk/calvin_files/parsers/src -Ifusion_sdk/calvin_files/portability/src -Ifusion_sdk/calvin_files/template/src -Ifusion_sdk/calvin_files/utils/src -Ifusion_sdk/calvin_files/writers/src -Ifusion_sdk/file -Ifusion_sdk/file/TsvFile -Ifusion_sdk/portability -Ifusion_sdk/util -Ifusion_sdk -D_USE_MEM_MAPPING_ -I/usr/local/include    -fpic  -g -O2  -O0 -c fusion_sdk/file/CHPFileData.cpp -o fusion_sdk/file/CHPFileData.o
g++ -I/home/hpages/test-puck5/bbs-2.10-bioc/R/include -DNDEBUG -I. -Ifusion_sdk/calvin_files/array/src -Ifusion_sdk/calvin_files/data/src -Ifusion_sdk/calvin_files/exception/src -Ifusion_sdk/calvin_files/fusion/src -Ifusion_sdk/calvin_files/fusion/src/GCOSAdapter -Ifusion_sdk/calvin_files/fusion/src/CalvinAdapter -Ifusion_sdk/calvin_files/parameter/src -Ifusion_sdk/calvin_files/parsers/src -Ifusion_sdk/calvin_files/portability/src -Ifusion_sdk/calvin_files/template/src -Ifusion_sdk/calvin_files/utils/src -Ifusion_sdk/calvin_files/writers/src -Ifusion_sdk/file -Ifusion_sdk/file/TsvFile -Ifusion_sdk/portability -Ifusion_sdk/util -Ifusion_sdk -D_USE_MEM_MAPPING_ -I/usr/local/include    -fpic  -g -O2  -O0 -c fusion_sdk/file/FileIO.cpp -o fusion_sdk/file/FileIO.o
g++ -I/home/hpages/test-puck5/bbs-2.10-bioc/R/include -DNDEBUG -I. -Ifusion_sdk/calvin_files/array/src -Ifusion_sdk/calvin_files/data/src -Ifusion_sdk/calvin_files/exception/src -Ifusion_sdk/calvin_files/fusion/src -Ifusion_sdk/calvin_files/fusion/src/GCOSAdapter -Ifusion_sdk/calvin_files/fusion/src/CalvinAdapter -Ifusion_sdk/calvin_files/parameter/src -Ifusion_sdk/calvin_files/parsers/src -Ifusion_sdk/calvin_files/portability/src -Ifusion_sdk/calvin_files/template/src -Ifusion_sdk/calvin_files/utils/src -Ifusion_sdk/calvin_files/writers/src -Ifusion_sdk/file -Ifusion_sdk/file/TsvFile -Ifusion_sdk/portability -Ifusion_sdk/util -Ifusion_sdk -D_USE_MEM_MAPPING_ -I/usr/local/include    -fpic  -g -O2  -O0 -c fusion_sdk/file/FileWriter.cpp -o fusion_sdk/file/FileWriter.o
g++ -I/home/hpages/test-puck5/bbs-2.10-bioc/R/include -DNDEBUG -I. -Ifusion_sdk/calvin_files/array/src -Ifusion_sdk/calvin_files/data/src -Ifusion_sdk/calvin_files/exception/src -Ifusion_sdk/calvin_files/fusion/src -Ifusion_sdk/calvin_files/fusion/src/GCOSAdapter -Ifusion_sdk/calvin_files/fusion/src/CalvinAdapter -Ifusion_sdk/calvin_files/parameter/src -Ifusion_sdk/calvin_files/parsers/src -Ifusion_sdk/calvin_files/portability/src -Ifusion_sdk/calvin_files/template/src -Ifusion_sdk/calvin_files/utils/src -Ifusion_sdk/calvin_files/writers/src -Ifusion_sdk/file -Ifusion_sdk/file/TsvFile -Ifusion_sdk/portability -Ifusion_sdk/util -Ifusion_sdk -D_USE_MEM_MAPPING_ -I/usr/local/include    -fpic  -g -O2  -O0 -c fusion_sdk/file/TsvFile/TsvFile.cpp -o fusion_sdk/file/TsvFile/TsvFile.o
g++ -I/home/hpages/test-puck5/bbs-2.10-bioc/R/include -DNDEBUG -I. -Ifusion_sdk/calvin_files/array/src -Ifusion_sdk/calvin_files/data/src -Ifusion_sdk/calvin_files/exception/src -Ifusion_sdk/calvin_files/fusion/src -Ifusion_sdk/calvin_files/fusion/src/GCOSAdapter -Ifusion_sdk/calvin_files/fusion/src/CalvinAdapter -Ifusion_sdk/calvin_files/parameter/src -Ifusion_sdk/calvin_files/parsers/src -Ifusion_sdk/calvin_files/portability/src -Ifusion_sdk/calvin_files/template/src -Ifusion_sdk/calvin_files/utils/src -Ifusion_sdk/calvin_files/writers/src -Ifusion_sdk/file -Ifusion_sdk/file/TsvFile -Ifusion_sdk/portability -Ifusion_sdk/util -Ifusion_sdk -D_USE_MEM_MAPPING_ -I/usr/local/include    -fpic  -g -O2  -O0 -c fusion_sdk/util/AffxByteArray.cpp -o fusion_sdk/util/AffxByteArray.o
g++ -I/home/hpages/test-puck5/bbs-2.10-bioc/R/include -DNDEBUG -I. -Ifusion_sdk/calvin_files/array/src -Ifusion_sdk/calvin_files/data/src -Ifusion_sdk/calvin_files/exception/src -Ifusion_sdk/calvin_files/fusion/src -Ifusion_sdk/calvin_files/fusion/src/GCOSAdapter -Ifusion_sdk/calvin_files/fusion/src/CalvinAdapter -Ifusion_sdk/calvin_files/parameter/src -Ifusion_sdk/calvin_files/parsers/src -Ifusion_sdk/calvin_files/portability/src -Ifusion_sdk/calvin_files/template/src -Ifusion_sdk/calvin_files/utils/src -Ifusion_sdk/calvin_files/writers/src -Ifusion_sdk/file -Ifusion_sdk/file/TsvFile -Ifusion_sdk/portability -Ifusion_sdk/util -Ifusion_sdk -D_USE_MEM_MAPPING_ -I/usr/local/include    -fpic  -g -O2  -O0 -c fusion_sdk/util/AffxConv.cpp -o fusion_sdk/util/AffxConv.o
g++ -I/home/hpages/test-puck5/bbs-2.10-bioc/R/include -DNDEBUG -I. -Ifusion_sdk/calvin_files/array/src -Ifusion_sdk/calvin_files/data/src -Ifusion_sdk/calvin_files/exception/src -Ifusion_sdk/calvin_files/fusion/src -Ifusion_sdk/calvin_files/fusion/src/GCOSAdapter -Ifusion_sdk/calvin_files/fusion/src/CalvinAdapter -Ifusion_sdk/calvin_files/parameter/src -Ifusion_sdk/calvin_files/parsers/src -Ifusion_sdk/calvin_files/portability/src -Ifusion_sdk/calvin_files/template/src -Ifusion_sdk/calvin_files/utils/src -Ifusion_sdk/calvin_files/writers/src -Ifusion_sdk/file -Ifusion_sdk/file/TsvFile -Ifusion_sdk/portability -Ifusion_sdk/util -Ifusion_sdk -D_USE_MEM_MAPPING_ -I/usr/local/include    -fpic  -g -O2  -O0 -c fusion_sdk/util/AffxFile.cpp -o fusion_sdk/util/AffxFile.o
fusion_sdk/util/AffxFile.cpp:38:16: warning: declaration 'enum AffxFile::m_enumOpenOptions' does not declare anything [enabled by default]
g++ -I/home/hpages/test-puck5/bbs-2.10-bioc/R/include -DNDEBUG -I. -Ifusion_sdk/calvin_files/array/src -Ifusion_sdk/calvin_files/data/src -Ifusion_sdk/calvin_files/exception/src -Ifusion_sdk/calvin_files/fusion/src -Ifusion_sdk/calvin_files/fusion/src/GCOSAdapter -Ifusion_sdk/calvin_files/fusion/src/CalvinAdapter -Ifusion_sdk/calvin_files/parameter/src -Ifusion_sdk/calvin_files/parsers/src -Ifusion_sdk/calvin_files/portability/src -Ifusion_sdk/calvin_files/template/src -Ifusion_sdk/calvin_files/utils/src -Ifusion_sdk/calvin_files/writers/src -Ifusion_sdk/file -Ifusion_sdk/file/TsvFile -Ifusion_sdk/portability -Ifusion_sdk/util -Ifusion_sdk -D_USE_MEM_MAPPING_ -I/usr/local/include    -fpic  -g -O2  -O0 -c fusion_sdk/util/MsgStream.cpp -o fusion_sdk/util/MsgStream.o
g++ -I/home/hpages/test-puck5/bbs-2.10-bioc/R/include -DNDEBUG -I. -Ifusion_sdk/calvin_files/array/src -Ifusion_sdk/calvin_files/data/src -Ifusion_sdk/calvin_files/exception/src -Ifusion_sdk/calvin_files/fusion/src -Ifusion_sdk/calvin_files/fusion/src/GCOSAdapter -Ifusion_sdk/calvin_files/fusion/src/CalvinAdapter -Ifusion_sdk/calvin_files/parameter/src -Ifusion_sdk/calvin_files/parsers/src -Ifusion_sdk/calvin_files/portability/src -Ifusion_sdk/calvin_files/template/src -Ifusion_sdk/calvin_files/utils/src -Ifusion_sdk/calvin_files/writers/src -Ifusion_sdk/file -Ifusion_sdk/file/TsvFile -Ifusion_sdk/portability -Ifusion_sdk/util -Ifusion_sdk -D_USE_MEM_MAPPING_ -I/usr/local/include    -fpic  -g -O2  -O0 -c fusion_sdk/util/Util.cpp -o fusion_sdk/util/Util.o
fusion_sdk/util/Util.cpp: In static member function 'static std::string Util::getTimeStamp()':
fusion_sdk/util/Util.cpp:1526:15: warning: deprecated conversion from string constant to 'char*' [-Wwrite-strings]
g++ -I/home/hpages/test-puck5/bbs-2.10-bioc/R/include -DNDEBUG -I. -Ifusion_sdk/calvin_files/array/src -Ifusion_sdk/calvin_files/data/src -Ifusion_sdk/calvin_files/exception/src -Ifusion_sdk/calvin_files/fusion/src -Ifusion_sdk/calvin_files/fusion/src/GCOSAdapter -Ifusion_sdk/calvin_files/fusion/src/CalvinAdapter -Ifusion_sdk/calvin_files/parameter/src -Ifusion_sdk/calvin_files/parsers/src -Ifusion_sdk/calvin_files/portability/src -Ifusion_sdk/calvin_files/template/src -Ifusion_sdk/calvin_files/utils/src -Ifusion_sdk/calvin_files/writers/src -Ifusion_sdk/file -Ifusion_sdk/file/TsvFile -Ifusion_sdk/portability -Ifusion_sdk/util -Ifusion_sdk -D_USE_MEM_MAPPING_ -I/usr/local/include    -fpic  -g -O2  -O0 -c fusion_sdk/util/Err.cpp -o fusion_sdk/util/Err.o
g++ -I/home/hpages/test-puck5/bbs-2.10-bioc/R/include -DNDEBUG -I. -Ifusion_sdk/calvin_files/array/src -Ifusion_sdk/calvin_files/data/src -Ifusion_sdk/calvin_files/exception/src -Ifusion_sdk/calvin_files/fusion/src -Ifusion_sdk/calvin_files/fusion/src/GCOSAdapter -Ifusion_sdk/calvin_files/fusion/src/CalvinAdapter -Ifusion_sdk/calvin_files/parameter/src -Ifusion_sdk/calvin_files/parsers/src -Ifusion_sdk/calvin_files/portability/src -Ifusion_sdk/calvin_files/template/src -Ifusion_sdk/calvin_files/utils/src -Ifusion_sdk/calvin_files/writers/src -Ifusion_sdk/file -Ifusion_sdk/file/TsvFile -Ifusion_sdk/portability -Ifusion_sdk/util -Ifusion_sdk -D_USE_MEM_MAPPING_ -I/usr/local/include    -fpic  -g -O2  -O0 -c fusion_sdk/util/Verbose.cpp -o fusion_sdk/util/Verbose.o
g++ -I/home/hpages/test-puck5/bbs-2.10-bioc/R/include -DNDEBUG -I. -Ifusion_sdk/calvin_files/array/src -Ifusion_sdk/calvin_files/data/src -Ifusion_sdk/calvin_files/exception/src -Ifusion_sdk/calvin_files/fusion/src -Ifusion_sdk/calvin_files/fusion/src/GCOSAdapter -Ifusion_sdk/calvin_files/fusion/src/CalvinAdapter -Ifusion_sdk/calvin_files/parameter/src -Ifusion_sdk/calvin_files/parsers/src -Ifusion_sdk/calvin_files/portability/src -Ifusion_sdk/calvin_files/template/src -Ifusion_sdk/calvin_files/utils/src -Ifusion_sdk/calvin_files/writers/src -Ifusion_sdk/file -Ifusion_sdk/file/TsvFile -Ifusion_sdk/portability -Ifusion_sdk/util -Ifusion_sdk -D_USE_MEM_MAPPING_ -I/usr/local/include    -fpic  -g -O2  -O0 -c fusion_sdk/util/RowFile.cpp -o fusion_sdk/util/RowFile.o
g++ -I/home/hpages/test-puck5/bbs-2.10-bioc/R/include -DNDEBUG -I. -Ifusion_sdk/calvin_files/array/src -Ifusion_sdk/calvin_files/data/src -Ifusion_sdk/calvin_files/exception/src -Ifusion_sdk/calvin_files/fusion/src -Ifusion_sdk/calvin_files/fusion/src/GCOSAdapter -Ifusion_sdk/calvin_files/fusion/src/CalvinAdapter -Ifusion_sdk/calvin_files/parameter/src -Ifusion_sdk/calvin_files/parsers/src -Ifusion_sdk/calvin_files/portability/src -Ifusion_sdk/calvin_files/template/src -Ifusion_sdk/calvin_files/utils/src -Ifusion_sdk/calvin_files/writers/src -Ifusion_sdk/file -Ifusion_sdk/file/TsvFile -Ifusion_sdk/portability -Ifusion_sdk/util -Ifusion_sdk -D_USE_MEM_MAPPING_ -I/usr/local/include    -fpic  -g -O2  -O0 -c fusion_sdk/util/TableFile.cpp -o fusion_sdk/util/TableFile.o
g++ -I/home/hpages/test-puck5/bbs-2.10-bioc/R/include -DNDEBUG -I. -Ifusion_sdk/calvin_files/array/src -Ifusion_sdk/calvin_files/data/src -Ifusion_sdk/calvin_files/exception/src -Ifusion_sdk/calvin_files/fusion/src -Ifusion_sdk/calvin_files/fusion/src/GCOSAdapter -Ifusion_sdk/calvin_files/fusion/src/CalvinAdapter -Ifusion_sdk/calvin_files/parameter/src -Ifusion_sdk/calvin_files/parsers/src -Ifusion_sdk/calvin_files/portability/src -Ifusion_sdk/calvin_files/template/src -Ifusion_sdk/calvin_files/utils/src -Ifusion_sdk/calvin_files/writers/src -Ifusion_sdk/file -Ifusion_sdk/file/TsvFile -Ifusion_sdk/portability -Ifusion_sdk/util -Ifusion_sdk -D_USE_MEM_MAPPING_ -I/usr/local/include    -fpic  -g -O2  -O0 -c fusion_sdk/util/Convert.cpp -o fusion_sdk/util/Convert.o
g++ -I/home/hpages/test-puck5/bbs-2.10-bioc/R/include -DNDEBUG -I. -Ifusion_sdk/calvin_files/array/src -Ifusion_sdk/calvin_files/data/src -Ifusion_sdk/calvin_files/exception/src -Ifusion_sdk/calvin_files/fusion/src -Ifusion_sdk/calvin_files/fusion/src/GCOSAdapter -Ifusion_sdk/calvin_files/fusion/src/CalvinAdapter -Ifusion_sdk/calvin_files/parameter/src -Ifusion_sdk/calvin_files/parsers/src -Ifusion_sdk/calvin_files/portability/src -Ifusion_sdk/calvin_files/template/src -Ifusion_sdk/calvin_files/utils/src -Ifusion_sdk/calvin_files/writers/src -Ifusion_sdk/file -Ifusion_sdk/file/TsvFile -Ifusion_sdk/portability -Ifusion_sdk/util -Ifusion_sdk -D_USE_MEM_MAPPING_ -I/usr/local/include    -fpic  -g -O2  -O0 -c R_affx_cel_parser.cpp -o R_affx_cel_parser.o
g++ -I/home/hpages/test-puck5/bbs-2.10-bioc/R/include -DNDEBUG -I. -Ifusion_sdk/calvin_files/array/src -Ifusion_sdk/calvin_files/data/src -Ifusion_sdk/calvin_files/exception/src -Ifusion_sdk/calvin_files/fusion/src -Ifusion_sdk/calvin_files/fusion/src/GCOSAdapter -Ifusion_sdk/calvin_files/fusion/src/CalvinAdapter -Ifusion_sdk/calvin_files/parameter/src -Ifusion_sdk/calvin_files/parsers/src -Ifusion_sdk/calvin_files/portability/src -Ifusion_sdk/calvin_files/template/src -Ifusion_sdk/calvin_files/utils/src -Ifusion_sdk/calvin_files/writers/src -Ifusion_sdk/file -Ifusion_sdk/file/TsvFile -Ifusion_sdk/portability -Ifusion_sdk/util -Ifusion_sdk -D_USE_MEM_MAPPING_ -I/usr/local/include    -fpic  -g -O2  -O0 -c R_affx_cdf_parser.cpp -o R_affx_cdf_parser.o
g++ -I/home/hpages/test-puck5/bbs-2.10-bioc/R/include -DNDEBUG -I. -Ifusion_sdk/calvin_files/array/src -Ifusion_sdk/calvin_files/data/src -Ifusion_sdk/calvin_files/exception/src -Ifusion_sdk/calvin_files/fusion/src -Ifusion_sdk/calvin_files/fusion/src/GCOSAdapter -Ifusion_sdk/calvin_files/fusion/src/CalvinAdapter -Ifusion_sdk/calvin_files/parameter/src -Ifusion_sdk/calvin_files/parsers/src -Ifusion_sdk/calvin_files/portability/src -Ifusion_sdk/calvin_files/template/src -Ifusion_sdk/calvin_files/utils/src -Ifusion_sdk/calvin_files/writers/src -Ifusion_sdk/file -Ifusion_sdk/file/TsvFile -Ifusion_sdk/portability -Ifusion_sdk/util -Ifusion_sdk -D_USE_MEM_MAPPING_ -I/usr/local/include    -fpic  -g -O2  -O0 -c R_affx_cdf_extras.cpp -o R_affx_cdf_extras.o
g++ -I/home/hpages/test-puck5/bbs-2.10-bioc/R/include -DNDEBUG -I. -Ifusion_sdk/calvin_files/array/src -Ifusion_sdk/calvin_files/data/src -Ifusion_sdk/calvin_files/exception/src -Ifusion_sdk/calvin_files/fusion/src -Ifusion_sdk/calvin_files/fusion/src/GCOSAdapter -Ifusion_sdk/calvin_files/fusion/src/CalvinAdapter -Ifusion_sdk/calvin_files/parameter/src -Ifusion_sdk/calvin_files/parsers/src -Ifusion_sdk/calvin_files/portability/src -Ifusion_sdk/calvin_files/template/src -Ifusion_sdk/calvin_files/utils/src -Ifusion_sdk/calvin_files/writers/src -Ifusion_sdk/file -Ifusion_sdk/file/TsvFile -Ifusion_sdk/portability -Ifusion_sdk/util -Ifusion_sdk -D_USE_MEM_MAPPING_ -I/usr/local/include    -fpic  -g -O2  -O0 -c R_affx_bpmap_parser.cpp -o R_affx_bpmap_parser.o
g++ -I/home/hpages/test-puck5/bbs-2.10-bioc/R/include -DNDEBUG -I. -Ifusion_sdk/calvin_files/array/src -Ifusion_sdk/calvin_files/data/src -Ifusion_sdk/calvin_files/exception/src -Ifusion_sdk/calvin_files/fusion/src -Ifusion_sdk/calvin_files/fusion/src/GCOSAdapter -Ifusion_sdk/calvin_files/fusion/src/CalvinAdapter -Ifusion_sdk/calvin_files/parameter/src -Ifusion_sdk/calvin_files/parsers/src -Ifusion_sdk/calvin_files/portability/src -Ifusion_sdk/calvin_files/template/src -Ifusion_sdk/calvin_files/utils/src -Ifusion_sdk/calvin_files/writers/src -Ifusion_sdk/file -Ifusion_sdk/file/TsvFile -Ifusion_sdk/portability -Ifusion_sdk/util -Ifusion_sdk -D_USE_MEM_MAPPING_ -I/usr/local/include    -fpic  -g -O2  -O0 -c R_affx_clf_pgf_parser.cpp -o R_affx_clf_pgf_parser.o
g++ -I/home/hpages/test-puck5/bbs-2.10-bioc/R/include -DNDEBUG -I. -Ifusion_sdk/calvin_files/array/src -Ifusion_sdk/calvin_files/data/src -Ifusion_sdk/calvin_files/exception/src -Ifusion_sdk/calvin_files/fusion/src -Ifusion_sdk/calvin_files/fusion/src/GCOSAdapter -Ifusion_sdk/calvin_files/fusion/src/CalvinAdapter -Ifusion_sdk/calvin_files/parameter/src -Ifusion_sdk/calvin_files/parsers/src -Ifusion_sdk/calvin_files/portability/src -Ifusion_sdk/calvin_files/template/src -Ifusion_sdk/calvin_files/utils/src -Ifusion_sdk/calvin_files/writers/src -Ifusion_sdk/file -Ifusion_sdk/file/TsvFile -Ifusion_sdk/portability -Ifusion_sdk/util -Ifusion_sdk -D_USE_MEM_MAPPING_ -I/usr/local/include    -fpic  -g -O2  -O0 -c R_affx_chp_parser.cpp -o R_affx_chp_parser.o
g++ -shared -L/usr/local/lib -o affxparser.so fusion_sdk/calvin_files/data/src/CDFData.o fusion_sdk/calvin_files/data/src/CDFProbeGroupInformation.o fusion_sdk/calvin_files/data/src/CDFProbeInformation.o fusion_sdk/calvin_files/data/src/CDFProbeSetInformation.o fusion_sdk/calvin_files/data/src/CDFQCProbeInformation.o fusion_sdk/calvin_files/data/src/CDFQCProbeSetInformation.o fusion_sdk/calvin_files/data/src/CELData.o fusion_sdk/calvin_files/data/src/CHPBackgroundZone.o fusion_sdk/calvin_files/data/src/CHPData.o fusion_sdk/calvin_files/data/src/CHPExpressionEntry.o fusion_sdk/calvin_files/data/src/CHPMultiDataData.o fusion_sdk/calvin_files/data/src/CHPTilingData.o fusion_sdk/calvin_files/data/src/CHPQuantificationData.o fusion_sdk/calvin_files/data/src/CHPQuantificationDetectionData.o fusion_sdk/calvin_files/data/src/CHPGenotypeEntry.o fusion_sdk/calvin_files/data/src/CHPUniversalEntry.o fusion_sdk/calvin_files/data/src/DataGroup.o fusion_sdk/calvin_files/data/src/DataGroupHeader.o fusion_sdk/calvin_files/data/src/DataSet.o fusion_sdk/calvin_files/data/src/DataSetHeader.o fusion_sdk/calvin_files/data/src/FileHeader.o fusion_sdk/calvin_files/data/src/GenericData.o fusion_sdk/calvin_files/data/src/GenericDataHeader.o fusion_sdk/calvin_files/exception/src/ExceptionBase.o fusion_sdk/calvin_files/fusion/src/CalvinAdapter/CalvinCELDataAdapter.o fusion_sdk/calvin_files/fusion/src/CalvinAdapter/CalvinCHPDataAdapter.o fusion_sdk/calvin_files/fusion/src/FusionBPMAPData.o fusion_sdk/calvin_files/fusion/src/FusionCDFData.o fusion_sdk/calvin_files/fusion/src/FusionCDFQCProbeSetNames.o fusion_sdk/calvin_files/fusion/src/FusionCELData.o fusion_sdk/calvin_files/fusion/src/FusionCHPData.o fusion_sdk/calvin_files/fusion/src/FusionProbeSetResults.o fusion_sdk/calvin_files/fusion/src/GCOSAdapter/GCOSCELDataAdapter.o fusion_sdk/calvin_files/fusion/src/GCOSAdapter/GCOSCHPDataAdapter.o fusion_sdk/calvin_files/fusion/src/FusionCHPLegacyData.o fusion_sdk/calvin_files/fusion/src/FusionCHPMultiDataAccessor.o fusion_sdk/calvin_files/fusion/src/FusionCHPMultiDataData.o fusion_sdk/calvin_files/fusion/src/FusionCHPTilingData.o fusion_sdk/calvin_files/fusion/src/FusionCHPGenericData.o fusion_sdk/calvin_files/fusion/src/FusionCHPQuantificationData.o fusion_sdk/calvin_files/fusion/src/FusionCHPQuantificationDetectionData.o fusion_sdk/calvin_files/parameter/src/ParameterNameValueType.o fusion_sdk/calvin_files/parsers/src/CDFFileReader.o fusion_sdk/calvin_files/parsers/src/CelFileReader.o fusion_sdk/calvin_files/parsers/src/CHPFileReader.o fusion_sdk/calvin_files/parsers/src/CHPMultiDataFileReader.o fusion_sdk/calvin_files/parsers/src/CHPTilingFileReader.o fusion_sdk/calvin_files/parsers/src/CHPQuantificationFileReader.o fusion_sdk/calvin_files/parsers/src/CHPQuantificationDetectionFileReader.o fusion_sdk/calvin_files/parsers/src/DataGroupHeaderReader.o fusion_sdk/calvin_files/parsers/src/DataGroupReader.o fusion_sdk/calvin_files/parsers/src/DataSetHeaderReader.o fusion_sdk/calvin_files/parsers/src/DataSetReader.o fusion_sdk/calvin_files/parsers/src/FileHeaderReader.o fusion_sdk/calvin_files/parsers/src/FileInput.o fusion_sdk/calvin_files/parsers/src/GenericDataHeaderReader.o fusion_sdk/calvin_files/parsers/src/GenericFileReader.o fusion_sdk/calvin_files/utils/src/AffymetrixGuid.o fusion_sdk/calvin_files/utils/src/DateTime.o fusion_sdk/calvin_files/utils/src/FileUtils.o fusion_sdk/calvin_files/utils/src/StringUtils.o fusion_sdk/calvin_files/utils/src/checksum.o fusion_sdk/file/BPMAPFileData.o fusion_sdk/file/BPMAPFileWriter.o fusion_sdk/file/CDFFileData.o fusion_sdk/file/CELFileData.o fusion_sdk/file/CHPFileData.o fusion_sdk/file/FileIO.o fusion_sdk/file/FileWriter.o fusion_sdk/file/TsvFile/TsvFile.o fusion_sdk/util/AffxByteArray.o fusion_sdk/util/AffxConv.o fusion_sdk/util/AffxFile.o fusion_sdk/util/MsgStream.o fusion_sdk/util/Util.o fusion_sdk/util/Err.o fusion_sdk/util/Verbose.o fusion_sdk/util/RowFile.o fusion_sdk/util/TableFile.o fusion_sdk/util/Convert.o R_affx_cel_parser.o R_affx_cdf_parser.o R_affx_cdf_extras.o R_affx_bpmap_parser.o R_affx_clf_pgf_parser.o R_affx_chp_parser.o -L/home/hpages/test-puck5/bbs-2.10-bioc/R/lib -lR
installing to /loc/home/hpages/test-puck5/bbs-2.10-bioc/meat/affxparser.Rcheck/affxparser/libs
** R
** inst
** preparing package for lazy loading
** help
*** installing help indices
** building package indices
** testing if installed package can be loaded

* DONE (affxparser)

affxparser.Rcheck/affxparser-Ex.timings:

nameusersystemelapsed
applyCdfGroups0.0720.0200.211
convertCdf0.8760.0281.045
convertCel0.1800.0240.525
createCel0.2680.0320.556
findCdf0.0920.0280.402
invertMap2.4000.0482.450
readCdfDataFrame0.5960.0280.750
readCdfHeader0.0120.0080.104
readCdfNbrOfCellsPerUnitGroup0.3920.0480.537
readCdfUnitNames000
readCdfUnits1.1480.0161.292
readCdfUnitsWriteMap0.4560.0160.703
readCel000
readCelHeader000
readCelIntensities000
readCelRectangle0.3400.0080.464
readCelUnits0.0560.0040.245
readChp0.0560.0040.248
updateCel1.0840.0881.505
updateCelUnits1.9360.3487.069