affy 1.34.0 Rafael A. Irizarry
Snapshot Date: 2012-09-23 17:01:39 -0700 (Sun, 23 Sep 2012) | URL: https://hedgehog.fhcrc.org/bioconductor/branches/RELEASE_2_10/madman/Rpacks/affy | Last Changed Rev: 64678 / Revision: 69725 | Last Changed Date: 2012-03-30 15:05:02 -0700 (Fri, 30 Mar 2012) |
| lamb2 | Linux (openSUSE 11.4) / x86_64 | OK | OK | |
moscato2 | Windows Server 2008 R2 Enterprise SP1 (64-bit) / x64 | OK | OK | [ OK ] |
petty | Mac OS X Leopard (10.5.8) / i386 | OK | OK | OK |
install for i386
* installing *source* package 'affy' ...
**********************************************
WARNING: this package has a configure script
It probably needs manual configuration
**********************************************
** libs
gcc -I"E:/biocbld/bbs-2.10-bioc/R/library/zlibbioc/include" -I"E:/biocbld/BBS-2~1.10-/R/include" -DNDEBUG -DHAVE_ZLIB -I"E:/biocbld/bbs-2.10-bioc/R/library/preprocessCore/include" -O3 -Wall -std=gnu99 -mtune=core2 -c chipbackground.c -o chipbackground.o
gcc -I"E:/biocbld/bbs-2.10-bioc/R/library/zlibbioc/include" -I"E:/biocbld/BBS-2~1.10-/R/include" -DNDEBUG -DHAVE_ZLIB -I"E:/biocbld/bbs-2.10-bioc/R/library/preprocessCore/include" -O3 -Wall -std=gnu99 -mtune=core2 -c getall_locations.c -o getall_locations.o
gcc -I"E:/biocbld/bbs-2.10-bioc/R/library/zlibbioc/include" -I"E:/biocbld/BBS-2~1.10-/R/include" -DNDEBUG -DHAVE_ZLIB -I"E:/biocbld/bbs-2.10-bioc/R/library/preprocessCore/include" -O3 -Wall -std=gnu99 -mtune=core2 -c mas5calls.c -o mas5calls.o
gcc -I"E:/biocbld/bbs-2.10-bioc/R/library/zlibbioc/include" -I"E:/biocbld/BBS-2~1.10-/R/include" -DNDEBUG -DHAVE_ZLIB -I"E:/biocbld/bbs-2.10-bioc/R/library/preprocessCore/include" -O3 -Wall -std=gnu99 -mtune=core2 -c rma2.c -o rma2.o
gcc -I"E:/biocbld/bbs-2.10-bioc/R/library/zlibbioc/include" -I"E:/biocbld/BBS-2~1.10-/R/include" -DNDEBUG -DHAVE_ZLIB -I"E:/biocbld/bbs-2.10-bioc/R/library/preprocessCore/include" -O3 -Wall -std=gnu99 -mtune=core2 -c rma_common.c -o rma_common.o
gcc -shared -s -static-libgcc -o affy.dll tmp.def chipbackground.o getall_locations.o mas5calls.o rma2.o rma_common.o -LE:/biocbld/bbs-2.10-bioc/R/library/zlibbioc/libs/i386 -lzlib1bioc -LE:/biocbld/BBS-2~1.10-/R/bin/i386 -lR
installing to E:/biocbld/bbs-2.10-bioc/meat/affy.buildbin-libdir/affy/libs/i386
** R
** data
** demo
** inst
** preparing package for lazy loading
Creating a generic function for 'open' from package 'base' in package 'affy'
Creating a generic function for 'close' from package 'base' in package 'affy'
Creating a generic function for 'barplot' from package 'graphics' in package 'affy'
** help
*** installing help indices
** building package indices
** installing vignettes
'affy.Rnw'
'builtinMethods.Rnw'
'customMethods.Rnw'
'vim.Rnw'
** testing if installed package can be loaded
install for x64
* installing *source* package 'affy' ...
**********************************************
WARNING: this package has a configure script
It probably needs manual configuration
**********************************************
** libs
gcc -m64 -I"E:/biocbld/bbs-2.10-bioc/R/library/zlibbioc/include" -I"E:/biocbld/BBS-2~1.10-/R/include" -DNDEBUG -DHAVE_ZLIB -I"E:/biocbld/bbs-2.10-bioc/R/library/preprocessCore/include" -I"d:/RCompile/CRANpkg/extralibs64/local/include" -O2 -Wall -std=gnu99 -mtune=core2 -c chipbackground.c -o chipbackground.o
gcc -m64 -I"E:/biocbld/bbs-2.10-bioc/R/library/zlibbioc/include" -I"E:/biocbld/BBS-2~1.10-/R/include" -DNDEBUG -DHAVE_ZLIB -I"E:/biocbld/bbs-2.10-bioc/R/library/preprocessCore/include" -I"d:/RCompile/CRANpkg/extralibs64/local/include" -O2 -Wall -std=gnu99 -mtune=core2 -c getall_locations.c -o getall_locations.o
gcc -m64 -I"E:/biocbld/bbs-2.10-bioc/R/library/zlibbioc/include" -I"E:/biocbld/BBS-2~1.10-/R/include" -DNDEBUG -DHAVE_ZLIB -I"E:/biocbld/bbs-2.10-bioc/R/library/preprocessCore/include" -I"d:/RCompile/CRANpkg/extralibs64/local/include" -O2 -Wall -std=gnu99 -mtune=core2 -c mas5calls.c -o mas5calls.o
gcc -m64 -I"E:/biocbld/bbs-2.10-bioc/R/library/zlibbioc/include" -I"E:/biocbld/BBS-2~1.10-/R/include" -DNDEBUG -DHAVE_ZLIB -I"E:/biocbld/bbs-2.10-bioc/R/library/preprocessCore/include" -I"d:/RCompile/CRANpkg/extralibs64/local/include" -O2 -Wall -std=gnu99 -mtune=core2 -c rma2.c -o rma2.o
gcc -m64 -I"E:/biocbld/bbs-2.10-bioc/R/library/zlibbioc/include" -I"E:/biocbld/BBS-2~1.10-/R/include" -DNDEBUG -DHAVE_ZLIB -I"E:/biocbld/bbs-2.10-bioc/R/library/preprocessCore/include" -I"d:/RCompile/CRANpkg/extralibs64/local/include" -O2 -Wall -std=gnu99 -mtune=core2 -c rma_common.c -o rma_common.o
gcc -m64 -shared -s -static-libgcc -o affy.dll tmp.def chipbackground.o getall_locations.o mas5calls.o rma2.o rma_common.o -LE:/biocbld/bbs-2.10-bioc/R/library/zlibbioc/libs/x64 -lzlib1bioc -Ld:/RCompile/CRANpkg/extralibs64/local/lib/x64 -Ld:/RCompile/CRANpkg/extralibs64/local/lib -LE:/biocbld/BBS-2~1.10-/R/bin/x64 -lR
installing to E:/biocbld/bbs-2.10-bioc/meat/affy.buildbin-libdir/affy/libs/x64
** testing if installed package can be loaded
* MD5 sums
packaged installation of 'affy' as affy_1.34.0.zip
* DONE (affy)