annotate 1.34.1 Bioconductor Package Maintainer
Snapshot Date: 2012-09-23 17:01:39 -0700 (Sun, 23 Sep 2012) | URL: https://hedgehog.fhcrc.org/bioconductor/branches/RELEASE_2_10/madman/Rpacks/annotate | Last Changed Rev: 67122 / Revision: 69725 | Last Changed Date: 2012-06-28 12:00:31 -0700 (Thu, 28 Jun 2012) |
| lamb2 | Linux (openSUSE 11.4) / x86_64 | OK | OK | |
moscato2 | Windows Server 2008 R2 Enterprise SP1 (64-bit) / x64 | OK | OK | [ OK ] |
petty | Mac OS X Leopard (10.5.8) / i386 | OK | OK | OK |
install for i386
* installing *source* package 'annotate' ...
** R
** data
** inst
** preparing package for lazy loading
** help
*** installing help indices
** building package indices
** installing vignettes
'GOusage.Rnw'
'annotate.Rnw'
'chromLoc.Rnw'
'prettyOutput.Rnw'
'query.Rnw'
'useDataPkgs.Rnw'
'useHomology.Rnw'
'useProbeInfo.Rnw'
** testing if installed package can be loaded
install for x64
* installing *source* package 'annotate' ...
** testing if installed package can be loaded
* MD5 sums
packaged installation of 'annotate' as annotate_1.34.1.zip
* DONE (annotate)