aroma.light 1.24.0 Henrik Bengtsson
Snapshot Date: 2012-09-23 17:01:39 -0700 (Sun, 23 Sep 2012) | URL: https://hedgehog.fhcrc.org/bioconductor/branches/RELEASE_2_10/madman/Rpacks/aroma.light | Last Changed Rev: 64685 / Revision: 69725 | Last Changed Date: 2012-03-30 16:39:09 -0700 (Fri, 30 Mar 2012) |
| lamb2 | Linux (openSUSE 11.4) / x86_64 | OK | WARNINGS | |
moscato2 | Windows Server 2008 R2 Enterprise SP1 (64-bit) / x64 | OK | WARNINGS | [ OK ] |
petty | Mac OS X Leopard (10.5.8) / i386 | OK | WARNINGS | OK |
install for i386
* installing *source* package 'aroma.light' ...
** R
** inst
** preparing package for lazy loading
** help
*** installing help indices
** building package indices
** testing if installed package can be loaded
install for x64
* installing *source* package 'aroma.light' ...
** testing if installed package can be loaded
* MD5 sums
packaged installation of 'aroma.light' as aroma.light_1.24.0.zip
* DONE (aroma.light)