Back to the "Multiple platform build/check report" A [B] C  D  E  F  G  H  I  J  K  L  M  N  O  P  Q  R  S  T  U  V  W  X  Y  Z 

Package 52/554HostnameOS / ArchBUILDCHECKBUILD BIN
beadarray 2.6.0
Mark Dunning
Snapshot Date: 2012-03-31 17:01:49 -0700 (Sat, 31 Mar 2012)
URL: https://hedgehog.fhcrc.org/bioconductor/branches/RELEASE_2_10/madman/Rpacks/beadarray
Last Changed Rev: 64678 / Revision: 64719
Last Changed Date: 2012-03-30 15:05:02 -0700 (Fri, 30 Mar 2012)
lamb2 Linux (openSUSE 11.4) / x86_64  OK  OK 
puck5 Linux (Ubuntu 12.04) / x86_64  OK [ OK ]
moscato2 Windows Server 2008 R2 Enterprise SP1 (64-bit) / x64  OK  OK  OK 
petty Mac OS X Leopard (10.5.8) / i386  OK  OK  OK 

Summary

Package: beadarray
Version: 2.6.0
Command: /home/hpages/test-puck5/bbs-2.10-bioc/R/bin/R CMD check --no-vignettes --timings beadarray_2.6.0.tar.gz
StartedAt: 2012-03-31 23:45:59 -0700 (Sat, 31 Mar 2012)
EndedAt: 2012-03-31 23:52:57 -0700 (Sat, 31 Mar 2012)
EllapsedTime: 418.0 seconds
RetCode: 0
Status:  OK 
CheckDir: beadarray.Rcheck
Warnings: 0

Command output

* using log directory '/loc/home/hpages/test-puck5/bbs-2.10-bioc/meat/beadarray.Rcheck'
* using R version 2.15.0 RC (2012-03-22 r58802)
* using platform: x86_64-unknown-linux-gnu (64-bit)
* using session charset: ISO8859-1
* using option '--no-vignettes'
* checking for file 'beadarray/DESCRIPTION' ... OK
* this is package 'beadarray' version '2.6.0'
* checking package namespace information ... OK
* checking package dependencies ... OK
* checking if this is a source package ... OK
* checking if there is a namespace ... OK
* checking whether package 'beadarray' can be installed ... OK
* checking installed package size ... NOTE
  installed size is  5.7Mb
  sub-directories of 1Mb or more:
    data   2.5Mb
    doc    2.6Mb
* checking package directory ... OK
* checking for portable file names ... OK
* checking for sufficient/correct file permissions ... OK
* checking DESCRIPTION meta-information ... OK
* checking top-level files ... OK
* checking index information ... OK
* checking package subdirectories ... OK
* checking R files for non-ASCII characters ... OK
* checking R files for syntax errors ... OK
* checking whether the package can be loaded ... OK
* checking whether the package can be loaded with stated dependencies ... OK
* checking whether the package can be unloaded cleanly ... OK
* checking whether the namespace can be loaded with stated dependencies ... OK
* checking whether the namespace can be unloaded cleanly ... OK
* checking for unstated dependencies in R code ... OK
* checking S3 generic/method consistency ... OK
* checking replacement functions ... OK
* checking foreign function calls ... OK
* checking R code for possible problems ... NOTE
.onAttach: warning in packageDescription("beadarray", field =
  "Version"): partial argument match of 'field' to 'fields'
combinedControlPlot: no visible binding for global variable 'Control'
combinedControlPlot: no visible binding for global variable 'Negative'
combinedControlPlot: no visible binding for global variable 'ID'
combinedControlPlot: no visible binding for global variable
  'Log2Intensity'
combinedControlPlot: no visible binding for global variable
  'ControlType'
combinedControlPlot: no visible binding for global variable 'Masked'
expressionQCPipeline: warning in ggsave(im, file = fname.im, width = 4,
  height = 1): partial argument match of 'file' to 'filename'
getPlatformSigs: no visible global function definition for
  'lumiHumanIDMapping_dbconn'
getPlatformSigs: no visible global function definition for
  'lumiMouseIDMapping_dbconn'
getPlatformSigs: no visible global function definition for
  'lumiRatIDMapping_dbconn'
imageplot: no visible binding for global variable 'Var1'
imageplot: no visible binding for global variable 'Var2'
imageplot: no visible binding for global variable 'value'
makeControlProfile: warning in packageDescription(annoPkg, field =
  "Version"): partial argument match of 'field' to 'fields'
plotMAXY: warning in close.screen(all = TRUE): partial argument match
  of 'all' to 'all.screens'
processSwathData: warning in assignToImage(t1, an, inputDir = inputDir,
  twocolour = twoColour, locs = locslist, GrnTiffSuffix1 =
  GrnTiffSuffix1, GrnTiffSuffix2 = GrnTiffSuffix2, verbose = verbose):
  partial argument match of 'locs' to 'locslist'
summarize: warning in packageDescription(annoPkg, field = "Version"):
  partial argument match of 'field' to 'fields'
* checking Rd files ... OK
* checking Rd metadata ... OK
* checking Rd cross-references ... OK
* checking for missing documentation entries ... OK
* checking for code/documentation mismatches ... OK
* checking Rd \usage sections ... OK
* checking Rd contents ... OK
* checking for unstated dependencies in examples ... OK
* checking contents of 'data' directory ... OK
* checking data for non-ASCII characters ... OK
* checking data for ASCII and uncompressed saves ... OK
* checking line endings in C/C++/Fortran sources/headers ... OK
* checking line endings in Makefiles ... OK
* checking for portable use of $(BLAS_LIBS) and $(LAPACK_LIBS) ... OK
* checking compiled code ... OK
* checking installed files from 'inst/doc' ... OK
* checking examples ... OK
* checking for unstated dependencies in vignettes ... NOTE
'library' or 'require' call not declared from: 'gridExtra'
* checking package vignettes in 'inst/doc' ... OK
* checking running R code from vignettes ... SKIPPED
* checking re-building of vignettes ... SKIPPED
* checking PDF version of manual ... OK

NOTE: There were 3 notes.
See
  '/loc/home/hpages/test-puck5/bbs-2.10-bioc/meat/beadarray.Rcheck/00check.log'
for details.

beadarray.Rcheck/00install.out:

* installing *source* package 'beadarray' ...
** libs
gcc -std=gnu99 -I/home/hpages/test-puck5/bbs-2.10-bioc/R/include -DNDEBUG  -I/usr/local/include    -fpic  -g -O2  -c BASH.c -o BASH.o
gcc -std=gnu99 -I/home/hpages/test-puck5/bbs-2.10-bioc/R/include -DNDEBUG  -I/usr/local/include    -fpic  -g -O2  -c HULK.c -o HULK.o
gcc -std=gnu99 -I/home/hpages/test-puck5/bbs-2.10-bioc/R/include -DNDEBUG  -I/usr/local/include    -fpic  -g -O2  -c determiningGridPositions.c -o determiningGridPositions.o
gcc -std=gnu99 -I/home/hpages/test-puck5/bbs-2.10-bioc/R/include -DNDEBUG  -I/usr/local/include    -fpic  -g -O2  -c findAllOutliers.c -o findAllOutliers.o
gcc -std=gnu99 -I/home/hpages/test-puck5/bbs-2.10-bioc/R/include -DNDEBUG  -I/usr/local/include    -fpic  -g -O2  -c imageProcessing.c -o imageProcessing.o
gcc -std=gnu99 -shared -L/usr/local/lib -o beadarray.so BASH.o HULK.o determiningGridPositions.o findAllOutliers.o imageProcessing.o -L/home/hpages/test-puck5/bbs-2.10-bioc/R/lib -lR
installing to /loc/home/hpages/test-puck5/bbs-2.10-bioc/meat/beadarray.Rcheck/beadarray/libs
** R
** data
**  moving datasets to lazyload DB
** inst
** preparing package for lazy loading
** help
*** installing help indices
** building package indices
** installing vignettes
   'ImageProcessing.rnw' 
   'beadarray.rnw' 
   'beadlevel.rnw' 
   'beadsummary.rnw' 
** testing if installed package can be loaded

* DONE (beadarray)

beadarray.Rcheck/beadarray-Ex.timings:

nameusersystemelapsed
BASH000
BASHCompact000
BASHDiffuse000
BASHExtended000
HULK000
addFeatureData10.220 0.10410.419
annotationInterface7.0810.2407.365
backgroundCorrectSingleSection0.0040.0000.000
beadarrayUsersGuide0.0040.0000.012
boxplot4.3000.0204.369
calculateDetection11.777 0.03611.840
calculateOutlierStats16.953 0.88017.862
class-beadLevelData2.2960.0322.351
class-illuminaChannel0.0040.0000.003
combine6.4800.1966.711
controlProbeDetection12.985 0.09613.142
createTargetsFile000
expressionQCPipeline0.0360.0040.054
generateNeighbours000
getBeadData2.3720.0162.411
identifyControlBeads11.553 0.06411.675
illuminaOutlierMethod3.0360.0403.099
imageplot6.9650.0407.040
insertBeadData2.5240.0442.595
insertSectionData10.421 0.04410.528
makeControlProfile0.5560.0160.605
makeQCTable10.916 0.20811.199
medianNormalise2.1200.0122.153
metrics1.7130.0001.737
noOutlierMethod1.9280.0161.965
normaliseIllumina16.113 0.11216.542
numBeads2.0760.0082.107
outlierplot16.661 0.14016.835
plotBeadIntensities2.9360.1083.064
plotBeadLocations2.7040.0842.806
plotChipLayout000
plotMAXY2.9720.0243.017
poscontPlot11.253 0.20411.517
quickSummary7.7970.0967.948
readBeadSummaryData000
sectionNames2.3680.0362.427
showArrayMask6.9200.2727.217
squeezedVarOutlierMethod54.396 0.08054.506
summarize35.846 0.68036.611
transformationFunctions3.0120.1683.206
weightsOutlierMethod0.0000.0000.001