Back to the "Multiple platform build/check report" A [B] C  D  E  F  G  H  I  J  K  L  M  N  O  P  Q  R  S  T  U  V  W  X  Y  Z 

Package 73/554HostnameOS / ArchBUILDCHECKBUILD BIN
biovizBase 1.2.0
Tengfei Yin
Snapshot Date: 2012-03-31 17:01:49 -0700 (Sat, 31 Mar 2012)
URL: https://hedgehog.fhcrc.org/bioconductor/branches/RELEASE_2_10/madman/Rpacks/biovizBase
Last Changed Rev: 64678 / Revision: 64719
Last Changed Date: 2012-03-30 15:05:02 -0700 (Fri, 30 Mar 2012)
lamb2 Linux (openSUSE 11.4) / x86_64  OK  OK 
puck5 Linux (Ubuntu 12.04) / x86_64  OK [ OK ]
moscato2 Windows Server 2008 R2 Enterprise SP1 (64-bit) / x64  OK  OK  OK 
petty Mac OS X Leopard (10.5.8) / i386  OK  OK  OK 

Summary

Package: biovizBase
Version: 1.2.0
Command: /home/hpages/test-puck5/bbs-2.10-bioc/R/bin/R CMD check --no-vignettes --timings biovizBase_1.2.0.tar.gz
StartedAt: 2012-03-31 23:58:25 -0700 (Sat, 31 Mar 2012)
EndedAt: 2012-04-01 00:00:08 -0700 (Sun, 01 Apr 2012)
EllapsedTime: 102.8 seconds
RetCode: 0
Status:  OK 
CheckDir: biovizBase.Rcheck
Warnings: 0

Command output

* using log directory '/loc/home/hpages/test-puck5/bbs-2.10-bioc/meat/biovizBase.Rcheck'
* using R version 2.15.0 RC (2012-03-22 r58802)
* using platform: x86_64-unknown-linux-gnu (64-bit)
* using session charset: ISO8859-1
* using option '--no-vignettes'
* checking for file 'biovizBase/DESCRIPTION' ... OK
* this is package 'biovizBase' version '1.2.0'
* checking package namespace information ... OK
* checking package dependencies ... OK
* checking if this is a source package ... OK
* checking if there is a namespace ... OK
* checking whether package 'biovizBase' can be installed ... OK
* checking installed package size ... OK
* checking package directory ... OK
* checking for portable file names ... OK
* checking for sufficient/correct file permissions ... OK
* checking DESCRIPTION meta-information ... OK
* checking top-level files ... OK
* checking index information ... OK
* checking package subdirectories ... OK
* checking R files for non-ASCII characters ... OK
* checking R files for syntax errors ... OK
* checking whether the package can be loaded ... OK
* checking whether the package can be loaded with stated dependencies ... OK
* checking whether the package can be unloaded cleanly ... OK
* checking whether the namespace can be loaded with stated dependencies ... OK
* checking whether the namespace can be unloaded cleanly ... OK
* checking for unstated dependencies in R code ... OK
* checking S3 generic/method consistency ... OK
* checking replacement functions ... OK
* checking foreign function calls ... OK
* checking R code for possible problems ... OK
* checking Rd files ... OK
* checking Rd metadata ... OK
* checking Rd cross-references ... OK
* checking for missing documentation entries ... OK
* checking for code/documentation mismatches ... OK
* checking Rd \usage sections ... OK
* checking Rd contents ... OK
* checking for unstated dependencies in examples ... OK
* checking contents of 'data' directory ... OK
* checking data for non-ASCII characters ... OK
* checking data for ASCII and uncompressed saves ... OK
* checking line endings in C/C++/Fortran sources/headers ... OK
* checking line endings in Makefiles ... OK
* checking for portable use of $(BLAS_LIBS) and $(LAPACK_LIBS) ... OK
* checking compiled code ... OK
* checking installed files from 'inst/doc' ... OK
* checking examples ... OK
* checking for unstated dependencies in vignettes ... OK
* checking package vignettes in 'inst/doc' ... OK
* checking running R code from vignettes ... SKIPPED
* checking re-building of vignettes ... SKIPPED
* checking PDF version of manual ... OK

biovizBase.Rcheck/00install.out:

* installing *source* package 'biovizBase' ...
** libs
gcc -std=gnu99 -I/home/hpages/test-puck5/bbs-2.10-bioc/R/include -DNDEBUG  -I/usr/local/include    -fpic  -g -O2  -c R_init_biovizBase.c -o R_init_biovizBase.o
gcc -std=gnu99 -I/home/hpages/test-puck5/bbs-2.10-bioc/R/include -DNDEBUG  -I/usr/local/include    -fpic  -g -O2  -c bin_offsets.c -o bin_offsets.o
gcc -std=gnu99 -shared -L/usr/local/lib -o biovizBase.so R_init_biovizBase.o bin_offsets.o -L/home/hpages/test-puck5/bbs-2.10-bioc/R/lib -lR
installing to /loc/home/hpages/test-puck5/bbs-2.10-bioc/meat/biovizBase.Rcheck/biovizBase/libs
** R
** data
** inst
** preparing package for lazy loading
** help
*** installing help indices
** building package indices
** installing vignettes
   'intro.Rnw' 
** testing if installed package can be loaded

* DONE (biovizBase)

biovizBase.Rcheck/biovizBase-Ex.timings:

nameusersystemelapsed
GCcontent2.2920.0722.552
addStepping-method0.840.040.97
colorBlindSafePal000
containLetters000
darned_hg19_subset5000.0480.0040.071
genesymbol0.1360.0040.155
getBioColor000
getIdeogram000
hg19Ideogram0.060.000.07
hg19IdeogramCyto0.0280.0000.040
isIdeogram0.0040.0000.019
isMatchedWithModel0.2160.0280.359
isSimpleIdeogram0.0360.0000.057
maxGap-method0.3520.0160.424
pileupAsGRanges000
pileupGRangesAsVariantTable000
plotColorLegend0.0040.0000.003
showColor000
shrinkageFun-method0.1600.0040.215
transformGRangesForEvenSpace0.2160.0000.269
transformGRangesToDfWithTicks0.1440.0080.191