Back to the "Multiple platform build/check report" A  B [C] D  E  F  G  H  I  J  K  L  M  N  O  P  Q  R  S  T  U  V  W  X  Y  Z 

Package 89/554HostnameOS / ArchBUILDCHECKBUILD BIN
cellHTS 1.26.0
Ligia Bras
Snapshot Date: 2012-03-31 17:01:49 -0700 (Sat, 31 Mar 2012)
URL: https://hedgehog.fhcrc.org/bioconductor/branches/RELEASE_2_10/madman/Rpacks/cellHTS
Last Changed Rev: 64678 / Revision: 64719
Last Changed Date: 2012-03-30 15:05:02 -0700 (Fri, 30 Mar 2012)
lamb2 Linux (openSUSE 11.4) / x86_64  OK  OK 
puck5 Linux (Ubuntu 12.04) / x86_64  OK [ OK ]
moscato2 Windows Server 2008 R2 Enterprise SP1 (64-bit) / x64  OK  OK  OK 
petty Mac OS X Leopard (10.5.8) / i386  OK  OK  OK 

Summary

Package: cellHTS
Version: 1.26.0
Command: /home/hpages/test-puck5/bbs-2.10-bioc/R/bin/R CMD check --no-vignettes --timings cellHTS_1.26.0.tar.gz
StartedAt: 2012-04-01 00:07:59 -0700 (Sun, 01 Apr 2012)
EndedAt: 2012-04-01 00:09:43 -0700 (Sun, 01 Apr 2012)
EllapsedTime: 104.5 seconds
RetCode: 0
Status:  OK 
CheckDir: cellHTS.Rcheck
Warnings: 0

Command output

* using log directory '/loc/home/hpages/test-puck5/bbs-2.10-bioc/meat/cellHTS.Rcheck'
* using R version 2.15.0 RC (2012-03-22 r58802)
* using platform: x86_64-unknown-linux-gnu (64-bit)
* using session charset: ISO8859-1
* using option '--no-vignettes'
* checking for file 'cellHTS/DESCRIPTION' ... OK
* this is package 'cellHTS' version '1.26.0'
* checking package namespace information ... OK
* checking package dependencies ... OK
* checking if this is a source package ... OK
* checking if there is a namespace ... OK
* checking whether package 'cellHTS' can be installed ... OK
* checking installed package size ... NOTE
  installed size is  5.4Mb
  sub-directories of 1Mb or more:
    KcViab   2.0Mb
    doc      2.1Mb
* checking package directory ... OK
* checking for portable file names ... OK
* checking for sufficient/correct file permissions ... OK
* checking DESCRIPTION meta-information ... OK
* checking top-level files ... OK
* checking index information ... OK
* checking package subdirectories ... OK
* checking R files for non-ASCII characters ... OK
* checking R files for syntax errors ... OK
* checking whether the package can be loaded ... OK
* checking whether the package can be loaded with stated dependencies ... OK
* checking whether the package can be unloaded cleanly ... OK
* checking whether the namespace can be loaded with stated dependencies ... OK
* checking whether the namespace can be unloaded cleanly ... OK
* checking for unstated dependencies in R code ... OK
* checking S3 generic/method consistency ... OK
* checking replacement functions ... OK
* checking foreign function calls ... OK
* checking R code for possible problems ... NOTE
File 'cellHTS/R/zzz.R':
  .onAttach calls:
    message(paste("\n-------------------------------------------------------------------",     "\nA note from the 'cellHTS' package:", "\nThe package 'cellHTS2' offers better functionality for working with",     "\nmultiple screens and with multi-channel screens. Please consider",     "\nusing 'cellHTS2' for new projects. However, 'cellHTS' will be",     "\nsupported for a while to help with your existing projects.",     "\n-------------------------------------------------------------------\n\n",     sep = ""))

Package startup functions should use 'packageStartupMessage' to
  generate messages.
See section 'Good practice' in ?.onAttach.

annotate.cellHTS: warning in read.table(file.path(path, file), sep =
  "\t", header = TRUE, as.is = TRUE, na.string = "", quote = "", fill =
  TRUE): partial argument match of 'na.string' to 'na.strings'
configure.cellHTS: warning in read.table(file.path(ppath, confFile),
  sep = "\t", header = TRUE, as.is = TRUE, na.string = "", fill =
  TRUE): partial argument match of 'na.string' to 'na.strings'
configure.cellHTS: warning in read.table(file.path(ppath, logFile), sep
  = "\t", header = TRUE, as.is = TRUE, na.string = "", fill = TRUE):
  partial argument match of 'na.string' to 'na.strings'
tableOutput: warning in read.table(fn, sep = "\t", header = header,
  na.string = "", as.is = TRUE): partial argument match of 'na.string'
  to 'na.strings'
* checking Rd files ... NOTE
prepare_Rd: oneRowPerId.Rd:19: Dropping empty section \details
* checking Rd metadata ... OK
* checking Rd cross-references ... OK
* checking for missing documentation entries ... OK
* checking for code/documentation mismatches ... OK
* checking Rd \usage sections ... OK
* checking Rd contents ... OK
* checking for unstated dependencies in examples ... OK
* checking contents of 'data' directory ... OK
* checking data for non-ASCII characters ... OK
* checking data for ASCII and uncompressed saves ... OK
* checking installed files from 'inst/doc' ... NOTE
The following files should probably not be installed:
  'Makefile'

Consider the use of a .Rinstignore file: see 'Writing R Extensions',
or move the vignette sources from 'inst/doc' to 'vignettes'.
* checking examples ... OK
* checking for unstated dependencies in vignettes ... OK
* checking package vignettes in 'inst/doc' ... OK
* checking running R code from vignettes ... SKIPPED
* checking re-building of vignettes ... SKIPPED
* checking PDF version of manual ... OK

NOTE: There were 4 notes.
See
  '/loc/home/hpages/test-puck5/bbs-2.10-bioc/meat/cellHTS.Rcheck/00check.log'
for details.

cellHTS.Rcheck/00install.out:

* installing *source* package 'cellHTS' ...
** R
** data
** inst
** preparing package for lazy loading
Scalable Robust Estimators with High Breakdown Point (version 1.3-01)
** help
*** installing help indices
** building package indices
** installing vignettes
   'cellhts.Rnw' 
   'twoChannels.Rnw' 
   'twoWay.Rnw' 
** testing if installed package can be loaded
Scalable Robust Estimators with High Breakdown Point (version 1.3-01)

* DONE (cellHTS)

cellHTS.Rcheck/cellHTS-Ex.timings:

nameusersystemelapsed
Bscore0.5360.0040.554
ROC0.0080.0040.019
annotate000
bdgpbiomart0.1920.0120.215
configure000
data-KcViab0.1560.0080.180
data-KcViabSmall0.0120.0000.025
getEnVisionRawData0.0400.0040.051
getLibraryPlate0.0160.0000.029
getMatrix0.0080.0040.024
imageScreen0.1720.0000.186
normalizeChannels0.0040.0000.000
normalizePlates0.0120.0000.028
oneRowPerId0.0040.0000.005
plotPlateLibrary0.6840.0040.699
plotSpatialEffects0.3440.0040.360
print.cellHTS0.0120.0000.025
readPlateData0.0880.0080.103
screenMatch0.3160.0040.345
summarizeChannels000
summarizeReplicates0.0360.0040.054
write.tabdel0.0320.0000.044
writeReport0.0120.0000.023
writeTab0.0160.0040.038