crlmm 1.14.3 Benilton S Carvalho , Robert Scharpf , Matt Ritchie
Snapshot Date: 2012-09-23 17:01:39 -0700 (Sun, 23 Sep 2012) | URL: https://hedgehog.fhcrc.org/bioconductor/branches/RELEASE_2_10/madman/Rpacks/crlmm | Last Changed Rev: 68090 / Revision: 69725 | Last Changed Date: 2012-07-30 11:39:55 -0700 (Mon, 30 Jul 2012) |
| lamb2 | Linux (openSUSE 11.4) / x86_64 | OK | OK | |
moscato2 | Windows Server 2008 R2 Enterprise SP1 (64-bit) / x64 | OK | OK | [ OK ] |
petty | Mac OS X Leopard (10.5.8) / i386 | OK | OK | OK |
install for i386
* installing *source* package 'crlmm' ...
** libs
gcc -I"E:/biocbld/BBS-2˜1.10-/R/include" -DNDEBUG -O3 -Wall -std=gnu99 -mtune=core2 -c gtypeCaller.c -o gtypeCaller.o
gtypeCaller.c: In function 'gtypeCallerPart1':
gtypeCaller.c:91:83: warning: variable 'ptr2ncIndexes' set but not used [-Wunused-but-set-variable]
gtypeCaller.c: In function 'gtypeCallerPart2':
gtypeCaller.c:315:89: warning: variable 'ptr2trim' set but not used [-Wunused-but-set-variable]
gtypeCaller.c:314:83: warning: variable 'ptr2ncIndexes' set but not used [-Wunused-but-set-variable]
gcc -I"E:/biocbld/BBS-2˜1.10-/R/include" -DNDEBUG -O3 -Wall -std=gnu99 -mtune=core2 -c init.c -o init.o
gcc -I"E:/biocbld/BBS-2˜1.10-/R/include" -DNDEBUG -O3 -Wall -std=gnu99 -mtune=core2 -c trimmed.c -o trimmed.o
gcc -I"E:/biocbld/BBS-2˜1.10-/R/include" -DNDEBUG -O3 -Wall -std=gnu99 -mtune=core2 -c utils.c -o utils.o
utils.c: In function 'mad_median':
utils.c:124:15: warning: unused variable 'n_ignore' [-Wunused-variable]
utils.c: In function 'normalizeBAF':
utils.c:178:7: warning: suggest parentheses around comparison in operand of '&' [-Wparentheses]
utils.c:180:7: warning: suggest parentheses around comparison in operand of '&' [-Wparentheses]
gcc -shared -s -static-libgcc -o crlmm.dll tmp.def gtypeCaller.o init.o trimmed.o utils.o -LE:/biocbld/BBS-2˜1.10-/R/bin/i386 -lR
installing to E:/biocbld/bbs-2.10-bioc/meat/crlmm.buildbin-libdir/crlmm/libs/i386
** R
** data
** inst
** preparing package for lazy loading
** help
*** installing help indices
** building package indices
** installing vignettes
'AffyGW.Rnw'
'CopyNumberOverview.Rnw'
'IlluminaPreprocessCN.Rnw'
'Infrastructure.Rnw'
'genotyping.Rnw'
'gtypeDownstream.Rnw'
** testing if installed package can be loaded
install for x64
* installing *source* package 'crlmm' ...
** libs
gcc -m64 -I"E:/biocbld/BBS-2˜1.10-/R/include" -DNDEBUG -I"d:/RCompile/CRANpkg/extralibs64/local/include" -O2 -Wall -std=gnu99 -mtune=core2 -c gtypeCaller.c -o gtypeCaller.o
gtypeCaller.c: In function 'gtypeCallerPart1':
gtypeCaller.c:91:83: warning: variable 'ptr2ncIndexes' set but not used [-Wunused-but-set-variable]
gtypeCaller.c: In function 'gtypeCallerPart2':
gtypeCaller.c:315:89: warning: variable 'ptr2trim' set but not used [-Wunused-but-set-variable]
gtypeCaller.c:314:83: warning: variable 'ptr2ncIndexes' set but not used [-Wunused-but-set-variable]
gcc -m64 -I"E:/biocbld/BBS-2˜1.10-/R/include" -DNDEBUG -I"d:/RCompile/CRANpkg/extralibs64/local/include" -O2 -Wall -std=gnu99 -mtune=core2 -c init.c -o init.o
gcc -m64 -I"E:/biocbld/BBS-2˜1.10-/R/include" -DNDEBUG -I"d:/RCompile/CRANpkg/extralibs64/local/include" -O2 -Wall -std=gnu99 -mtune=core2 -c trimmed.c -o trimmed.o
gcc -m64 -I"E:/biocbld/BBS-2˜1.10-/R/include" -DNDEBUG -I"d:/RCompile/CRANpkg/extralibs64/local/include" -O2 -Wall -std=gnu99 -mtune=core2 -c utils.c -o utils.o
utils.c: In function 'mad_median':
utils.c:124:15: warning: unused variable 'n_ignore' [-Wunused-variable]
utils.c: In function 'normalizeBAF':
utils.c:178:7: warning: suggest parentheses around comparison in operand of '&' [-Wparentheses]
utils.c:180:7: warning: suggest parentheses around comparison in operand of '&' [-Wparentheses]
gcc -m64 -shared -s -static-libgcc -o crlmm.dll tmp.def gtypeCaller.o init.o trimmed.o utils.o -Ld:/RCompile/CRANpkg/extralibs64/local/lib/x64 -Ld:/RCompile/CRANpkg/extralibs64/local/lib -LE:/biocbld/BBS-2~1.10-/R/bin/x64 -lR
installing to E:/biocbld/bbs-2.10-bioc/meat/crlmm.buildbin-libdir/crlmm/libs/x64
** testing if installed package can be loaded
* MD5 sums
packaged installation of 'crlmm' as crlmm_1.14.3.zip
* DONE (crlmm)