ddCt 1.10.0 Jitao David Zhang
Snapshot Date: 2012-09-23 17:01:39 -0700 (Sun, 23 Sep 2012) | URL: https://hedgehog.fhcrc.org/bioconductor/branches/RELEASE_2_10/madman/Rpacks/ddCt | Last Changed Rev: 64678 / Revision: 69725 | Last Changed Date: 2012-03-30 15:05:02 -0700 (Fri, 30 Mar 2012) |
| lamb2 | Linux (openSUSE 11.4) / x86_64 | OK | OK | |
moscato2 | Windows Server 2008 R2 Enterprise SP1 (64-bit) / x64 | OK | OK | OK |
petty | Mac OS X Leopard (10.5.8) / i386 | OK | OK | [ OK ] |
>>>>>>>
>>>>>>> INSTALLATION WITH 'R CMD INSTALL --preclean --no-multiarch --library=ddCt.buildbin-libdir ddCt_1.10.0.tar.gz'
>>>>>>>
* installing *source* package 'ddCt' ...
** R
** inst
** preparing package for lazy loading
Creating a generic function for 'summary' from package 'base' in package 'ddCt'
** help
*** installing help indices
** building package indices
** installing vignettes
'RT-PCR-Script-ddCt.Rnw'
'rtPCR-usage.Rnw'
'rtPCR.Rnw'
** testing if installed package can be loaded
* DONE (ddCt)