easyRNASeq 1.2.5 Nicolas Delhomme
Snapshot Date: 2012-09-23 17:01:39 -0700 (Sun, 23 Sep 2012) | URL: https://hedgehog.fhcrc.org/bioconductor/branches/RELEASE_2_10/madman/Rpacks/easyRNASeq | Last Changed Rev: 68823 / Revision: 69725 | Last Changed Date: 2012-08-26 06:09:01 -0700 (Sun, 26 Aug 2012) |
| lamb2 | Linux (openSUSE 11.4) / x86_64 | OK | OK | |
moscato2 | Windows Server 2008 R2 Enterprise SP1 (64-bit) / x64 | OK | OK | [ OK ] |
petty | Mac OS X Leopard (10.5.8) / i386 | OK | OK | OK |
install for i386
* installing *source* package 'easyRNASeq' ...
** R
** inst
** preparing package for lazy loading
Warning: replacing previous import 'coerce' when loading 'intervals'
Warning: replacing previous import 'initialize' when loading 'intervals'
Creating a generic function for 'print' from package 'base' in package 'easyRNASeq'
** help
*** installing help indices
** building package indices
** installing vignettes
'easyRNASeq.Rnw'
** testing if installed package can be loaded
Warning: replacing previous import 'coerce' when loading 'intervals'
Warning: replacing previous import 'initialize' when loading 'intervals'
install for x64
* installing *source* package 'easyRNASeq' ...
** testing if installed package can be loaded
Warning: replacing previous import 'coerce' when loading 'intervals'
Warning: replacing previous import 'initialize' when loading 'intervals'
* MD5 sums
packaged installation of 'easyRNASeq' as easyRNASeq_1.2.5.zip
* DONE (easyRNASeq)