edd 1.33.0 Vince Carey
Snapshot Date: 2012-02-28 17:01:26 -0800 (Tue, 28 Feb 2012) | URL: https://hedgehog.fhcrc.org/bioconductor/trunk/madman/Rpacks/edd | Last Changed Rev: 59924 / Revision: 63265 | Last Changed Date: 2011-10-31 16:12:28 -0700 (Mon, 31 Oct 2011) |
| lamb2 | Linux (openSUSE 11.4) / x86_64 | [ OK ] | OK | |
moscato2 | Windows Server 2008 R2 Enterprise SP1 (64-bit) / x64 | OK | OK | OK |
petty | Mac OS X Snow Leopard (10.6.7) / i386 | OK | OK | OK |
* checking for file ‘edd/DESCRIPTION’ ... OK
* preparing ‘edd’:
* checking DESCRIPTION meta-information ... OK
* installing the package to re-build vignettes
* creating vignettes ... OK
* checking for LF line-endings in source and make files
* checking for empty or unneeded directories
* building ‘edd_1.33.0.tar.gz’