fabia 2.2.2 Sepp Hochreiter
Snapshot Date: 2012-09-23 17:01:39 -0700 (Sun, 23 Sep 2012) | URL: https://hedgehog.fhcrc.org/bioconductor/branches/RELEASE_2_10/madman/Rpacks/fabia | Last Changed Rev: 68106 / Revision: 69725 | Last Changed Date: 2012-07-31 08:20:04 -0700 (Tue, 31 Jul 2012) |
| lamb2 | Linux (openSUSE 11.4) / x86_64 | OK | OK | |
moscato2 | Windows Server 2008 R2 Enterprise SP1 (64-bit) / x64 | OK | OK | [ OK ] |
petty | Mac OS X Leopard (10.5.8) / i386 | OK | OK | OK |
install for i386
* installing *source* package 'fabia' ...
** libs
running src/Makefile.win ...
rm -f fabia.o fabia.dll *.a *.o *.so *.dll
gcc -c fabiac.c -o fabia.o -I"E:/biocbld/BBS-2˜1.10-/R/include" -Wall -O3
gcc -shared -s -static-libgcc fabia.o -L"E:/biocbld/BBS-2˜1.10-/R/bin/i386" -lR -o fabia.dll
rm -f fabia.o *.a *.o *.so
installing to E:/biocbld/bbs-2.10-bioc/meat/fabia.buildbin-libdir/fabia/libs/i386
** R
** demo
** inst
** preparing package for lazy loading
Creating a generic function for 'plot' from package 'graphics' in package 'fabia'
** help
*** installing help indices
** building package indices
** installing vignettes
'fabia.Rnw'
** testing if installed package can be loaded
install for x64
* installing *source* package 'fabia' ...
** libs
running src/Makefile.win ...
rm -f fabia.o fabia.dll *.a *.o *.so *.dll
gcc -m64 -c fabiac.c -o fabia.o -I"E:/biocbld/BBS-2˜1.10-/R/include" -Wall -O3
gcc -m64 -shared -s -static-libgcc fabia.o -L"E:/biocbld/BBS-2˜1.10-/R/bin/x64" -lR -o fabia.dll
rm -f fabia.o *.a *.o *.so
installing to E:/biocbld/bbs-2.10-bioc/meat/fabia.buildbin-libdir/fabia/libs/x64
** testing if installed package can be loaded
* MD5 sums
packaged installation of 'fabia' as fabia_2.2.2.zip
* DONE (fabia)