gene2pathway 2.10.1 Holger Froehlich
Snapshot Date: 2012-09-23 17:01:39 -0700 (Sun, 23 Sep 2012) | URL: https://hedgehog.fhcrc.org/bioconductor/branches/RELEASE_2_10/madman/Rpacks/gene2pathway | Last Changed Rev: 68795 / Revision: 69725 | Last Changed Date: 2012-08-24 17:03:35 -0700 (Fri, 24 Aug 2012) |
| lamb2 | Linux (openSUSE 11.4) / x86_64 | [ OK ] | WARNINGS | |
moscato2 | Windows Server 2008 R2 Enterprise SP1 (64-bit) / x64 | OK | WARNINGS | OK |
petty | Mac OS X Leopard (10.5.8) / i386 | OK | WARNINGS | OK |
* checking for file ‘gene2pathway/DESCRIPTION’ ... OK
* preparing ‘gene2pathway’:
* checking DESCRIPTION meta-information ... OK
* installing the package to re-build vignettes
* creating vignettes ... OK
* checking for LF line-endings in source and make files
* checking for empty or unneeded directories
* looking to see if a ‘data/datalist’ file should be added
* building ‘gene2pathway_2.10.1.tar.gz’