genefu 1.6.1 Benjamin Haibe-Kains , Markus Schroeder
Snapshot Date: 2012-09-23 17:01:39 -0700 (Sun, 23 Sep 2012) | URL: https://hedgehog.fhcrc.org/bioconductor/branches/RELEASE_2_10/madman/Rpacks/genefu | Last Changed Rev: 69375 / Revision: 69725 | Last Changed Date: 2012-09-12 10:35:46 -0700 (Wed, 12 Sep 2012) |
| lamb2 | Linux (openSUSE 11.4) / x86_64 | OK | OK | |
moscato2 | Windows Server 2008 R2 Enterprise SP1 (64-bit) / x64 | [ OK ] | OK | OK |
petty | Mac OS X Leopard (10.5.8) / i386 | OK | OK | OK |
* checking for file 'genefu/DESCRIPTION' ... OK
* preparing 'genefu':
* checking DESCRIPTION meta-information ... OK
* installing the package to process help pages
* building the PDF package manual
Hmm ... looks like a package
Converting Rd files to LaTeX .....
Creating pdf output from LaTeX ...
Saving output to 'E:/biocbld/bbs-2.10-bioc/tmpdir/Rtmp4sVCeB/Rbuildc1045586d0e/genefu/build/genefu.pdf' ...
Done
* creating vignettes ... OK
* checking for LF line-endings in source and make files
* checking for empty or unneeded directories
* looking to see if a 'data/datalist' file should be added
* building 'genefu_1.6.1.tar.gz'