ggbio 1.4.6 Tengfei Yin
Snapshot Date: 2012-09-23 17:01:39 -0700 (Sun, 23 Sep 2012) | URL: https://hedgehog.fhcrc.org/bioconductor/branches/RELEASE_2_10/madman/Rpacks/ggbio | Last Changed Rev: 65815 / Revision: 69725 | Last Changed Date: 2012-05-10 01:51:44 -0700 (Thu, 10 May 2012) |
| lamb2 | Linux (openSUSE 11.4) / x86_64 | OK | ERROR | |
moscato2 | Windows Server 2008 R2 Enterprise SP1 (64-bit) / x64 | OK | ERROR | [ OK ] |
petty | Mac OS X Leopard (10.5.8) / i386 | OK | ERROR | OK |
install for i386
* installing *source* package 'ggbio' ...
** R
** inst
** preparing package for lazy loading
Warning: found methods to import for function 'as.list' but not the generic itself
Warning: found methods to import for function 'chartr' but not the generic itself
Warning: found methods to import for function 'IQR' but not the generic itself
Warning: found methods to import for function 'NROW' but not the generic itself
Warning: found methods to import for function 'aggregate' but not the generic itself
Warning: found methods to import for function 'chartr' but not the generic itself
Warning: found methods to import for function 'cor' but not the generic itself
Creating a new generic function for 'rescale' in package 'ggbio'
Creating a generic function for 'summary' from package 'base' in package 'ggbio'
Creating a generic function for 'print' from package 'base' in package 'ggbio'
Creating a new generic function for 'xlim' in package 'ggbio'
Creating a generic function for 'update' from package 'stats' in package 'ggbio'
Creating a new generic function for 'geom_rect' in package 'ggbio'
Creating a new generic function for 'geom_segment' in package 'ggbio'
Creating a new generic function for 'geom_bar' in package 'ggbio'
Creating a new generic function for 'stat_identity' in package 'ggbio'
Warning in FUN(X[[1L]], ...) :
Created a package name, '2012-09-24 03:11:01', when none found
** help
*** installing help indices
** building package indices
** installing vignettes
'intro.Rnw'
** testing if installed package can be loaded
Warning: found methods to import for function 'as.list' but not the generic itself
Warning: found methods to import for function 'chartr' but not the generic itself
Warning: found methods to import for function 'IQR' but not the generic itself
Warning: found methods to import for function 'NROW' but not the generic itself
Warning: found methods to import for function 'aggregate' but not the generic itself
Warning: found methods to import for function 'chartr' but not the generic itself
Warning: found methods to import for function 'cor' but not the generic itself
install for x64
* installing *source* package 'ggbio' ...
** testing if installed package can be loaded
Warning: found methods to import for function 'as.list' but not the generic itself
Warning: found methods to import for function 'chartr' but not the generic itself
Warning: found methods to import for function 'IQR' but not the generic itself
Warning: found methods to import for function 'NROW' but not the generic itself
Warning: found methods to import for function 'aggregate' but not the generic itself
Warning: found methods to import for function 'chartr' but not the generic itself
Warning: found methods to import for function 'cor' but not the generic itself
* MD5 sums
packaged installation of 'ggbio' as ggbio_1.4.6.zip
* DONE (ggbio)