globaltest 5.10.0 Jelle Goeman
Snapshot Date: 2012-09-23 17:01:39 -0700 (Sun, 23 Sep 2012) | URL: https://hedgehog.fhcrc.org/bioconductor/branches/RELEASE_2_10/madman/Rpacks/globaltest | Last Changed Rev: 64678 / Revision: 69725 | Last Changed Date: 2012-03-30 15:05:02 -0700 (Fri, 30 Mar 2012) |
| lamb2 | Linux (openSUSE 11.4) / x86_64 | OK | OK | |
moscato2 | Windows Server 2008 R2 Enterprise SP1 (64-bit) / x64 | OK | OK | [ OK ] |
petty | Mac OS X Leopard (10.5.8) / i386 | OK | OK | OK |
install for i386
* installing *source* package 'globaltest' ...
** R
** data
** inst
** preparing package for lazy loading
Warning in .simpleDuplicateClass(def, prev) :
A specification for class "data.frameOrNULL" in package 'globaltest' seems equivalent to one from package 'Biobase' and is not turning on duplicate class definitions for this class
Creating a generic function for 'sort' from package 'base' in package 'globaltest'
Creating a generic function for 'model.matrix' from package 'stats' in package 'globaltest'
Creating a generic function for 'coefficients' from package 'stats' in package 'globaltest'
Creating a generic function for 'fitted.values' from package 'stats' in package 'globaltest'
Creating a generic function for 'residuals' from package 'stats' in package 'globaltest'
** help
*** installing help indices
** building package indices
** installing vignettes
'GlobalTest.Rnw'
'GlobalTest_deprecated.Rnw'
** testing if installed package can be loaded
Warning in .simpleDuplicateClass(def, prev) :
A specification for class "data.frameOrNULL" in package 'globaltest' seems equivalent to one from package 'Biobase' and is not turning on duplicate class definitions for this class
install for x64
* installing *source* package 'globaltest' ...
** testing if installed package can be loaded
Warning in .simpleDuplicateClass(def, prev) :
A specification for class "data.frameOrNULL" in package 'globaltest' seems equivalent to one from package 'Biobase' and is not turning on duplicate class definitions for this class
* MD5 sums
packaged installation of 'globaltest' as globaltest_5.10.0.zip
* DONE (globaltest)