inveRsion 1.4.0 Alejandro Caceres
Snapshot Date: 2012-09-23 17:01:39 -0700 (Sun, 23 Sep 2012) | URL: https://hedgehog.fhcrc.org/bioconductor/branches/RELEASE_2_10/madman/Rpacks/inveRsion | Last Changed Rev: 64678 / Revision: 69725 | Last Changed Date: 2012-03-30 15:05:02 -0700 (Fri, 30 Mar 2012) |
| lamb2 | Linux (openSUSE 11.4) / x86_64 | OK | OK | |
moscato2 | Windows Server 2008 R2 Enterprise SP1 (64-bit) / x64 | OK | OK | [ OK ] |
petty | Mac OS X Leopard (10.5.8) / i386 | OK | OK | OK |
install for i386
* installing *source* package 'inveRsion' ...
** libs
gcc -I"E:/biocbld/BBS-2˜1.10-/R/include" -DNDEBUG -O3 -Wall -std=gnu99 -mtune=core2 -c init_inveRsion.c -o init_inveRsion.o
gcc -I"E:/biocbld/BBS-2˜1.10-/R/include" -DNDEBUG -O3 -Wall -std=gnu99 -mtune=core2 -c inversionModel.c -o inversionModel.o
inversionModel.c: In function 'blockAndLev':
inversionModel.c:185:9: warning: suggest parentheses around comparison in operand of '&' [-Wparentheses]
inversionModel.c:167:8: warning: unused variable 'ncol' [-Wunused-variable]
inversionModel.c: In function 'inversionModel':
inversionModel.c:316:4: warning: "/*" within comment [-Wcomment]
inversionModel.c:360:4: warning: suggest parentheses around comparison in operand of '&' [-Wparentheses]
inversionModel.c:237:26: warning: unused variable 'i' [-Wunused-variable]
inversionModel.c:237:8: warning: unused variable 'ncol' [-Wunused-variable]
inversionModel.c:459:13: warning: 'LoglikeInv' may be used uninitialized in this function [-Wuninitialized]
gcc -I"E:/biocbld/BBS-2˜1.10-/R/include" -DNDEBUG -O3 -Wall -std=gnu99 -mtune=core2 -c writeGenoDat.c -o writeGenoDat.o
writeGenoDat.c: In function 'writeGenoDat':
writeGenoDat.c:36:20: warning: unused variable 'fm' [-Wunused-variable]
writeGenoDat.c:36:15: warning: unused variable 'fa' [-Wunused-variable]
writeGenoDat.c:34:16: warning: 'dat' may be used uninitialized in this function [-Wuninitialized]
gcc -shared -s -static-libgcc -o inveRsion.dll tmp.def init_inveRsion.o inversionModel.o writeGenoDat.o -LE:/biocbld/BBS-2~1.10-/R/bin/i386 -lRlapack -LE:/biocbld/BBS-2~1.10-/R/bin/i386 -lRblas -lgfortran -LE:/biocbld/BBS-2~1.10-/R/bin/i386 -lR
installing to E:/biocbld/bbs-2.10-bioc/meat/inveRsion.buildbin-libdir/inveRsion/libs/i386
** R
** data
** inst
** preparing package for lazy loading
Creating a generic function for 'plot' from package 'graphics' in package 'inveRsion'
** help
*** installing help indices
** building package indices
** installing vignettes
'inveRsion.Rnw'
** testing if installed package can be loaded
install for x64
* installing *source* package 'inveRsion' ...
** libs
gcc -m64 -I"E:/biocbld/BBS-2˜1.10-/R/include" -DNDEBUG -I"d:/RCompile/CRANpkg/extralibs64/local/include" -O2 -Wall -std=gnu99 -mtune=core2 -c init_inveRsion.c -o init_inveRsion.o
gcc -m64 -I"E:/biocbld/BBS-2˜1.10-/R/include" -DNDEBUG -I"d:/RCompile/CRANpkg/extralibs64/local/include" -O2 -Wall -std=gnu99 -mtune=core2 -c inversionModel.c -o inversionModel.o
inversionModel.c: In function 'blockAndLev':
inversionModel.c:185:9: warning: suggest parentheses around comparison in operand of '&' [-Wparentheses]
inversionModel.c:167:8: warning: unused variable 'ncol' [-Wunused-variable]
inversionModel.c: In function 'inversionModel':
inversionModel.c:316:4: warning: "/*" within comment [-Wcomment]
inversionModel.c:360:4: warning: suggest parentheses around comparison in operand of '&' [-Wparentheses]
inversionModel.c:237:26: warning: unused variable 'i' [-Wunused-variable]
inversionModel.c:237:8: warning: unused variable 'ncol' [-Wunused-variable]
inversionModel.c:459:13: warning: 'LoglikeInv' may be used uninitialized in this function [-Wuninitialized]
gcc -m64 -I"E:/biocbld/BBS-2˜1.10-/R/include" -DNDEBUG -I"d:/RCompile/CRANpkg/extralibs64/local/include" -O2 -Wall -std=gnu99 -mtune=core2 -c writeGenoDat.c -o writeGenoDat.o
writeGenoDat.c: In function 'writeGenoDat':
writeGenoDat.c:36:20: warning: unused variable 'fm' [-Wunused-variable]
writeGenoDat.c:36:15: warning: unused variable 'fa' [-Wunused-variable]
writeGenoDat.c:34:16: warning: 'dat' may be used uninitialized in this function [-Wuninitialized]
gcc -m64 -shared -s -static-libgcc -o inveRsion.dll tmp.def init_inveRsion.o inversionModel.o writeGenoDat.o -LE:/biocbld/BBS-2~1.10-/R/bin/x64 -lRlapack -LE:/biocbld/BBS-2~1.10-/R/bin/x64 -lRblas -lgfortran -Ld:/RCompile/CRANpkg/extralibs64/local/lib/x64 -Ld:/RCompile/CRANpkg/extralibs64/local/lib -LE:/biocbld/BBS-2~1.10-/R/bin/x64 -lR
installing to E:/biocbld/bbs-2.10-bioc/meat/inveRsion.buildbin-libdir/inveRsion/libs/x64
** testing if installed package can be loaded
* MD5 sums
packaged installation of 'inveRsion' as inveRsion_1.4.0.zip
* DONE (inveRsion)