isobar 1.2.1 Florian P Breitwieser
Snapshot Date: 2012-09-23 17:01:39 -0700 (Sun, 23 Sep 2012) | URL: https://hedgehog.fhcrc.org/bioconductor/branches/RELEASE_2_10/madman/Rpacks/isobar | Last Changed Rev: 66903 / Revision: 69725 | Last Changed Date: 2012-06-21 02:55:12 -0700 (Thu, 21 Jun 2012) |
| lamb2 | Linux (openSUSE 11.4) / x86_64 | OK | WARNINGS | |
moscato2 | Windows Server 2008 R2 Enterprise SP1 (64-bit) / x64 | OK | WARNINGS | [ OK ] |
petty | Mac OS X Leopard (10.5.8) / i386 | OK | WARNINGS | OK |
install for i386
* installing *source* package 'isobar' ...
** R
** data
** inst
** preparing package for lazy loading
in method for 'coerce' with signature '"ProteinGroup","data.frame.concise"': no definition for class "data.frame.concise"
in method for 'coerce' with signature '"IBSpectra","data.frame.concise"': no definition for class "data.frame.concise"
in method for 'coerce' with signature '"MSnSet","IBSpectra"': no definition for class "MSnSet"
in method for 'coerce' with signature '"IBSpectra","MSnSet"': no definition for class "MSnSet"
** help
*** installing help indices
** building package indices
** installing vignettes
'isobar-devel.Rnw'
'isobar.Rnw' using 'UTF-8'
** testing if installed package can be loaded
install for x64
* installing *source* package 'isobar' ...
** testing if installed package can be loaded
* MD5 sums
packaged installation of 'isobar' as isobar_1.2.1.zip
* DONE (isobar)