limma 3.12.3 Gordon Smyth
Snapshot Date: 2012-09-23 17:01:39 -0700 (Sun, 23 Sep 2012) | URL: https://hedgehog.fhcrc.org/bioconductor/branches/RELEASE_2_10/madman/Rpacks/limma | Last Changed Rev: 69129 / Revision: 69725 | Last Changed Date: 2012-09-05 21:09:39 -0700 (Wed, 05 Sep 2012) |
| lamb2 | Linux (openSUSE 11.4) / x86_64 | OK | OK | |
moscato2 | Windows Server 2008 R2 Enterprise SP1 (64-bit) / x64 | OK | OK | [ OK ] |
petty | Mac OS X Leopard (10.5.8) / i386 | OK | OK | OK |
install for i386
* installing *source* package 'limma' ...
** libs
gcc -I"E:/biocbld/BBS-2˜1.10-/R/include" -DNDEBUG -O3 -Wall -std=gnu99 -mtune=core2 -c normexp.c -o normexp.o
normexp.c: In function 'normexp_m2loglik_saddle':
normexp.c:49:10: warning: variable 'maxDeviation' set but not used [-Wunused-but-set-variable]
normexp.c: In function 'fit_saddle_nelder_mead':
normexp.c:153:3: warning: floating constant exceeds range of 'double' [-Woverflow]
gcc -shared -s -static-libgcc -o limma.dll tmp.def normexp.o -LE:/biocbld/BBS-2˜1.10-/R/bin/i386 -lR
installing to E:/biocbld/bbs-2.10-bioc/meat/limma.buildbin-libdir/limma/libs/i386
** R
** inst
** preparing package for lazy loading
** help
*** installing help indices
** building package indices
** installing vignettes
'limma.Rnw'
** testing if installed package can be loaded
install for x64
* installing *source* package 'limma' ...
** libs
gcc -m64 -I"E:/biocbld/BBS-2˜1.10-/R/include" -DNDEBUG -I"d:/RCompile/CRANpkg/extralibs64/local/include" -O2 -Wall -std=gnu99 -mtune=core2 -c normexp.c -o normexp.o
normexp.c: In function 'normexp_m2loglik_saddle':
normexp.c:49:10: warning: variable 'maxDeviation' set but not used [-Wunused-but-set-variable]
normexp.c: In function 'fit_saddle_nelder_mead':
normexp.c:153:3: warning: floating constant exceeds range of 'double' [-Woverflow]
gcc -m64 -shared -s -static-libgcc -o limma.dll tmp.def normexp.o -Ld:/RCompile/CRANpkg/extralibs64/local/lib/x64 -Ld:/RCompile/CRANpkg/extralibs64/local/lib -LE:/biocbld/BBS-2˜1.10-/R/bin/x64 -lR
installing to E:/biocbld/bbs-2.10-bioc/meat/limma.buildbin-libdir/limma/libs/x64
** testing if installed package can be loaded
* MD5 sums
packaged installation of 'limma' as limma_3.12.3.zip
* DONE (limma)