Back to the "Multiple platform build/check report" A  B  C  D  E  F  G  H  I  J  K  L [M] N  O  P  Q  R  S  T  U  V  W  X  Y  Z 

Package 315/554HostnameOS / ArchBUILDCHECKBUILD BIN
maanova 1.26.0
Keith Sheppard
Snapshot Date: 2012-03-31 17:01:49 -0700 (Sat, 31 Mar 2012)
URL: https://hedgehog.fhcrc.org/bioconductor/branches/RELEASE_2_10/madman/Rpacks/maanova
Last Changed Rev: 64678 / Revision: 64719
Last Changed Date: 2012-03-30 15:05:02 -0700 (Fri, 30 Mar 2012)
lamb2 Linux (openSUSE 11.4) / x86_64  OK  OK 
puck5 Linux (Ubuntu 12.04) / x86_64  OK [ OK ]
moscato2 Windows Server 2008 R2 Enterprise SP1 (64-bit) / x64  OK  OK  OK 
petty Mac OS X Leopard (10.5.8) / i386  OK  OK  OK 

Summary

Package: maanova
Version: 1.26.0
Command: /home/hpages/test-puck5/bbs-2.10-bioc/R/bin/R CMD check --no-vignettes --timings maanova_1.26.0.tar.gz
StartedAt: 2012-04-01 01:56:06 -0700 (Sun, 01 Apr 2012)
EndedAt: 2012-04-01 01:56:49 -0700 (Sun, 01 Apr 2012)
EllapsedTime: 42.7 seconds
RetCode: 0
Status:  OK 
CheckDir: maanova.Rcheck
Warnings: 0

Command output

* using log directory '/loc/home/hpages/test-puck5/bbs-2.10-bioc/meat/maanova.Rcheck'
* using R version 2.15.0 RC (2012-03-22 r58802)
* using platform: x86_64-unknown-linux-gnu (64-bit)
* using session charset: ISO8859-1
* using option '--no-vignettes'
* checking for file 'maanova/DESCRIPTION' ... OK
* this is package 'maanova' version '1.26.0'
* checking package namespace information ... OK
* checking package dependencies ... NOTE
Package which this enhances but not available for checking: 'Rmpi'
* checking if this is a source package ... OK
* checking if there is a namespace ... OK
* checking whether package 'maanova' can be installed ... OK
* checking installed package size ... OK
* checking package directory ... OK
* checking for portable file names ... OK
* checking for sufficient/correct file permissions ... OK
* checking DESCRIPTION meta-information ... OK
* checking top-level files ... OK
* checking index information ... OK
* checking package subdirectories ... OK
* checking R files for non-ASCII characters ... OK
* checking R files for syntax errors ... OK
* checking whether the package can be loaded ... OK
* checking whether the package can be loaded with stated dependencies ... OK
* checking whether the package can be unloaded cleanly ... OK
* checking whether the namespace can be loaded with stated dependencies ... OK
* checking whether the namespace can be unloaded cleanly ... OK
* checking for unstated dependencies in R code ... OK
* checking S3 generic/method consistency ... OK
* checking replacement functions ... OK
* checking foreign function calls ... OK
* checking R code for possible problems ... NOTE
arrayview: warning in rgb(r = r[i], g = g[i], b = b[i]): partial
  argument match of 'r' to 'red'
arrayview: warning in rgb(r = r[i], g = g[i], b = b[i]): partial
  argument match of 'g' to 'green'
arrayview: warning in rgb(r = r[i], g = g[i], b = b[i]): partial
  argument match of 'b' to 'blue'
* checking Rd files ... OK
* checking Rd metadata ... OK
* checking Rd cross-references ... OK
* checking for missing documentation entries ... OK
* checking for code/documentation mismatches ... OK
* checking Rd \usage sections ... OK
* checking Rd contents ... OK
* checking for unstated dependencies in examples ... OK
* checking contents of 'data' directory ... OK
* checking data for non-ASCII characters ... OK
* checking data for ASCII and uncompressed saves ... OK
* checking line endings in C/C++/Fortran sources/headers ... OK
* checking line endings in Makefiles ... OK
* checking for portable compilation flags in Makevars ... OK
* checking for portable use of $(BLAS_LIBS) and $(LAPACK_LIBS) ... OK
* checking compiled code ... OK
* checking installed files from 'inst/doc' ... NOTE
The following files should probably not be installed:
  'MPI.tex', 'Rtour.tex', 'abf1.tex', 'algorithm.tex', 'camda.tex',
  'faq.tex', 'intro.tex', 'paigen.tex', 'prepfile.tex'

Consider the use of a .Rinstignore file: see 'Writing R Extensions',
or move the vignette sources from 'inst/doc' to 'vignettes'.
* checking examples ... OK
* checking for unstated dependencies in vignettes ... OK
* checking package vignettes in 'inst/doc' ... OK
* checking running R code from vignettes ... SKIPPED
* checking re-building of vignettes ... SKIPPED
* checking PDF version of manual ... OK

NOTE: There were 3 notes.
See
  '/loc/home/hpages/test-puck5/bbs-2.10-bioc/meat/maanova.Rcheck/00check.log'
for details.

maanova.Rcheck/00install.out:

* installing *source* package 'maanova' ...
** libs
gcc -std=gnu99 -I/home/hpages/test-puck5/bbs-2.10-bioc/R/include -DNDEBUG  -I/usr/local/include    -fpic  -g -O2  -c makeratio.c -o makeratio.o
gcc -std=gnu99 -I/home/hpages/test-puck5/bbs-2.10-bioc/R/include -DNDEBUG  -I/usr/local/include    -fpic  -g -O2  -c masvd.c -o masvd.o
gcc -std=gnu99 -I/home/hpages/test-puck5/bbs-2.10-bioc/R/include -DNDEBUG  -I/usr/local/include    -fpic  -g -O2  -c shift.c -o shift.o
gcc -std=gnu99 -I/home/hpages/test-puck5/bbs-2.10-bioc/R/include -DNDEBUG  -I/usr/local/include    -fpic  -g -O2  -c util.c -o util.o
gcc -std=gnu99 -shared -L/usr/local/lib -o maanova.so makeratio.o masvd.o shift.o util.o -L/home/hpages/test-puck5/bbs-2.10-bioc/R/lib -lRlapack -L/home/hpages/test-puck5/bbs-2.10-bioc/R/lib -lRblas -lgfortran -lm -lquadmath -L/home/hpages/test-puck5/bbs-2.10-bioc/R/lib -lR
installing to /loc/home/hpages/test-puck5/bbs-2.10-bioc/meat/maanova.Rcheck/maanova/libs
** R
** data
** demo
** inst
** preparing package for lazy loading
** help
*** installing help indices
** building package indices
** installing vignettes
   'maanova.Rnw' 
** testing if installed package can be loaded

* DONE (maanova)

maanova.Rcheck/maanova-Ex.timings:

nameusersystemelapsed
PairContrast0.0200.0040.027
Rmaanova.version0.0040.0000.009
abf10.0080.0000.012
adjPval0.0080.0000.012
arrayview000
consensus0.0120.0000.015
dyeswapfilter0.0000.0000.001
fill.missing0.2960.0040.303
fitmaanova0.0080.0000.012
fom0.0080.0000.011
geneprofile0.0080.0040.013
gridcheck000
kidney0.0760.0000.079
maanova-internal0.0000.0040.002
macluster0.0440.0000.049
matest0.0080.0000.011
read.madata000
resiplot0.0080.0000.012
riplot000
subset.madata0.0680.0000.070
summarytable0.0080.0000.011
transform.madata0.0640.0000.069
varplot0.0120.0000.013
volcano000
write.madata0.0120.0000.014