makecdfenv 1.34.0 James W. MacDonald
Snapshot Date: 2012-09-23 17:01:39 -0700 (Sun, 23 Sep 2012) | URL: https://hedgehog.fhcrc.org/bioconductor/branches/RELEASE_2_10/madman/Rpacks/makecdfenv | Last Changed Rev: 64678 / Revision: 69725 | Last Changed Date: 2012-03-30 15:05:02 -0700 (Fri, 30 Mar 2012) |
| lamb2 | Linux (openSUSE 11.4) / x86_64 | OK | OK | |
moscato2 | Windows Server 2008 R2 Enterprise SP1 (64-bit) / x64 | OK | OK | [ OK ] |
petty | Mac OS X Leopard (10.5.8) / i386 | OK | OK | OK |
install for i386
* installing *source* package 'makecdfenv' ...
**********************************************
WARNING: this package has a configure script
It probably needs manual configuration
**********************************************
** libs
gcc -I"E:/biocbld/bbs-2.10-bioc/R/library/zlibbioc/include" -I"E:/biocbld/BBS-2˜1.10-/R/include" -DNDEBUG -DHAVE_ZLIB -O3 -Wall -std=gnu99 -mtune=core2 -c read_cdffile.c -o read_cdffile.o
read_cdffile.c: In function 'readQC':
read_cdffile.c:576:7: warning: variable 'typeQC' set but not used [-Wunused-but-set-variable]
gcc -shared -s -static-libgcc -o makecdfenv.dll tmp.def read_cdffile.o -LE:/biocbld/bbs-2.10-bioc/R/library/zlibbioc/libs/i386 -lzlib1bioc -LE:/biocbld/BBS-2˜1.10-/R/bin/i386 -lR
installing to E:/biocbld/bbs-2.10-bioc/meat/makecdfenv.buildbin-libdir/makecdfenv/libs/i386
** R
** inst
** preparing package for lazy loading
** help
*** installing help indices
** building package indices
** installing vignettes
'makecdfenv.Rnw'
** testing if installed package can be loaded
install for x64
* installing *source* package 'makecdfenv' ...
**********************************************
WARNING: this package has a configure script
It probably needs manual configuration
**********************************************
** libs
gcc -m64 -I"E:/biocbld/bbs-2.10-bioc/R/library/zlibbioc/include" -I"E:/biocbld/BBS-2~1.10-/R/include" -DNDEBUG -DHAVE_ZLIB -I"d:/RCompile/CRANpkg/extralibs64/local/include" -O2 -Wall -std=gnu99 -mtune=core2 -c read_cdffile.c -o read_cdffile.o
read_cdffile.c: In function 'readQC':
read_cdffile.c:576:7: warning: variable 'typeQC' set but not used [-Wunused-but-set-variable]
gcc -m64 -shared -s -static-libgcc -o makecdfenv.dll tmp.def read_cdffile.o -LE:/biocbld/bbs-2.10-bioc/R/library/zlibbioc/libs/x64 -lzlib1bioc -Ld:/RCompile/CRANpkg/extralibs64/local/lib/x64 -Ld:/RCompile/CRANpkg/extralibs64/local/lib -LE:/biocbld/BBS-2~1.10-/R/bin/x64 -lR
installing to E:/biocbld/bbs-2.10-bioc/meat/makecdfenv.buildbin-libdir/makecdfenv/libs/x64
** testing if installed package can be loaded
* MD5 sums
packaged installation of 'makecdfenv' as makecdfenv_1.34.0.zip
* DONE (makecdfenv)