Back to the "Multiple platform build/check report" A  B  C  D  E  F  G  H  I  J  K  L [M] N  O  P  Q  R  S  T  U  V  W  X  Y  Z 

Package 323/554HostnameOS / ArchBUILDCHECKBUILD BIN
manta 1.2.0
David M. Schruth
Snapshot Date: 2012-03-31 17:01:49 -0700 (Sat, 31 Mar 2012)
URL: https://hedgehog.fhcrc.org/bioconductor/branches/RELEASE_2_10/madman/Rpacks/manta
Last Changed Rev: 64678 / Revision: 64719
Last Changed Date: 2012-03-30 15:05:02 -0700 (Fri, 30 Mar 2012)
lamb2 Linux (openSUSE 11.4) / x86_64  OK  OK 
puck5 Linux (Ubuntu 12.04) / x86_64  OK [ OK ]
moscato2 Windows Server 2008 R2 Enterprise SP1 (64-bit) / x64  OK  OK  OK 
petty Mac OS X Leopard (10.5.8) / i386  OK  OK  OK 

Summary

Package: manta
Version: 1.2.0
Command: /home/hpages/test-puck5/bbs-2.10-bioc/R/bin/R CMD check --no-vignettes --timings manta_1.2.0.tar.gz
StartedAt: 2012-04-01 01:59:32 -0700 (Sun, 01 Apr 2012)
EndedAt: 2012-04-01 02:00:31 -0700 (Sun, 01 Apr 2012)
EllapsedTime: 59.1 seconds
RetCode: 0
Status:  OK 
CheckDir: manta.Rcheck
Warnings: 0

Command output

* using log directory '/loc/home/hpages/test-puck5/bbs-2.10-bioc/meat/manta.Rcheck'
* using R version 2.15.0 RC (2012-03-22 r58802)
* using platform: x86_64-unknown-linux-gnu (64-bit)
* using session charset: ISO8859-1
* using option '--no-vignettes'
* checking for file 'manta/DESCRIPTION' ... OK
* this is package 'manta' version '1.2.0'
* checking package namespace information ... OK
* checking package dependencies ... OK
* checking if this is a source package ... OK
* checking if there is a namespace ... OK
* checking whether package 'manta' can be installed ... OK
* checking installed package size ... NOTE
  installed size is  5.6Mb
  sub-directories of 1Mb or more:
    doc       1.4Mb
    extdata   4.0Mb
* checking package directory ... OK
* checking for portable file names ... OK
* checking for sufficient/correct file permissions ... OK
* checking DESCRIPTION meta-information ... OK
* checking top-level files ... OK
* checking index information ... OK
* checking package subdirectories ... OK
* checking R files for non-ASCII characters ... OK
* checking R files for syntax errors ... OK
* checking whether the package can be loaded ... OK
* checking whether the package can be loaded with stated dependencies ... OK
* checking whether the package can be unloaded cleanly ... OK
* checking whether the namespace can be loaded with stated dependencies ... OK
* checking whether the namespace can be unloaded cleanly ... OK
* checking for unstated dependencies in R code ... OK
* checking S3 generic/method consistency ... OK
* checking replacement functions ... OK
* checking foreign function calls ... OK
* checking R code for possible problems ... NOTE
.as.manta: no visible binding for global variable 'samples'
.as.manta: no visible binding for global variable 'counts'
.calcTMMvar: no visible binding for global variable 'x'
.checkMetaLev: no visible binding for global variable 'meta.sum'
compbiasPlot: no visible binding for global variable 'RAy'
compbiasPlot: no visible global function definition for 'violins'
counts2manta: no visible binding for global variable 'agg'
nr: no visible binding for global variable 'x'
outGenes: no visible binding for global variable 'PValue'
outGenes: no visible binding for global variable 'R'
* checking Rd files ... OK
* checking Rd metadata ... OK
* checking Rd cross-references ... OK
* checking for missing documentation entries ... OK
* checking for code/documentation mismatches ... OK
* checking Rd \usage sections ... NOTE
S3 methods shown with full name in documentation object 'summary.manta':
  'summary.manta'

The \usage entries for S3 methods should use the \method markup and not
their full name.
See the chapter 'Writing R documentation files' in the 'Writing R
Extensions' manual.
* checking Rd contents ... OK
* checking for unstated dependencies in examples ... OK
* checking installed files from 'inst/doc' ... OK
* checking examples ... OK
* checking for unstated dependencies in vignettes ... OK
* checking package vignettes in 'inst/doc' ... OK
* checking running R code from vignettes ... SKIPPED
* checking re-building of vignettes ... SKIPPED
* checking PDF version of manual ... OK

NOTE: There were 3 notes.
See
  '/loc/home/hpages/test-puck5/bbs-2.10-bioc/meat/manta.Rcheck/00check.log'
for details.

manta.Rcheck/00install.out:

* installing *source* package 'manta' ...
** R
** inst
** preparing package for lazy loading
** help
*** installing help indices
** building package indices
** installing vignettes
   'manta.Rnw' using 'UTF-8' 
** testing if installed package can be loaded

* DONE (manta)

manta.Rcheck/manta-Ex.timings:

nameusersystemelapsed
collapseRepliCounts0.0920.0040.094
compbiasPlot0.2160.0080.230
compbiasTest0.2360.0000.240
generateWeights0.4040.0120.423
in2manta17.909 0.00417.937
makeSampleDF0.0160.0000.016
manta0.0320.0040.043
meta2counts0.3360.0040.345
metataxa2subcounts0.0320.0000.035
nf2nr0.0360.0000.039
normfact2absTMM0.0400.0000.041
nr1.7640.0001.765
outliers0.1040.0000.110
plot.manta1.5080.0161.530
pplacer2manta0.7200.0280.789
readSeastar0.0040.0000.009
seastar2counts0.0200.0000.023
summary.manta0.0480.0000.051