Back to the "Multiple platform build/check report" A  B  C  D  E  F  G  H  I  J  K  L [M] N  O  P  Q  R  S  T  U  V  W  X  Y  Z 

Package 348/554HostnameOS / ArchBUILDCHECKBUILD BIN
minfi 1.2.0
Kasper Daniel Hansen
Snapshot Date: 2012-03-31 17:01:49 -0700 (Sat, 31 Mar 2012)
URL: https://hedgehog.fhcrc.org/bioconductor/branches/RELEASE_2_10/madman/Rpacks/minfi
Last Changed Rev: 64678 / Revision: 64719
Last Changed Date: 2012-03-30 15:05:02 -0700 (Fri, 30 Mar 2012)
lamb2 Linux (openSUSE 11.4) / x86_64  OK  OK 
puck5 Linux (Ubuntu 12.04) / x86_64  OK [ OK ]
moscato2 Windows Server 2008 R2 Enterprise SP1 (64-bit) / x64  OK  OK  OK 
petty Mac OS X Leopard (10.5.8) / i386  OK  OK  OK 

Summary

Package: minfi
Version: 1.2.0
Command: /home/hpages/test-puck5/bbs-2.10-bioc/R/bin/R CMD check --no-vignettes --timings minfi_1.2.0.tar.gz
StartedAt: 2012-04-01 02:10:15 -0700 (Sun, 01 Apr 2012)
EndedAt: 2012-04-01 02:14:59 -0700 (Sun, 01 Apr 2012)
EllapsedTime: 283.7 seconds
RetCode: 0
Status:  OK 
CheckDir: minfi.Rcheck
Warnings: 0

Command output

* using log directory '/loc/home/hpages/test-puck5/bbs-2.10-bioc/meat/minfi.Rcheck'
* using R version 2.15.0 RC (2012-03-22 r58802)
* using platform: x86_64-unknown-linux-gnu (64-bit)
* using session charset: ISO8859-1
* using option '--no-vignettes'
* checking for file 'minfi/DESCRIPTION' ... OK
* this is package 'minfi' version '1.2.0'
* checking package namespace information ... OK
* checking package dependencies ... OK
* checking if this is a source package ... OK
* checking if there is a namespace ... OK
* checking whether package 'minfi' can be installed ... OK
* checking installed package size ... OK
* checking package directory ... OK
* checking for portable file names ... OK
* checking for sufficient/correct file permissions ... OK
* checking DESCRIPTION meta-information ... OK
* checking top-level files ... OK
* checking index information ... OK
* checking package subdirectories ... OK
* checking R files for non-ASCII characters ... OK
* checking R files for syntax errors ... OK
* checking whether the package can be loaded ... OK
* checking whether the package can be loaded with stated dependencies ... OK
* checking whether the package can be unloaded cleanly ... OK
* checking whether the namespace can be loaded with stated dependencies ... OK
* checking whether the namespace can be unloaded cleanly ... OK
* checking for unstated dependencies in R code ... OK
* checking S3 generic/method consistency ... OK
* checking replacement functions ... OK
* checking foreign function calls ... OK
* checking R code for possible problems ... OK
* checking Rd files ... OK
* checking Rd metadata ... OK
* checking Rd cross-references ... OK
* checking for missing documentation entries ... OK
* checking for code/documentation mismatches ... OK
* checking Rd \usage sections ... OK
* checking Rd contents ... OK
* checking for unstated dependencies in examples ... OK
* checking installed files from 'inst/doc' ... OK
* checking examples ... OK
* checking for unstated dependencies in vignettes ... OK
* checking package vignettes in 'inst/doc' ... OK
* checking running R code from vignettes ... SKIPPED
* checking re-building of vignettes ... SKIPPED
* checking PDF version of manual ... OK

minfi.Rcheck/00install.out:

* installing *source* package 'minfi' ...
** R
** inst
** preparing package for lazy loading
** help
*** installing help indices
** building package indices
** installing vignettes
   'minfi.Rnw' 
** testing if installed package can be loaded

* DONE (minfi)

minfi.Rcheck/minfi-Ex.timings:

nameusersystemelapsed
IlluminaMethylationManifest-class4.5400.0964.651
MethylSet-class0.0040.0000.001
RGChannelSet-class000
controlStripPlot3.8000.0923.916
densityBeanPlot11.477 0.12011.618
densityPlot7.6090.0607.686
detectionP4.0800.0044.104
dmpFinder1.7480.0481.808
getProbeData0.0320.0040.050
logit2000
mdsPlot0.8720.0080.895
plotBetasByType19.853 0.02419.907
plotCpg0.2560.0000.269
preprocessIllumina6.4610.0486.535
preprocessRaw3.6720.0043.705
preprocessSwan43.119 0.08443.252
qcReport0.0440.0000.066
read.450k6.6680.1006.801
read.450k.exp8.4570.0408.537
read.450k.sheet0.0520.0000.072