multtest 2.12.0 Katherine S. Pollard
Snapshot Date: 2012-09-23 17:01:39 -0700 (Sun, 23 Sep 2012) | URL: https://hedgehog.fhcrc.org/bioconductor/branches/RELEASE_2_10/madman/Rpacks/multtest | Last Changed Rev: 64678 / Revision: 69725 | Last Changed Date: 2012-03-30 15:05:02 -0700 (Fri, 30 Mar 2012) |
| lamb2 | Linux (openSUSE 11.4) / x86_64 | OK | WARNINGS | |
moscato2 | Windows Server 2008 R2 Enterprise SP1 (64-bit) / x64 | OK | WARNINGS | [ OK ] |
petty | Mac OS X Leopard (10.5.8) / i386 | OK | WARNINGS | OK |
install for i386
* installing *source* package 'multtest' ...
** libs
gcc -I"E:/biocbld/BBS-2˜1.10-/R/include" -DNDEBUG -DUSEDOUBLE -DWINDOWS -O3 -Wall -std=gnu99 -mtune=core2 -c Rpack.c -o Rpack.o
gcc -I"E:/biocbld/BBS-2˜1.10-/R/include" -DNDEBUG -DUSEDOUBLE -DWINDOWS -O3 -Wall -std=gnu99 -mtune=core2 -c VScount.c -o VScount.o
gcc -I"E:/biocbld/BBS-2˜1.10-/R/include" -DNDEBUG -DUSEDOUBLE -DWINDOWS -O3 -Wall -std=gnu99 -mtune=core2 -c block_sampling_fixed.c -o block_sampling_fixed.o
gcc -I"E:/biocbld/BBS-2˜1.10-/R/include" -DNDEBUG -DUSEDOUBLE -DWINDOWS -O3 -Wall -std=gnu99 -mtune=core2 -c bootloop.c -o bootloop.o
gcc -I"E:/biocbld/BBS-2˜1.10-/R/include" -DNDEBUG -DUSEDOUBLE -DWINDOWS -O3 -Wall -std=gnu99 -mtune=core2 -c mt.c -o mt.o
gcc -I"E:/biocbld/BBS-2˜1.10-/R/include" -DNDEBUG -DUSEDOUBLE -DWINDOWS -O3 -Wall -std=gnu99 -mtune=core2 -c pairt_sampling.c -o pairt_sampling.o
gcc -I"E:/biocbld/BBS-2˜1.10-/R/include" -DNDEBUG -DUSEDOUBLE -DWINDOWS -O3 -Wall -std=gnu99 -mtune=core2 -c pairt_sampling_fixed.c -o pairt_sampling_fixed.o
gcc -I"E:/biocbld/BBS-2˜1.10-/R/include" -DNDEBUG -DUSEDOUBLE -DWINDOWS -O3 -Wall -std=gnu99 -mtune=core2 -c random.c -o random.o
gcc -I"E:/biocbld/BBS-2˜1.10-/R/include" -DNDEBUG -DUSEDOUBLE -DWINDOWS -O3 -Wall -std=gnu99 -mtune=core2 -c sampling.c -o sampling.o
gcc -I"E:/biocbld/BBS-2˜1.10-/R/include" -DNDEBUG -DUSEDOUBLE -DWINDOWS -O3 -Wall -std=gnu99 -mtune=core2 -c sampling_fixed.c -o sampling_fixed.o
gcc -I"E:/biocbld/BBS-2˜1.10-/R/include" -DNDEBUG -DUSEDOUBLE -DWINDOWS -O3 -Wall -std=gnu99 -mtune=core2 -c stat_func.c -o stat_func.o
gcc -I"E:/biocbld/BBS-2˜1.10-/R/include" -DNDEBUG -DUSEDOUBLE -DWINDOWS -O3 -Wall -std=gnu99 -mtune=core2 -c stat_order.c -o stat_order.o
gcc -shared -s -static-libgcc -o multtest.dll tmp.def Rpack.o VScount.o block_sampling_fixed.o bootloop.o mt.o pairt_sampling.o pairt_sampling_fixed.o random.o sampling.o sampling_fixed.o stat_func.o stat_order.o -lm -LE:/biocbld/BBS-2~1.10-/R/bin/i386 -lR
installing to E:/biocbld/bbs-2.10-bioc/meat/multtest.buildbin-libdir/multtest/libs/i386
** R
** data
** inst
** preparing package for lazy loading
Creating a generic function for 'as.list' from package 'base' in package 'multtest'
Creating a generic function for 'update' from package 'stats' in package 'multtest'
** help
*** installing help indices
** building package indices
** installing vignettes
** testing if installed package can be loaded
install for x64
* installing *source* package 'multtest' ...
** libs
gcc -m64 -I"E:/biocbld/BBS-2˜1.10-/R/include" -DNDEBUG -I"d:/RCompile/CRANpkg/extralibs64/local/include" -DUSEDOUBLE -DWINDOWS -O2 -Wall -std=gnu99 -mtune=core2 -c Rpack.c -o Rpack.o
gcc -m64 -I"E:/biocbld/BBS-2˜1.10-/R/include" -DNDEBUG -I"d:/RCompile/CRANpkg/extralibs64/local/include" -DUSEDOUBLE -DWINDOWS -O2 -Wall -std=gnu99 -mtune=core2 -c VScount.c -o VScount.o
gcc -m64 -I"E:/biocbld/BBS-2~1.10-/R/include" -DNDEBUG -I"d:/RCompile/CRANpkg/extralibs64/local/include" -DUSEDOUBLE -DWINDOWS -O2 -Wall -std=gnu99 -mtune=core2 -c block_sampling_fixed.c -o block_sampling_fixed.o
gcc -m64 -I"E:/biocbld/BBS-2˜1.10-/R/include" -DNDEBUG -I"d:/RCompile/CRANpkg/extralibs64/local/include" -DUSEDOUBLE -DWINDOWS -O2 -Wall -std=gnu99 -mtune=core2 -c bootloop.c -o bootloop.o
gcc -m64 -I"E:/biocbld/BBS-2˜1.10-/R/include" -DNDEBUG -I"d:/RCompile/CRANpkg/extralibs64/local/include" -DUSEDOUBLE -DWINDOWS -O2 -Wall -std=gnu99 -mtune=core2 -c mt.c -o mt.o
gcc -m64 -I"E:/biocbld/BBS-2~1.10-/R/include" -DNDEBUG -I"d:/RCompile/CRANpkg/extralibs64/local/include" -DUSEDOUBLE -DWINDOWS -O2 -Wall -std=gnu99 -mtune=core2 -c pairt_sampling.c -o pairt_sampling.o
gcc -m64 -I"E:/biocbld/BBS-2~1.10-/R/include" -DNDEBUG -I"d:/RCompile/CRANpkg/extralibs64/local/include" -DUSEDOUBLE -DWINDOWS -O2 -Wall -std=gnu99 -mtune=core2 -c pairt_sampling_fixed.c -o pairt_sampling_fixed.o
gcc -m64 -I"E:/biocbld/BBS-2˜1.10-/R/include" -DNDEBUG -I"d:/RCompile/CRANpkg/extralibs64/local/include" -DUSEDOUBLE -DWINDOWS -O2 -Wall -std=gnu99 -mtune=core2 -c random.c -o random.o
gcc -m64 -I"E:/biocbld/BBS-2˜1.10-/R/include" -DNDEBUG -I"d:/RCompile/CRANpkg/extralibs64/local/include" -DUSEDOUBLE -DWINDOWS -O2 -Wall -std=gnu99 -mtune=core2 -c sampling.c -o sampling.o
gcc -m64 -I"E:/biocbld/BBS-2~1.10-/R/include" -DNDEBUG -I"d:/RCompile/CRANpkg/extralibs64/local/include" -DUSEDOUBLE -DWINDOWS -O2 -Wall -std=gnu99 -mtune=core2 -c sampling_fixed.c -o sampling_fixed.o
gcc -m64 -I"E:/biocbld/BBS-2˜1.10-/R/include" -DNDEBUG -I"d:/RCompile/CRANpkg/extralibs64/local/include" -DUSEDOUBLE -DWINDOWS -O2 -Wall -std=gnu99 -mtune=core2 -c stat_func.c -o stat_func.o
gcc -m64 -I"E:/biocbld/BBS-2~1.10-/R/include" -DNDEBUG -I"d:/RCompile/CRANpkg/extralibs64/local/include" -DUSEDOUBLE -DWINDOWS -O2 -Wall -std=gnu99 -mtune=core2 -c stat_order.c -o stat_order.o
gcc -m64 -shared -s -static-libgcc -o multtest.dll tmp.def Rpack.o VScount.o block_sampling_fixed.o bootloop.o mt.o pairt_sampling.o pairt_sampling_fixed.o random.o sampling.o sampling_fixed.o stat_func.o stat_order.o -lm -Ld:/RCompile/CRANpkg/extralibs64/local/lib/x64 -Ld:/RCompile/CRANpkg/extralibs64/local/lib -LE:/biocbld/BBS-2~1.10-/R/bin/x64 -lR
installing to E:/biocbld/bbs-2.10-bioc/meat/multtest.buildbin-libdir/multtest/libs/x64
** testing if installed package can be loaded
* MD5 sums
packaged installation of 'multtest' as multtest_2.12.0.zip
* DONE (multtest)