nem 2.32.1 Holger Froehlich
Snapshot Date: 2012-09-23 17:01:39 -0700 (Sun, 23 Sep 2012) | URL: https://hedgehog.fhcrc.org/bioconductor/branches/RELEASE_2_10/madman/Rpacks/nem | Last Changed Rev: 66525 / Revision: 69725 | Last Changed Date: 2012-06-08 10:11:11 -0700 (Fri, 08 Jun 2012) |
| lamb2 | Linux (openSUSE 11.4) / x86_64 | OK | OK | |
moscato2 | Windows Server 2008 R2 Enterprise SP1 (64-bit) / x64 | OK | OK | [ OK ] |
petty | Mac OS X Leopard (10.5.8) / i386 | OK | OK | OK |
install for i386
* installing *source* package 'nem' ...
** libs
gcc -I"E:/biocbld/BBS-2˜1.10-/R/include" -DNDEBUG -O3 -Wall -std=gnu99 -mtune=core2 -c MCMC.c -o MCMC.o
MCMC.c: In function 'network_likelihood':
MCMC.c:128:41: warning: suggest parentheses around comparison in operand of '&' [-Wparentheses]
MCMC.c:137:6: warning: suggest parentheses around comparison in operand of '&' [-Wparentheses]
MCMC.c: In function 'MCMCrun':
MCMC.c:423:10: warning: unused variable 'stored2' [-Wunused-variable]
MCMC.c:422:10: warning: unused variable 'stored' [-Wunused-variable]
MCMC.c:380:35: warning: unused variable 'mutinf' [-Wunused-variable]
MCMC.c: In function 'network_likelihood':
MCMC.c:160:35: warning: 'loglik0' may be used uninitialized in this function [-Wuninitialized]
MCMC.c: In function 'MCMCrun':
MCMC.c:456:18: warning: 'priorScale_new' may be used uninitialized in this function [-Wuninitialized]
gcc -I"E:/biocbld/BBS-2˜1.10-/R/include" -DNDEBUG -O3 -Wall -std=gnu99 -mtune=core2 -c wrapper.c -o wrapper.o
gcc -shared -s -static-libgcc -o nem.dll tmp.def MCMC.o wrapper.o -LE:/biocbld/BBS-2˜1.10-/R/bin/i386 -lR
installing to E:/biocbld/bbs-2.10-bioc/meat/nem.buildbin-libdir/nem/libs/i386
** R
** data
** inst
** preparing package for lazy loading
** help
*** installing help indices
** building package indices
** installing vignettes
'nem.Rnw' using 'latin1'
** testing if installed package can be loaded
install for x64
* installing *source* package 'nem' ...
** libs
gcc -m64 -I"E:/biocbld/BBS-2˜1.10-/R/include" -DNDEBUG -I"d:/RCompile/CRANpkg/extralibs64/local/include" -O2 -Wall -std=gnu99 -mtune=core2 -c MCMC.c -o MCMC.o
MCMC.c: In function 'network_likelihood':
MCMC.c:128:41: warning: suggest parentheses around comparison in operand of '&' [-Wparentheses]
MCMC.c:137:6: warning: suggest parentheses around comparison in operand of '&' [-Wparentheses]
MCMC.c: In function 'MCMCrun':
MCMC.c:423:10: warning: unused variable 'stored2' [-Wunused-variable]
MCMC.c:422:10: warning: unused variable 'stored' [-Wunused-variable]
MCMC.c:380:35: warning: unused variable 'mutinf' [-Wunused-variable]
MCMC.c: In function 'network_likelihood':
MCMC.c:156:13: warning: 'loglik0' may be used uninitialized in this function [-Wuninitialized]
MCMC.c: In function 'MCMCrun':
MCMC.c:456:18: warning: 'priorScale_new' may be used uninitialized in this function [-Wuninitialized]
gcc -m64 -I"E:/biocbld/BBS-2˜1.10-/R/include" -DNDEBUG -I"d:/RCompile/CRANpkg/extralibs64/local/include" -O2 -Wall -std=gnu99 -mtune=core2 -c wrapper.c -o wrapper.o
gcc -m64 -shared -s -static-libgcc -o nem.dll tmp.def MCMC.o wrapper.o -Ld:/RCompile/CRANpkg/extralibs64/local/lib/x64 -Ld:/RCompile/CRANpkg/extralibs64/local/lib -LE:/biocbld/BBS-2~1.10-/R/bin/x64 -lR
installing to E:/biocbld/bbs-2.10-bioc/meat/nem.buildbin-libdir/nem/libs/x64
** testing if installed package can be loaded
Warning in fun(libname, pkgname) :
Rgraphviz built with Graphviz version 2.20.3.
Found installed Graphviz version 2.25.20090912.445. This _may_ cause problems.
* MD5 sums
packaged installation of 'nem' as nem_2.32.1.zip
* DONE (nem)