netresponse 1.8.0 Leo Lahti
Snapshot Date: 2012-09-23 17:01:39 -0700 (Sun, 23 Sep 2012) | URL: https://hedgehog.fhcrc.org/bioconductor/branches/RELEASE_2_10/madman/Rpacks/netresponse | Last Changed Rev: 64678 / Revision: 69725 | Last Changed Date: 2012-03-30 15:05:02 -0700 (Fri, 30 Mar 2012) |
| lamb2 | Linux (openSUSE 11.4) / x86_64 | OK | OK | |
moscato2 | Windows Server 2008 R2 Enterprise SP1 (64-bit) / x64 | OK | OK | [ OK ] |
petty | Mac OS X Leopard (10.5.8) / i386 | OK | OK | OK |
install for i386
* installing *source* package 'netresponse' ...
** libs
gcc -I"E:/biocbld/BBS-2˜1.10-/R/include" -DNDEBUG -O3 -Wall -std=gnu99 -mtune=core2 -c netresponse.c -o netresponse.o
netresponse.c: In function 'mHPpost':
netresponse.c:264:15: warning: unused variable 'prior_fields' [-Wunused-variable]
netresponse.c: In function 'mLogLambda':
netresponse.c:713:20: warning: 'U_p' may be used uninitialized in this function [-Wuninitialized]
netresponse.c:713:20: warning: 'KsiBeta' may be used uninitialized in this function [-Wuninitialized]
netresponse.c:713:20: warning: 'KsiAlpha' may be used uninitialized in this function [-Wuninitialized]
netresponse.c:713:20: warning: 'BetaKsi' may be used uninitialized in this function [-Wuninitialized]
netresponse.c:713:20: warning: 'AlphaKsi' may be used uninitialized in this function [-Wuninitialized]
netresponse.c:713:20: warning: 'Mutilde' may be used uninitialized in this function [-Wuninitialized]
netresponse.c:713:20: warning: 'Mubar' may be used uninitialized in this function [-Wuninitialized]
netresponse.c:713:20: warning: 'S2mu' may be used uninitialized in this function [-Wuninitialized]
netresponse.c:713:20: warning: 'Mumu' may be used uninitialized in this function [-Wuninitialized]
gcc -shared -s -static-libgcc -o netresponse.dll tmp.def netresponse.o -LE:/biocbld/BBS-2˜1.10-/R/bin/i386 -lR
installing to E:/biocbld/bbs-2.10-bioc/meat/netresponse.buildbin-libdir/netresponse/libs/i386
** R
** data
** inst
** preparing package for lazy loading
** help
*** installing help indices
** building package indices
** installing vignettes
'netresponse.Rnw'
** testing if installed package can be loaded
install for x64
* installing *source* package 'netresponse' ...
** libs
gcc -m64 -I"E:/biocbld/BBS-2˜1.10-/R/include" -DNDEBUG -I"d:/RCompile/CRANpkg/extralibs64/local/include" -O2 -Wall -std=gnu99 -mtune=core2 -c netresponse.c -o netresponse.o
netresponse.c: In function 'mHPpost':
netresponse.c:264:15: warning: unused variable 'prior_fields' [-Wunused-variable]
netresponse.c: In function 'mLogLambda':
netresponse.c:713:20: warning: 'U_p' may be used uninitialized in this function [-Wuninitialized]
netresponse.c:713:20: warning: 'KsiBeta' may be used uninitialized in this function [-Wuninitialized]
netresponse.c:713:20: warning: 'KsiAlpha' may be used uninitialized in this function [-Wuninitialized]
netresponse.c:713:20: warning: 'BetaKsi' may be used uninitialized in this function [-Wuninitialized]
netresponse.c:713:20: warning: 'AlphaKsi' may be used uninitialized in this function [-Wuninitialized]
netresponse.c:713:20: warning: 'Mutilde' may be used uninitialized in this function [-Wuninitialized]
netresponse.c:713:20: warning: 'Mubar' may be used uninitialized in this function [-Wuninitialized]
netresponse.c:713:20: warning: 'S2mu' may be used uninitialized in this function [-Wuninitialized]
netresponse.c:713:20: warning: 'Mumu' may be used uninitialized in this function [-Wuninitialized]
gcc -m64 -shared -s -static-libgcc -o netresponse.dll tmp.def netresponse.o -Ld:/RCompile/CRANpkg/extralibs64/local/lib/x64 -Ld:/RCompile/CRANpkg/extralibs64/local/lib -LE:/biocbld/BBS-2~1.10-/R/bin/x64 -lR
installing to E:/biocbld/bbs-2.10-bioc/meat/netresponse.buildbin-libdir/netresponse/libs/x64
** testing if installed package can be loaded
Warning in fun(libname, pkgname) :
Rgraphviz built with Graphviz version 2.20.3.
Found installed Graphviz version 2.25.20090912.445. This _may_ cause problems.
* MD5 sums
packaged installation of 'netresponse' as netresponse_1.8.0.zip
* DONE (netresponse)