pamr 1.51.0 Rob Tibshirani
Snapshot Date: 2011-10-25 23:28:02 -0700 (Tue, 25 Oct 2011) | URL: https://hedgehog.fhcrc.org/bioconductor/trunk/madman/Rpacks/pamr | Last Changed Rev: 54802 / Revision: 59682 | Last Changed Date: 2011-04-13 15:36:43 -0700 (Wed, 13 Apr 2011) |
| lamb2 | Linux (openSUSE 11.4) / x86_64 | [ OK ] | WARNINGS | |
* checking for file ‘pamr/DESCRIPTION’ ... OK
* preparing ‘pamr’:
* checking DESCRIPTION meta-information ... OK
* cleaning src
* excluding invalid files
Subdirectory 'man' contains invalid file names:
‘internal.names’
* checking for LF line-endings in source and make files
* checking for empty or unneeded directories
* looking to see if a ‘data/datalist’ file should be added
* building ‘pamr_1.51.0.tar.gz’