pcaMethods 1.42.0 Wolfram Stacklies
Snapshot Date: 2012-09-23 17:01:39 -0700 (Sun, 23 Sep 2012) | URL: https://hedgehog.fhcrc.org/bioconductor/branches/RELEASE_2_10/madman/Rpacks/pcaMethods | Last Changed Rev: 64678 / Revision: 69725 | Last Changed Date: 2012-03-30 15:05:02 -0700 (Fri, 30 Mar 2012) |
| lamb2 | Linux (openSUSE 11.4) / x86_64 | OK | OK | |
moscato2 | Windows Server 2008 R2 Enterprise SP1 (64-bit) / x64 | OK | OK | [ OK ] |
petty | Mac OS X Leopard (10.5.8) / i386 | OK | OK | OK |
install for i386
* installing *source* package 'pcaMethods' ...
** libs
g++ -I"E:/biocbld/BBS-2˜1.10-/R/include" -DNDEBUG -I"E:/biocbld/bbs-2.10-bioc/R/library/Rcpp/include" -O2 -Wall -mtune=core2 -c nipals.cpp -o nipals.o
g++ -shared -s -static-libgcc -o pcaMethods.dll tmp.def nipals.o E:/biocbld/bbs-2.10-bioc/R/library/Rcpp/lib/i386/libRcpp.a -LE:/biocbld/BBS-2˜1.10-/R/bin/i386 -lR
installing to E:/biocbld/bbs-2.10-bioc/meat/pcaMethods.buildbin-libdir/pcaMethods/libs/i386
** R
** data
** inst
** preparing package for lazy loading
Creating a generic function for 'print' from package 'base' in package 'pcaMethods'
Creating a generic function for 'biplot' from package 'stats' in package 'pcaMethods'
Creating a generic function for 'summary' from package 'base' in package 'pcaMethods'
Creating a generic function for 'predict' from package 'stats' in package 'pcaMethods'
Creating a generic function for 'resid' from package 'stats' in package 'pcaMethods'
Creating a generic function for 'fitted' from package 'stats' in package 'pcaMethods'
** help
*** installing help indices
** building package indices
** installing vignettes
'missingValues.Rnw'
'outliers.Rnw'
'pcaMethods.Rnw'
** testing if installed package can be loaded
install for x64
* installing *source* package 'pcaMethods' ...
** libs
g++ -m64 -I"E:/biocbld/BBS-2~1.10-/R/include" -DNDEBUG -I"E:/biocbld/bbs-2.10-bioc/R/library/Rcpp/include" -I"d:/RCompile/CRANpkg/extralibs64/local/include" -O2 -Wall -mtune=core2 -c nipals.cpp -o nipals.o
g++ -m64 -shared -s -static-libgcc -o pcaMethods.dll tmp.def nipals.o E:/biocbld/bbs-2.10-bioc/R/library/Rcpp/lib/x64/libRcpp.a -Ld:/RCompile/CRANpkg/extralibs64/local/lib/x64 -Ld:/RCompile/CRANpkg/extralibs64/local/lib -LE:/biocbld/BBS-2~1.10-/R/bin/x64 -lR
installing to E:/biocbld/bbs-2.10-bioc/meat/pcaMethods.buildbin-libdir/pcaMethods/libs/x64
** testing if installed package can be loaded
* MD5 sums
packaged installation of 'pcaMethods' as pcaMethods_1.42.0.zip
* DONE (pcaMethods)