Back to the "Multiple platform build/check report" A  B  C  D  E  F  G  H  I  J  K  L  M  N  O  P [Q] R  S  T  U  V  W  X  Y  Z 

Package 407/533HostnameOS / ArchBUILDCHECKBUILD BIN
qtpaint 1.1.0
Michael Lawrence
Snapshot Date: 2012-02-12 17:01:26 -0800 (Sun, 12 Feb 2012)
URL: https://hedgehog.fhcrc.org/bioconductor/trunk/madman/Rpacks/qtpaint
Last Changed Rev: 59924 / Revision: 62718
Last Changed Date: 2011-10-31 16:12:28 -0700 (Mon, 31 Oct 2011)
lamb2 Linux (openSUSE 11.4) / x86_64 [ OK ] WARNINGS 
moscato2 Windows Server 2008 R2 Enterprise SP1 (64-bit) / x64 N O T   S U P P O R T E D
petty Mac OS X Snow Leopard (10.6.7) / i386  ERROR  skipped  skipped 

Summary

Package: qtpaint
Version: 1.1.0
Command: /home/biocbuild/bbs-2.10-bioc/R/bin/R CMD build --keep-empty-dirs --no-resave-data qtpaint
StartedAt: 2012-02-12 22:05:35 -0800 (Sun, 12 Feb 2012)
EndedAt: 2012-02-12 22:06:11 -0800 (Sun, 12 Feb 2012)
EllapsedTime: 35.6 seconds
RetCode: 0
Status:  OK 
PackageFile: qtpaint_1.1.0.tar.gz
PackageFileSize: 412.5 KiB

Command output

* checking for file ‘qtpaint/DESCRIPTION’ ... OK
* preparing ‘qtpaint’:
* checking DESCRIPTION meta-information ... OK
* cleaning src
* installing the package to re-build vignettes
* creating vignettes ... OK
* cleaning src
* checking for LF line-endings in source and make files
* checking for empty or unneeded directories
WARNING: directory ‘qtpaint/tests’ is empty
* building ‘qtpaint_1.1.0.tar.gz’