rhdf5 2.0.2 Bernd Fischer
Snapshot Date: 2012-09-23 17:01:39 -0700 (Sun, 23 Sep 2012) | URL: https://hedgehog.fhcrc.org/bioconductor/branches/RELEASE_2_10/madman/Rpacks/rhdf5 | Last Changed Rev: 65455 / Revision: 69725 | Last Changed Date: 2012-04-26 11:31:59 -0700 (Thu, 26 Apr 2012) |
| lamb2 | Linux (openSUSE 11.4) / x86_64 | OK | OK | |
moscato2 | Windows Server 2008 R2 Enterprise SP1 (64-bit) / x64 | [ OK ] | OK | OK |
petty | Mac OS X Leopard (10.5.8) / i386 | OK | OK | OK |
* checking for file 'rhdf5/DESCRIPTION' ... OK
* preparing 'rhdf5':
* checking DESCRIPTION meta-information ... OK
* cleaning src
* running 'cleanup.win'
* installing the package to re-build vignettes
* creating vignettes ... OK
* cleaning src
* running 'cleanup.win'
* checking for LF line-endings in source and make files
* checking for empty or unneeded directories
* building 'rhdf5_2.0.2.tar.gz'