Back to the "Multiple platform build/check report" A  B  C  D  E  F  G  H  I  J  K  L  M  N  O  P  Q  R [S] T  U  V  W  X  Y  Z 

Package 489/554HostnameOS / ArchBUILDCHECKBUILD BIN
sigaR 1.0.0
Wessel N. van Wieringen
Snapshot Date: 2012-03-31 17:01:49 -0700 (Sat, 31 Mar 2012)
URL: https://hedgehog.fhcrc.org/bioconductor/branches/RELEASE_2_10/madman/Rpacks/sigaR
Last Changed Rev: 64678 / Revision: 64719
Last Changed Date: 2012-03-30 15:05:02 -0700 (Fri, 30 Mar 2012)
lamb2 Linux (openSUSE 11.4) / x86_64  OK  OK 
puck5 Linux (Ubuntu 12.04) / x86_64  OK [ OK ]
moscato2 Windows Server 2008 R2 Enterprise SP1 (64-bit) / x64  OK  OK  OK 
petty Mac OS X Leopard (10.5.8) / i386  OK  OK  OK 

Summary

Package: sigaR
Version: 1.0.0
Command: /home/hpages/test-puck5/bbs-2.10-bioc/R/bin/R CMD check --no-vignettes --timings sigaR_1.0.0.tar.gz
StartedAt: 2012-04-01 03:23:32 -0700 (Sun, 01 Apr 2012)
EndedAt: 2012-04-01 03:26:49 -0700 (Sun, 01 Apr 2012)
EllapsedTime: 196.3 seconds
RetCode: 0
Status:  OK 
CheckDir: sigaR.Rcheck
Warnings: 0

Command output

* using log directory '/loc/home/hpages/test-puck5/bbs-2.10-bioc/meat/sigaR.Rcheck'
* using R version 2.15.0 RC (2012-03-22 r58802)
* using platform: x86_64-unknown-linux-gnu (64-bit)
* using session charset: ISO8859-1
* using option '--no-vignettes'
* checking for file 'sigaR/DESCRIPTION' ... OK
* checking extension type ... Package
* this is package 'sigaR' version '1.0.0'
* checking package namespace information ... OK
* checking package dependencies ... OK
* checking if this is a source package ... OK
* checking if there is a namespace ... OK
* checking whether package 'sigaR' can be installed ... OK
* checking installed package size ... OK
* checking package directory ... OK
* checking for portable file names ... OK
* checking for sufficient/correct file permissions ... OK
* checking DESCRIPTION meta-information ... OK
* checking top-level files ... OK
* checking index information ... OK
* checking package subdirectories ... OK
* checking R files for non-ASCII characters ... OK
* checking R files for syntax errors ... OK
* checking whether the package can be loaded ... OK
* checking whether the package can be loaded with stated dependencies ... OK
* checking whether the package can be unloaded cleanly ... OK
* checking whether the namespace can be loaded with stated dependencies ... OK
* checking whether the namespace can be unloaded cleanly ... OK
* checking for unstated dependencies in R code ... OK
* checking S3 generic/method consistency ... OK
* checking replacement functions ... OK
* checking foreign function calls ... OK
* checking R code for possible problems ... NOTE
CNGEheatmaps: warning in layout(matrix(c(1, 2, 3, 1, 2, 3, 1, 2, 3), 3,
  3, byrow = TRUE), width = c(1, 9, 9)): partial argument match of
  'width' to 'widths'
ExpressionSet2weightedSubset: no visible binding for global variable
  'sigaR'
RCMestimation : RCMmlH2: multiple local function definitions for
  'tau.estimator' with different formal arguments
RCMtest: no visible binding for global variable 'sigaR'
RCMtest: no visible binding for global variable 'quadprog'
RCMtest: no visible binding for global variable 'MASS'
cghCall2maximumSubset: no visible binding for global variable 'sigaR'
cghCall2weightedSubset: no visible binding for global variable 'sigaR'
entropyTest: no visible binding for global variable 'sigaR'
entropyTest: no visible binding for global variable 'corpcor'
hdEntropy : normEntropy: warning in round(lambda, d = 5): partial
  argument match of 'd' to 'digits'
hdMI : normMI: warning in round(lambda, d = 5): partial argument match
  of 'd' to 'digits'
matchAnn2Ann: no visible binding for global variable 'sigaR'
matchCGHcall2ExpressionSet: no visible binding for global variable
  'sigaR'
mutInfTest: no visible binding for global variable 'sigaR'
mutInfTest: no visible binding for global variable 'corpcor'
* checking Rd files ... OK
* checking Rd metadata ... OK
* checking Rd cross-references ... OK
* checking for missing documentation entries ... OK
* checking for code/documentation mismatches ... OK
* checking Rd \usage sections ... OK
* checking Rd contents ... OK
* checking for unstated dependencies in examples ... OK
* checking contents of 'data' directory ... OK
* checking data for non-ASCII characters ... OK
* checking data for ASCII and uncompressed saves ... OK
* checking installed files from 'inst/doc' ... OK
* checking examples ... OK
* checking for unstated dependencies in vignettes ... OK
* checking package vignettes in 'inst/doc' ... OK
* checking running R code from vignettes ... SKIPPED
* checking re-building of vignettes ... SKIPPED
* checking PDF version of manual ... OK

NOTE: There was 1 note.
See
  '/loc/home/hpages/test-puck5/bbs-2.10-bioc/meat/sigaR.Rcheck/00check.log'
for details.

sigaR.Rcheck/00install.out:

* installing *source* package 'sigaR' ...
** R
** data
** inst
** preparing package for lazy loading
** help
*** installing help indices
** building package indices
** installing vignettes
   'sigaR.Rnw' 
** testing if installed package can be loaded

* DONE (sigaR)

sigaR.Rcheck/sigaR-Ex.timings:

nameusersystemelapsed
CNGEheatmaps0.8840.0240.973
ExpressionSet2order0.0160.0000.024
ExpressionSet2subset0.0080.0000.017
ExpressionSet2weightedSubset0.1720.0000.183
RCMestimation1.1480.0001.169
RCMrandom1.0800.0041.105
RCMtest4.2440.0004.270
cghCall2maximumSubset0.3080.0040.318
cghCall2order0.0200.0000.026
cghCall2subset0.0520.0000.059
cghCall2weightedSubset0.2240.0000.234
entTest-class0.0000.0040.000
entropyTest0.1400.0000.149
expandMatching2singleIDs0.0480.0000.062
getSegFeatures0.0080.0000.018
hdEntropy0.0120.0040.021
hdMI0.2480.0000.263
matchAnn2Ann0.0400.0000.054
matchCGHcall2ExpressionSet0.0560.0000.073
merge2ExpressionSets0.0640.0000.073
merge2cghCalls0.0840.0000.097
miTest-class000
mutInfTest127.648 4.128131.883
nBreakpoints0.2880.0040.309
pollackCN160.0000.0040.015
pollackGE160.0040.0000.013
profilesPlot0.1520.0080.176
rcmFit-class000
rcmTest-class000
splitMatchingAtBreakpoints0.2880.0000.307
uniqGenomicInfo0.0120.0000.024