snpMatrix 1.19.0 David Clayton
Snapshot Date: 2011-11-14 07:21:32 -0800 (Mon, 14 Nov 2011) | URL: https://hedgehog.fhcrc.org/bioconductor/trunk/madman/Rpacks/snpMatrix | Last Changed Rev: 60263 / Revision: 60284 | Last Changed Date: 2011-11-11 23:05:08 -0800 (Fri, 11 Nov 2011) |
| lamb2 | Linux (openSUSE 11.4) / x86_64 | OK | OK | |
moscato2 | Windows Server 2008 R2 Enterprise SP1 (64-bit) / x64 | [ OK ] | WARNINGS | OK |
petty | Mac OS X Snow Leopard (10.6.7) / i386 | OK | WARNINGS | OK |
* checking for file 'snpMatrix/DESCRIPTION' ... OK
* preparing 'snpMatrix':
* checking DESCRIPTION meta-information ... OK
* cleaning src
* installing the package to re-build vignettes
* creating vignettes ... OK
* cleaning src
* checking for LF line-endings in source and make files
* checking for empty or unneeded directories
* looking to see if a 'data/datalist' file should be added
* building 'snpMatrix_1.19.0.tar.gz'