spotSegmentation 1.30.0 Chris Fraley
Snapshot Date: 2012-09-23 17:01:39 -0700 (Sun, 23 Sep 2012) | URL: https://hedgehog.fhcrc.org/bioconductor/branches/RELEASE_2_10/madman/Rpacks/spotSegmentation | Last Changed Rev: 68601 / Revision: 69725 | Last Changed Date: 2012-08-19 15:08:41 -0700 (Sun, 19 Aug 2012) |
| lamb2 | Linux (openSUSE 11.4) / x86_64 | OK | OK | |
moscato2 | Windows Server 2008 R2 Enterprise SP1 (64-bit) / x64 | [ OK ] | OK | OK |
petty | Mac OS X Leopard (10.5.8) / i386 | OK | OK | OK |
* checking for file 'spotSegmentation/DESCRIPTION' ... OK
* preparing 'spotSegmentation':
* checking DESCRIPTION meta-information ... OK
* checking for LF line-endings in source and make files
* checking for empty or unneeded directories
* looking to see if a 'data/datalist' file should be added
* building 'spotSegmentation_1.30.0.tar.gz'