ssize 1.30.2 Gregory R. Warnes
Snapshot Date: 2012-09-23 17:01:39 -0700 (Sun, 23 Sep 2012) | URL: https://hedgehog.fhcrc.org/bioconductor/branches/RELEASE_2_10/madman/Rpacks/ssize | Last Changed Rev: 67543 / Revision: 69725 | Last Changed Date: 2012-07-11 10:20:40 -0700 (Wed, 11 Jul 2012) |
| lamb2 | Linux (openSUSE 11.4) / x86_64 | OK | OK | |
moscato2 | Windows Server 2008 R2 Enterprise SP1 (64-bit) / x64 | OK | OK | [ OK ] |
petty | Mac OS X Leopard (10.5.8) / i386 | OK | OK | OK |
install for i386
* installing *source* package 'ssize' ...
** R
** data
** inst
** preparing package for lazy loading
** help
*** installing help indices
** building package indices
** installing vignettes
'ssize.Rnw'
** testing if installed package can be loaded
install for x64
* installing *source* package 'ssize' ...
** testing if installed package can be loaded
* MD5 sums
packaged installation of 'ssize' as ssize_1.30.2.zip
* DONE (ssize)