Back to the "Multiple platform build/check report" A  B  C  D  E  F  G  H  I  J  K  L  M  N  O  P  Q  R [S] T  U  V  W  X  Y  Z 

Package 520/554HostnameOS / ArchBUILDCHECKBUILD BIN
survcomp 1.6.0
Benjamin Haibe-Kains , Markus Schroeder , Catharina Olsen
Snapshot Date: 2012-03-31 17:01:49 -0700 (Sat, 31 Mar 2012)
URL: https://hedgehog.fhcrc.org/bioconductor/branches/RELEASE_2_10/madman/Rpacks/survcomp
Last Changed Rev: 64678 / Revision: 64719
Last Changed Date: 2012-03-30 15:05:02 -0700 (Fri, 30 Mar 2012)
lamb2 Linux (openSUSE 11.4) / x86_64  OK  OK 
puck5 Linux (Ubuntu 12.04) / x86_64  OK [ OK ]
moscato2 Windows Server 2008 R2 Enterprise SP1 (64-bit) / x64  OK  OK  OK 
petty Mac OS X Leopard (10.5.8) / i386  OK  WARNINGS  OK 

Summary

Package: survcomp
Version: 1.6.0
Command: /home/hpages/test-puck5/bbs-2.10-bioc/R/bin/R CMD check --no-vignettes --timings survcomp_1.6.0.tar.gz
StartedAt: 2012-04-01 03:40:29 -0700 (Sun, 01 Apr 2012)
EndedAt: 2012-04-01 03:41:02 -0700 (Sun, 01 Apr 2012)
EllapsedTime: 32.3 seconds
RetCode: 0
Status:  OK 
CheckDir: survcomp.Rcheck
Warnings: 0

Command output

* using log directory '/loc/home/hpages/test-puck5/bbs-2.10-bioc/meat/survcomp.Rcheck'
* using R version 2.15.0 RC (2012-03-22 r58802)
* using platform: x86_64-unknown-linux-gnu (64-bit)
* using session charset: ISO8859-1
* using option '--no-vignettes'
* checking for file 'survcomp/DESCRIPTION' ... OK
* checking extension type ... Package
* this is package 'survcomp' version '1.6.0'
* checking package namespace information ... OK
* checking package dependencies ... OK
* checking if this is a source package ... OK
* checking if there is a namespace ... OK
* checking whether package 'survcomp' can be installed ... OK
* checking installed package size ... OK
* checking package directory ... OK
* checking for portable file names ... OK
* checking for sufficient/correct file permissions ... OK
* checking DESCRIPTION meta-information ... OK
* checking top-level files ... OK
* checking index information ... OK
* checking package subdirectories ... OK
* checking R files for non-ASCII characters ... OK
* checking R files for syntax errors ... OK
* checking whether the package can be loaded ... OK
* checking whether the package can be loaded with stated dependencies ... OK
* checking whether the package can be unloaded cleanly ... OK
* checking whether the namespace can be loaded with stated dependencies ... OK
* checking whether the namespace can be unloaded cleanly ... OK
* checking for unstated dependencies in R code ... OK
* checking S3 generic/method consistency ... OK
* checking replacement functions ... OK
* checking foreign function calls ... OK
* checking R code for possible problems ... OK
* checking Rd files ... OK
* checking Rd metadata ... OK
* checking Rd cross-references ... OK
* checking for missing documentation entries ... OK
* checking for code/documentation mismatches ... OK
* checking Rd \usage sections ... OK
* checking Rd contents ... OK
* checking for unstated dependencies in examples ... OK
* checking contents of 'data' directory ... OK
* checking data for non-ASCII characters ... OK
* checking data for ASCII and uncompressed saves ... OK
* checking line endings in C/C++/Fortran sources/headers ... OK
* checking line endings in Makefiles ... OK
* checking for portable use of $(BLAS_LIBS) and $(LAPACK_LIBS) ... OK
* checking compiled code ... OK
* checking installed files from 'inst/doc' ... OK
* checking examples ... OK
* checking for unstated dependencies in vignettes ... NOTE
'library' or 'require' call not declared from: 'xtable'
* checking package vignettes in 'inst/doc' ... OK
* checking running R code from vignettes ... SKIPPED
* checking re-building of vignettes ... SKIPPED
* checking PDF version of manual ... OK

NOTE: There was 1 note.
See
  '/loc/home/hpages/test-puck5/bbs-2.10-bioc/meat/survcomp.Rcheck/00check.log'
for details.

survcomp.Rcheck/00install.out:

* installing *source* package 'survcomp' ...
** libs
gcc -std=gnu99 -I/home/hpages/test-puck5/bbs-2.10-bioc/R/include -DNDEBUG  -I/usr/local/include    -fpic  -g -O2  -c concordance.index.c -o concordance.index.o
g++ -I/home/hpages/test-puck5/bbs-2.10-bioc/R/include -DNDEBUG  -I/usr/local/include    -fpic  -g -O2  -c foo_mrmr_ensemble_surv.cpp -o foo_mrmr_ensemble_surv.o
g++ -I/home/hpages/test-puck5/bbs-2.10-bioc/R/include -DNDEBUG  -I/usr/local/include    -fpic  -g -O2  -c foo_mrmr_surv.cpp -o foo_mrmr_surv.o
g++ -shared -L/usr/local/lib -o survcomp.so concordance.index.o foo_mrmr_ensemble_surv.o foo_mrmr_surv.o -L/home/hpages/test-puck5/bbs-2.10-bioc/R/lib -lR
installing to /loc/home/hpages/test-puck5/bbs-2.10-bioc/meat/survcomp.Rcheck/survcomp/libs
** R
** data
** inst
** preparing package for lazy loading
** help
*** installing help indices
** building package indices
** installing vignettes
   'survcomp.Rnw' 
** testing if installed package can be loaded

* DONE (survcomp)

survcomp.Rcheck/survcomp-Ex.timings:

nameusersystemelapsed
D.index0.0200.0000.019
breastCancerData0.8440.0160.902
censor.time0.0000.0000.001
cindex.comp0.0040.0000.004
cindex.comp.meta0.0040.0000.005
combine.est0.0120.0000.012
combine.test000
concordance.index0.0040.0000.003
cvpl0.2600.0040.262
dindex.comp0.0080.0000.011
dindex.comp.meta0.0200.0000.022
fisherz000
forestplot.surv0.0640.0000.074
getsurv20.0040.0000.005
hazard.ratio0.0080.0000.008
hr.comp0.0120.0000.012
hr.comp.meta0.0200.0000.021
hr.comp20.0080.0000.007
iauc.comp0.4960.0000.499
ibsc.comp0.2040.0080.235
km.coxph.plot0.0280.0040.033
logpl0.020.000.02
mainz7g0.2680.0080.308
metaplot.surv0.0040.0000.003
mrmr.cindex0.0000.0000.002
nki7g0.2280.0000.262
no.at.risk0.0200.0000.022
sbrier.score2proba0.1720.0000.172
score2proba0.0160.0000.018
td.sens.spec0.0560.0000.056
tdrocc0.1920.0000.195
test.hetero.est000
test.hetero.test000
transbig7g0.2200.0080.253
unt7g0.2120.0120.249
upp7g0.2080.0160.250
vdx7g0.2040.0040.232