sva 3.2.1 Jeffrey T. Leek
Snapshot Date: 2012-09-23 17:01:39 -0700 (Sun, 23 Sep 2012) | URL: https://hedgehog.fhcrc.org/bioconductor/branches/RELEASE_2_10/madman/Rpacks/sva | Last Changed Rev: 65409 / Revision: 69725 | Last Changed Date: 2012-04-25 09:27:01 -0700 (Wed, 25 Apr 2012) |
| lamb2 | Linux (openSUSE 11.4) / x86_64 | OK | OK | |
moscato2 | Windows Server 2008 R2 Enterprise SP1 (64-bit) / x64 | OK | OK | [ OK ] |
petty | Mac OS X Leopard (10.5.8) / i386 | OK | OK | OK |
install for i386
* installing *source* package 'sva' ...
** libs
gcc -I"E:/biocbld/BBS-2˜1.10-/R/include" -DNDEBUG -O3 -Wall -std=gnu99 -mtune=core2 -c sva.c -o sva.o
gcc -shared -s -static-libgcc -o sva.dll tmp.def sva.o -LE:/biocbld/BBS-2˜1.10-/R/bin/i386 -lR
installing to E:/biocbld/bbs-2.10-bioc/meat/sva.buildbin-libdir/sva/libs/i386
** R
** inst
** preparing package for lazy loading
** help
*** installing help indices
** building package indices
** installing vignettes
'sva.Rnw'
** testing if installed package can be loaded
install for x64
* installing *source* package 'sva' ...
** libs
gcc -m64 -I"E:/biocbld/BBS-2˜1.10-/R/include" -DNDEBUG -I"d:/RCompile/CRANpkg/extralibs64/local/include" -O2 -Wall -std=gnu99 -mtune=core2 -c sva.c -o sva.o
gcc -m64 -shared -s -static-libgcc -o sva.dll tmp.def sva.o -Ld:/RCompile/CRANpkg/extralibs64/local/lib/x64 -Ld:/RCompile/CRANpkg/extralibs64/local/lib -LE:/biocbld/BBS-2˜1.10-/R/bin/x64 -lR
installing to E:/biocbld/bbs-2.10-bioc/meat/sva.buildbin-libdir/sva/libs/x64
** testing if installed package can be loaded
* MD5 sums
packaged installation of 'sva' as sva_3.2.1.zip
* DONE (sva)