ternarynet 1.0.0 Matthew N. McCall
Snapshot Date: 2012-09-23 17:01:39 -0700 (Sun, 23 Sep 2012) | URL: https://hedgehog.fhcrc.org/bioconductor/branches/RELEASE_2_10/madman/Rpacks/ternarynet | Last Changed Rev: 64678 / Revision: 69725 | Last Changed Date: 2012-03-30 15:05:02 -0700 (Fri, 30 Mar 2012) |
| lamb2 | Linux (openSUSE 11.4) / x86_64 | OK | OK | |
moscato2 | Windows Server 2008 R2 Enterprise SP1 (64-bit) / x64 | OK | OK | OK |
petty | Mac OS X Leopard (10.5.8) / i386 | OK | [ OK ] | OK |
* installing *source* package 'ternarynet' ...
** libs
*** arch - i386
g++ -arch i386 -I/Library/Frameworks/R.framework/Versions/2.15/Resources/include -I/Library/Frameworks/R.framework/Versions/2.15/Resources/include/i386 -DNDEBUG -I/usr/local/include -fPIC -g -O2 -Wall -fasm-blocks -c tnetfit.cc -o tnetfit.o
tnetfit.cc: In function 'SEXPREC* tnetfit(SEXPREC*, SEXPREC*, SEXPREC*, SEXPREC*, SEXPREC*, SEXPREC*, SEXPREC*, SEXPREC*, SEXPREC*, SEXPREC*, SEXPREC*, SEXPREC*, SEXPREC*, SEXPREC*, SEXPREC*, SEXPREC*, SEXPREC*, SEXPREC*, SEXPREC*, SEXPREC*, SEXPREC*, SEXPREC*)':
tnetfit.cc:73: warning: unused variable 'tempi'
tnetfit.cc:98: warning: 'muci_old' may be used uninitialized in this function
tnetfit.cc:98: warning: 'sigmaci' may be used uninitialized in this function
tnetfit.cc:98: warning: 'sigma0' may be used uninitialized in this function
tnetfit.cc:77: warning: 'newScore' may be used uninitialized in this function
g++ -arch i386 -I/Library/Frameworks/R.framework/Versions/2.15/Resources/include -I/Library/Frameworks/R.framework/Versions/2.15/Resources/include/i386 -DNDEBUG -I/usr/local/include -fPIC -g -O2 -Wall -fasm-blocks -c tnetfuncs.cc -o tnetfuncs.o
tnetfuncs.cc: In function 'double AttractorDistanceForced(int, int, int, int, double, int*, int*, int*, const double*, const int*)':
tnetfuncs.cc:427: warning: unused variable 'tableWidth'
tnetfuncs.cc:435: warning: unused variable 'ipause'
tnetfuncs.cc: In function 'double initialTemp(double, int, int, int, int, int, double, double, double, int, const double*, int*, int*, int*, const double*, const int*)':
tnetfuncs.cc:517: warning: unused variable 'ipause'
tnetfuncs.cc:521: warning: unused variable 'i'
g++ -arch i386 -I/Library/Frameworks/R.framework/Versions/2.15/Resources/include -I/Library/Frameworks/R.framework/Versions/2.15/Resources/include/i386 -DNDEBUG -I/usr/local/include -fPIC -g -O2 -Wall -fasm-blocks -c tnetpost.cc -o tnetpost.o
tnetpost.cc: In function 'SEXPREC* tnetpost(SEXPREC*, SEXPREC*, SEXPREC*, SEXPREC*, SEXPREC*, SEXPREC*, SEXPREC*, SEXPREC*, SEXPREC*, SEXPREC*, SEXPREC*, SEXPREC*, SEXPREC*, SEXPREC*, SEXPREC*, SEXPREC*, SEXPREC*, SEXPREC*, SEXPREC*, SEXPREC*, SEXPREC*, SEXPREC*, SEXPREC*, SEXPREC*, SEXPREC*, SEXPREC*, SEXPREC*, SEXPREC*, SEXPREC*, SEXPREC*, SEXPREC*, SEXPREC*)':
tnetpost.cc:25: warning: unused variable 'ipause'
tnetpost.cc:27: warning: unused variable 'm0fit'
tnetpost.cc:28: warning: unused variable 'finalScore'
tnetpost.cc:30: warning: unused variable 'l0'
tnetpost.cc:30: warning: unused variable 'stage_count'
tnetpost.cc:30: warning: unused variable 'tempi'
tnetpost.cc:30: warning: unused variable 'jtrans'
tnetpost.cc:30: warning: unused variable 'nTransition'
g++ -arch i386 -dynamiclib -Wl,-headerpad_max_install_names -undefined dynamic_lookup -single_module -multiply_defined suppress -L/usr/local/lib -o ternarynet.so tnetfit.o tnetfuncs.o tnetpost.o -F/Library/Frameworks/R.framework/.. -framework R -Wl,-framework -Wl,CoreFoundation
installing to /Users/biocbuild/bbs-2.10-bioc/meat/ternarynet.Rcheck/ternarynet/libs/i386
** R
** inst
** preparing package for lazy loading
** help
*** installing help indices
** building package indices
** installing vignettes
'ternarynet.Rnw'
** testing if installed package can be loaded
* DONE (ternarynet)