Back to the "Multiple platform build/check report" A  B  C  D  E  F  G  H  I  J  K  L  M  N  O  P  Q  R  S  T  U  V  W [X] Y  Z 

Package 552/554HostnameOS / ArchBUILDCHECKBUILD BIN
xps 1.16.0
Christian Stratowa
Snapshot Date: 2012-03-31 17:01:49 -0700 (Sat, 31 Mar 2012)
URL: https://hedgehog.fhcrc.org/bioconductor/branches/RELEASE_2_10/madman/Rpacks/xps
Last Changed Rev: 64678 / Revision: 64719
Last Changed Date: 2012-03-30 15:05:02 -0700 (Fri, 30 Mar 2012)
lamb2 Linux (openSUSE 11.4) / x86_64  OK  OK 
puck5 Linux (Ubuntu 12.04) / x86_64 [ ERROR ] skipped 
moscato2 Windows Server 2008 R2 Enterprise SP1 (64-bit) / x64 N O T   S U P P O R T E D
petty Mac OS X Leopard (10.5.8) / i386  OK  OK  OK 

Summary

Package: xps
Version: 1.16.0
Command: /home/hpages/test-puck5/bbs-2.10-bioc/R/bin/R CMD build --keep-empty-dirs --no-resave-data xps
StartedAt: 2012-03-31 20:49:43 -0700 (Sat, 31 Mar 2012)
EndedAt: 2012-03-31 20:49:46 -0700 (Sat, 31 Mar 2012)
EllapsedTime: 2.7 seconds
RetCode: 1
Status:  ERROR 
PackageFile: None
PackageFileSize: NA

Command output

* checking for file 'xps/DESCRIPTION' ... OK
* preparing 'xps':
* checking DESCRIPTION meta-information ... OK
* cleaning src
* installing the package to re-build vignettes
      -----------------------------------
* installing *source* package 'xps' ...
checking for gcc... gcc -std=gnu99
checking for C compiler default output file name... a.out
checking whether the C compiler works... yes
checking whether we are cross compiling... no
checking for suffix of executables... 
checking for suffix of object files... o
checking whether we are using the GNU C compiler... yes
checking whether gcc -std=gnu99 accepts -g... yes
checking for gcc -std=gnu99 option to accept ANSI C... none needed
checking how to run the C preprocessor... gcc -std=gnu99 -E
checking for gcc... (cached) gcc -std=gnu99
checking whether we are using the GNU C compiler... (cached) yes
checking whether gcc -std=gnu99 accepts -g... (cached) yes
checking for gcc -std=gnu99 option to accept ANSI C... (cached) none needed
checking for root-config... no

xps configuration error:

   You must set the shell variable ROOTSYS to the
   directory where ROOT resides and re-run R CMD INSTALL
   e.g., (using Bourne shell syntax):

      export ROOTSYS=/opt/root
      export "PATH=$ROOTSYS/bin:$PATH" 
      R CMD INSTALL xps

   Please consult the README file for more information

ERROR: configuration failed for package 'xps'
* removing '/tmp/RtmppKpMjv/Rinst63e8205af967/xps'
      -----------------------------------
ERROR: package installation failed