Back to the "Multiple platform build/check report"[A] B  C  D  E  F  G  H  I  J  K  L  M  N  O  P  Q  R  S  T  U  V  W  X  Y  Z 

Package 34/554HostnameOS / ArchBUILDCHECKBUILD BIN
AnnotationDbi 1.18.0
Bioconductor Package Maintainer
Snapshot Date: 2012-03-31 17:01:49 -0700 (Sat, 31 Mar 2012)
URL: https://hedgehog.fhcrc.org/bioconductor/branches/RELEASE_2_10/madman/Rpacks/AnnotationDbi
Last Changed Rev: 64678 / Revision: 64719
Last Changed Date: 2012-03-30 15:05:02 -0700 (Fri, 30 Mar 2012)
lamb2 Linux (openSUSE 11.4) / x86_64  OK  OK 
puck5 Linux (Ubuntu 12.04) / x86_64  OK [ OK ]
moscato2 Windows Server 2008 R2 Enterprise SP1 (64-bit) / x64  OK  OK  OK 
petty Mac OS X Leopard (10.5.8) / i386  OK  OK  OK 

Summary

Package: AnnotationDbi
Version: 1.18.0
Command: /home/hpages/test-puck5/bbs-2.10-bioc/R/bin/R CMD check --no-vignettes --timings AnnotationDbi_1.18.0.tar.gz
StartedAt: 2012-03-31 23:33:08 -0700 (Sat, 31 Mar 2012)
EndedAt: 2012-03-31 23:38:59 -0700 (Sat, 31 Mar 2012)
EllapsedTime: 350.6 seconds
RetCode: 0
Status:  OK 
CheckDir: AnnotationDbi.Rcheck
Warnings: 0

Command output

* using log directory '/loc/home/hpages/test-puck5/bbs-2.10-bioc/meat/AnnotationDbi.Rcheck'
* using R version 2.15.0 RC (2012-03-22 r58802)
* using platform: x86_64-unknown-linux-gnu (64-bit)
* using session charset: ISO8859-1
* using option '--no-vignettes'
* checking for file 'AnnotationDbi/DESCRIPTION' ... OK
* this is package 'AnnotationDbi' version '1.18.0'
* checking package namespace information ... OK
* checking package dependencies ... OK
* checking if this is a source package ... OK
* checking if there is a namespace ... OK
* checking whether package 'AnnotationDbi' can be installed ... OK
* checking installed package size ... NOTE
  installed size is 11.3Mb
  sub-directories of 1Mb or more:
    AnnDbPkg-templates   5.2Mb
    doc                  1.0Mb
    extdata              3.2Mb
* checking package directory ... OK
* checking for portable file names ... OK
* checking for sufficient/correct file permissions ... OK
* checking DESCRIPTION meta-information ... OK
* checking top-level files ... OK
* checking index information ... OK
* checking package subdirectories ... OK
* checking R files for non-ASCII characters ... OK
* checking R files for syntax errors ... OK
* checking whether the package can be loaded ... OK
* checking whether the package can be loaded with stated dependencies ... OK
* checking whether the package can be unloaded cleanly ... OK
* checking whether the namespace can be loaded with stated dependencies ... OK
* checking whether the namespace can be unloaded cleanly ... OK
* checking for unstated dependencies in R code ... OK
* checking S3 generic/method consistency ... OK
* checking replacement functions ... OK
* checking foreign function calls ... OK
* checking R code for possible problems ... NOTE
File 'AnnotationDbi/R/zzz.R':
  .onLoad calls:
    require("methods", quietly = TRUE)

Package startup functions should not change the search path.
See section 'Good practice' in ?.onAttach.

.getSubNodeInfo: no visible global function definition for 'Stop'
.valid.metadata.table: no visible binding for global variable
  'DB_TYPE_NAME'
annotMessage: no visible binding for global variable 'pkgName'
cleanSrcMap: warning in strsplit(id, split = ";", fix = T): partial
  argument match of 'fix' to 'fixed'
createORGANISMSeeds: no visible global function definition for
  'makeAnnDbMapSeeds'
makeBaseMaps: warning in strsplit(eg, split = " /// ", fix = T):
  partial argument match of 'fix' to 'fixed'
* checking Rd files ... OK
* checking Rd metadata ... OK
* checking Rd cross-references ... OK
* checking for missing documentation entries ... OK
* checking for code/documentation mismatches ... OK
* checking Rd \usage sections ... OK
* checking Rd contents ... OK
* checking for unstated dependencies in examples ... OK
* checking installed files from 'inst/doc' ... OK
* checking examples ... OK
* checking for unstated dependencies in tests ... OK
* checking tests ...
  Running 'AnnotationDbi_unit_tests.R'
 OK
* checking for unstated dependencies in vignettes ... OK
* checking package vignettes in 'inst/doc' ... OK
* checking running R code from vignettes ... SKIPPED
* checking re-building of vignettes ... SKIPPED
* checking PDF version of manual ... OK

NOTE: There were 2 notes.
See
  '/loc/home/hpages/test-puck5/bbs-2.10-bioc/meat/AnnotationDbi.Rcheck/00check.log'
for details.

AnnotationDbi.Rcheck/00install.out:

* installing *source* package 'AnnotationDbi' ...
** R
** inst
** preparing package for lazy loading
Creating a generic function for 'toString' from package 'base' in package 'AnnotationDbi'
Creating a generic function for 'rev' from package 'base' in package 'AnnotationDbi'
Creating a generic function for 'subset' from package 'base' in package 'AnnotationDbi'
Creating a generic function for 'as.data.frame' from package 'base' in package 'AnnotationDbi'
Creating a generic function for 'head' from package 'utils' in package 'AnnotationDbi'
Creating a generic function for 'tail' from package 'utils' in package 'AnnotationDbi'
Creating a generic function for 'as.list' from package 'base' in package 'AnnotationDbi'
Creating a generic function for 'ls' from package 'base' in package 'AnnotationDbi'
Creating a generic function for 'eapply' from package 'base' in package 'AnnotationDbi'
Creating a generic function for 'exists' from package 'base' in package 'AnnotationDbi'
Creating a generic function for 'sample' from package 'base' in package 'AnnotationDbi'
** help
*** installing help indices
** building package indices
** installing vignettes
   'AnnotationDbi.Rnw' 
   'IntroToAnnotationPackages.Rnw' 
   'NewSchema.Rnw' 
   'SQLForge.Rnw' 
   'makeProbePackage.Rnw' 
** testing if installed package can be loaded

* DONE (AnnotationDbi)

AnnotationDbi.Rcheck/AnnotationDbi-Ex.timings:

nameusersystemelapsed
AnnDbBimap-envirAPI1.0720.2001.330
AnnDbObj-class0.3880.0160.472
AnnDbPkg-checker131.864 0.836132.800
AnnDbPkg-maker0.0400.0000.042
AnnotationDb-class2.6320.0162.674
Bimap-direction7.4570.0287.514
Bimap-keys2.5840.0082.633
Bimap-toTable4.2960.0164.323
Bimap4.0960.0164.140
BimapFiltering0.6200.0120.654
BimapFormatting1.6280.0041.651
GOFrame4.8252.5647.439
GOTerms-class0.0000.0000.002
KEGGFrame0.8640.0080.912
NCBI_getters000
available.db0pkgs0.0720.0080.089
createSimpleBimap0.4960.0040.524
getProbeDataAffy0.0000.0000.001
getProbeData_1lq0.0000.0000.001
inpIDMapper0.0000.0000.001
makeOrgPackage0.0000.0000.001
makeProbePackage8.0560.1048.396
make_eg_to_go_map0.7160.0160.753
print.probetable1.6240.0681.694
sqlForge-makeCHIPDB000
sqlForge-popDB0.0040.0000.001
sqlForge-wrapDBPackages000
toSQLStringSet0.0000.0000.002
unlist20.5370.0120.578