Back to the "Multiple platform build/check report" A  B  C [D] E  F  G  H  I  J  K  L  M  N  O  P  Q  R  S  T  U  V  W  X  Y  Z 

Package 142/554HostnameOS / ArchBUILDCHECKBUILD BIN
DECIPHER 1.2.0
Erik Wright
Snapshot Date: 2012-03-31 17:01:49 -0700 (Sat, 31 Mar 2012)
URL: https://hedgehog.fhcrc.org/bioconductor/branches/RELEASE_2_10/madman/Rpacks/DECIPHER
Last Changed Rev: 64678 / Revision: 64719
Last Changed Date: 2012-03-30 15:05:02 -0700 (Fri, 30 Mar 2012)
lamb2 Linux (openSUSE 11.4) / x86_64  OK  OK 
puck5 Linux (Ubuntu 12.04) / x86_64  OK [ OK ]
moscato2 Windows Server 2008 R2 Enterprise SP1 (64-bit) / x64  OK  OK  OK 
petty Mac OS X Leopard (10.5.8) / i386  OK  OK  OK 

Summary

Package: DECIPHER
Version: 1.2.0
Command: /home/hpages/test-puck5/bbs-2.10-bioc/R/bin/R CMD check --no-vignettes --timings DECIPHER_1.2.0.tar.gz
StartedAt: 2012-04-01 00:33:58 -0700 (Sun, 01 Apr 2012)
EndedAt: 2012-04-01 00:35:23 -0700 (Sun, 01 Apr 2012)
EllapsedTime: 85.6 seconds
RetCode: 0
Status:  OK 
CheckDir: DECIPHER.Rcheck
Warnings: 0

Command output

* using log directory '/loc/home/hpages/test-puck5/bbs-2.10-bioc/meat/DECIPHER.Rcheck'
* using R version 2.15.0 RC (2012-03-22 r58802)
* using platform: x86_64-unknown-linux-gnu (64-bit)
* using session charset: ISO8859-1
* using option '--no-vignettes'
* checking for file 'DECIPHER/DESCRIPTION' ... OK
* checking extension type ... Package
* this is package 'DECIPHER' version '1.2.0'
* checking package namespace information ... OK
* checking package dependencies ... OK
* checking if this is a source package ... OK
* checking if there is a namespace ... OK
* checking whether package 'DECIPHER' can be installed ... OK
* checking installed package size ... OK
* checking package directory ... OK
* checking for portable file names ... OK
* checking for sufficient/correct file permissions ... OK
* checking DESCRIPTION meta-information ... OK
* checking top-level files ... OK
* checking index information ... OK
* checking package subdirectories ... OK
* checking R files for non-ASCII characters ... OK
* checking R files for syntax errors ... OK
* checking whether the package can be loaded ... OK
* checking whether the package can be loaded with stated dependencies ... OK
* checking whether the package can be unloaded cleanly ... OK
* checking whether the namespace can be loaded with stated dependencies ... OK
* checking whether the namespace can be unloaded cleanly ... OK
* checking for unstated dependencies in R code ... OK
* checking S3 generic/method consistency ... OK
* checking replacement functions ... OK
* checking foreign function calls ... OK
* checking R code for possible problems ... NOTE
CreateChimeras: no visible binding for global variable 's1'
CreateChimeras: no visible binding for global variable 'd'
CreateChimeras: no visible binding for global variable 'myName'
FindChimeras: warning in SearchDB(dbConn2, id = group, verbose = FALSE,
  limit = maxGroupSize, ... = "nonbases < 20"): partial argument match
  of 'id' to 'identifier'
FindChimeras: warning in SearchDB(dbConn2, id = group, verbose = FALSE,
  limit = maxGroupSize, ... = "chimera is NULL and nonbases < 20"):
  partial argument match of 'id' to 'identifier'
FindChimeras: warning in SearchDB(dbConn1, tblName = tblName, id =
  group, replaceChar = "", removeGaps = "all", verbose = FALSE):
  partial argument match of 'id' to 'identifier'
FindChimeras: warning in SearchDB(dbConn1, tblName = tblName, id =
  group, replaceChar = "", removeGaps = "all", verbose = FALSE, ... =
  "chimera is NULL"): partial argument match of 'id' to 'identifier'
FindChimeras: warning in PDict(temp_fragments, algo = "ACtree2", tb.end
  = tb.width): partial argument match of 'algo' to 'algorithm'
FindChimeras: warning in PDict(temp_fragments, algo = "ACtree2",
  tb.start = tb.width + 1, tb.end = 2 * tb.width): partial argument
  match of 'algo' to 'algorithm'
FindChimeras: warning in PDict(fragments[h], algo = "ACtree2", tb.end =
  tb.width): partial argument match of 'algo' to 'algorithm'
FindChimeras: warning in SearchDB(dbConn2, id = other, verbose = FALSE,
  limit = maxGroupSize, ... = "nonbases < 20"): partial argument match
  of 'id' to 'identifier'
FindChimeras: warning in SearchDB(dbConn2, id = other, verbose = FALSE,
  limit = maxGroupSize, ... = "nonbases < 20 and chimera is NULL"):
  partial argument match of 'id' to 'identifier'
FindChimeras: warning in round(100 * coverage/(end - start + 1), d =
  2): partial argument match of 'd' to 'digits'
* checking Rd files ... OK
* checking Rd metadata ... OK
* checking Rd cross-references ... OK
* checking for missing documentation entries ... OK
* checking for code/documentation mismatches ... OK
* checking Rd \usage sections ... OK
* checking Rd contents ... OK
* checking for unstated dependencies in examples ... OK
* checking contents of 'data' directory ... OK
* checking data for non-ASCII characters ... OK
* checking data for ASCII and uncompressed saves ... OK
* checking line endings in C/C++/Fortran sources/headers ... OK
* checking line endings in Makefiles ... OK
* checking for portable compilation flags in Makevars ... OK
* checking for portable use of $(BLAS_LIBS) and $(LAPACK_LIBS) ... OK
* checking compiled code ... OK
* checking installed files from 'inst/doc' ... OK
* checking examples ... OK
* checking for unstated dependencies in vignettes ... OK
* checking package vignettes in 'inst/doc' ... OK
* checking running R code from vignettes ... SKIPPED
* checking re-building of vignettes ... SKIPPED
* checking PDF version of manual ... OK

NOTE: There was 1 note.
See
  '/loc/home/hpages/test-puck5/bbs-2.10-bioc/meat/DECIPHER.Rcheck/00check.log'
for details.

DECIPHER.Rcheck/00install.out:

* installing *source* package 'DECIPHER' ...
** libs
gcc -std=gnu99 -I/home/hpages/test-puck5/bbs-2.10-bioc/R/include -DNDEBUG  -I/usr/local/include -I"/loc/home/hpages/test-puck5/bbs-2.10-bioc/R/library/Biostrings/include" -I"/loc/home/hpages/test-puck5/bbs-2.10-bioc/R/library/RSQLite/include" -I"/loc/home/hpages/test-puck5/bbs-2.10-bioc/R/library/IRanges/include" -I"/loc/home/hpages/test-puck5/bbs-2.10-bioc/R/library/stats/include"  -fopenmp -fpic  -g -O2  -c Biostrings_stubs.c -o Biostrings_stubs.o
gcc -std=gnu99 -I/home/hpages/test-puck5/bbs-2.10-bioc/R/include -DNDEBUG  -I/usr/local/include -I"/loc/home/hpages/test-puck5/bbs-2.10-bioc/R/library/Biostrings/include" -I"/loc/home/hpages/test-puck5/bbs-2.10-bioc/R/library/RSQLite/include" -I"/loc/home/hpages/test-puck5/bbs-2.10-bioc/R/library/IRanges/include" -I"/loc/home/hpages/test-puck5/bbs-2.10-bioc/R/library/stats/include"  -fopenmp -fpic  -g -O2  -c CalculateDeltaG.c -o CalculateDeltaG.o
gcc -std=gnu99 -I/home/hpages/test-puck5/bbs-2.10-bioc/R/include -DNDEBUG  -I/usr/local/include -I"/loc/home/hpages/test-puck5/bbs-2.10-bioc/R/library/Biostrings/include" -I"/loc/home/hpages/test-puck5/bbs-2.10-bioc/R/library/RSQLite/include" -I"/loc/home/hpages/test-puck5/bbs-2.10-bioc/R/library/IRanges/include" -I"/loc/home/hpages/test-puck5/bbs-2.10-bioc/R/library/stats/include"  -fopenmp -fpic  -g -O2  -c ClusterML.c -o ClusterML.o
gcc -std=gnu99 -I/home/hpages/test-puck5/bbs-2.10-bioc/R/include -DNDEBUG  -I/usr/local/include -I"/loc/home/hpages/test-puck5/bbs-2.10-bioc/R/library/Biostrings/include" -I"/loc/home/hpages/test-puck5/bbs-2.10-bioc/R/library/RSQLite/include" -I"/loc/home/hpages/test-puck5/bbs-2.10-bioc/R/library/IRanges/include" -I"/loc/home/hpages/test-puck5/bbs-2.10-bioc/R/library/stats/include"  -fopenmp -fpic  -g -O2  -c ClusterNJ.c -o ClusterNJ.o
gcc -std=gnu99 -I/home/hpages/test-puck5/bbs-2.10-bioc/R/include -DNDEBUG  -I/usr/local/include -I"/loc/home/hpages/test-puck5/bbs-2.10-bioc/R/library/Biostrings/include" -I"/loc/home/hpages/test-puck5/bbs-2.10-bioc/R/library/RSQLite/include" -I"/loc/home/hpages/test-puck5/bbs-2.10-bioc/R/library/IRanges/include" -I"/loc/home/hpages/test-puck5/bbs-2.10-bioc/R/library/stats/include"  -fopenmp -fpic  -g -O2  -c ClusterUPGMA.c -o ClusterUPGMA.o
gcc -std=gnu99 -I/home/hpages/test-puck5/bbs-2.10-bioc/R/include -DNDEBUG  -I/usr/local/include -I"/loc/home/hpages/test-puck5/bbs-2.10-bioc/R/library/Biostrings/include" -I"/loc/home/hpages/test-puck5/bbs-2.10-bioc/R/library/RSQLite/include" -I"/loc/home/hpages/test-puck5/bbs-2.10-bioc/R/library/IRanges/include" -I"/loc/home/hpages/test-puck5/bbs-2.10-bioc/R/library/stats/include"  -fopenmp -fpic  -g -O2  -c CommonGaps.c -o CommonGaps.o
gcc -std=gnu99 -I/home/hpages/test-puck5/bbs-2.10-bioc/R/include -DNDEBUG  -I/usr/local/include -I"/loc/home/hpages/test-puck5/bbs-2.10-bioc/R/library/Biostrings/include" -I"/loc/home/hpages/test-puck5/bbs-2.10-bioc/R/library/RSQLite/include" -I"/loc/home/hpages/test-puck5/bbs-2.10-bioc/R/library/IRanges/include" -I"/loc/home/hpages/test-puck5/bbs-2.10-bioc/R/library/stats/include"  -fopenmp -fpic  -g -O2  -c ConsensusSequence.c -o ConsensusSequence.o
gcc -std=gnu99 -I/home/hpages/test-puck5/bbs-2.10-bioc/R/include -DNDEBUG  -I/usr/local/include -I"/loc/home/hpages/test-puck5/bbs-2.10-bioc/R/library/Biostrings/include" -I"/loc/home/hpages/test-puck5/bbs-2.10-bioc/R/library/RSQLite/include" -I"/loc/home/hpages/test-puck5/bbs-2.10-bioc/R/library/IRanges/include" -I"/loc/home/hpages/test-puck5/bbs-2.10-bioc/R/library/stats/include"  -fopenmp -fpic  -g -O2  -c DistanceMatrix.c -o DistanceMatrix.o
gcc -std=gnu99 -I/home/hpages/test-puck5/bbs-2.10-bioc/R/include -DNDEBUG  -I/usr/local/include -I"/loc/home/hpages/test-puck5/bbs-2.10-bioc/R/library/Biostrings/include" -I"/loc/home/hpages/test-puck5/bbs-2.10-bioc/R/library/RSQLite/include" -I"/loc/home/hpages/test-puck5/bbs-2.10-bioc/R/library/IRanges/include" -I"/loc/home/hpages/test-puck5/bbs-2.10-bioc/R/library/stats/include"  -fopenmp -fpic  -g -O2  -c R_init_decipher.c -o R_init_decipher.o
gcc -std=gnu99 -I/home/hpages/test-puck5/bbs-2.10-bioc/R/include -DNDEBUG  -I/usr/local/include -I"/loc/home/hpages/test-puck5/bbs-2.10-bioc/R/library/Biostrings/include" -I"/loc/home/hpages/test-puck5/bbs-2.10-bioc/R/library/RSQLite/include" -I"/loc/home/hpages/test-puck5/bbs-2.10-bioc/R/library/IRanges/include" -I"/loc/home/hpages/test-puck5/bbs-2.10-bioc/R/library/stats/include"  -fopenmp -fpic  -g -O2  -c ReplaceChars.c -o ReplaceChars.o
gcc -std=gnu99 -shared -L/usr/local/lib -o DECIPHER.so Biostrings_stubs.o CalculateDeltaG.o ClusterML.o ClusterNJ.o ClusterUPGMA.o CommonGaps.o ConsensusSequence.o DistanceMatrix.o R_init_decipher.o ReplaceChars.o -fopenmp -L/home/hpages/test-puck5/bbs-2.10-bioc/R/lib -lR
installing to /loc/home/hpages/test-puck5/bbs-2.10-bioc/meat/DECIPHER.Rcheck/DECIPHER/libs
** R
** data
**  moving datasets to lazyload DB
** inst
** preparing package for lazy loading
** help
*** installing help indices
** building package indices
** installing vignettes
   'DECIPHERing.Rnw' 
   'FindChimeras.Rnw' 
** testing if installed package can be loaded

* DONE (DECIPHER)

DECIPHER.Rcheck/DECIPHER-Ex.timings:

nameusersystemelapsed
Add2DB0.6000.0200.626
BrowseDB0.0400.0040.053
BrowseSequences0.0800.0040.092
CalculateEfficiencyArray0.2960.0200.323
ConsensusSequence0.0120.0000.011
CreateChimeras2.4480.0361.502
DB2FASTA0.1680.0160.196
DistanceMatrix0.1200.0040.022
FindChimeras0.4960.0160.518
FormGroups0.0520.0000.053
IdClusters1.1680.0040.148
IdConsensus1.3320.0041.343
IdLengths0.0400.0040.049
IdentifyByRank0.0280.0040.038
SearchDB0.0200.0080.034
Seqs2DB0.5440.0120.564
TerminalChar0.0280.0000.034
deltaGrules0.0160.0040.024