Back to the "Multiple platform build/check report" A  B  C  D  E  F [G] H  I  J  K  L  M  N  O  P  Q  R  S  T  U  V  W  X  Y  Z 

Package 248/554HostnameOS / ArchBUILDCHECKBUILD BIN
GraphAlignment 1.18.0
Joern P. Meier
Snapshot Date: 2012-03-31 17:01:49 -0700 (Sat, 31 Mar 2012)
URL: https://hedgehog.fhcrc.org/bioconductor/branches/RELEASE_2_10/madman/Rpacks/GraphAlignment
Last Changed Rev: 64678 / Revision: 64719
Last Changed Date: 2012-03-30 15:05:02 -0700 (Fri, 30 Mar 2012)
lamb2 Linux (openSUSE 11.4) / x86_64  OK  OK 
puck5 Linux (Ubuntu 12.04) / x86_64  OK [ OK ]
moscato2 Windows Server 2008 R2 Enterprise SP1 (64-bit) / x64  OK  OK  OK 
petty Mac OS X Leopard (10.5.8) / i386  OK  OK  OK 

Summary

Package: GraphAlignment
Version: 1.18.0
Command: /home/hpages/test-puck5/bbs-2.10-bioc/R/bin/R CMD check --no-vignettes --timings GraphAlignment_1.18.0.tar.gz
StartedAt: 2012-04-01 01:29:53 -0700 (Sun, 01 Apr 2012)
EndedAt: 2012-04-01 01:30:08 -0700 (Sun, 01 Apr 2012)
EllapsedTime: 14.7 seconds
RetCode: 0
Status:  OK 
CheckDir: GraphAlignment.Rcheck
Warnings: 0

Command output

* using log directory '/loc/home/hpages/test-puck5/bbs-2.10-bioc/meat/GraphAlignment.Rcheck'
* using R version 2.15.0 RC (2012-03-22 r58802)
* using platform: x86_64-unknown-linux-gnu (64-bit)
* using session charset: ISO8859-1
* using option '--no-vignettes'
* checking for file 'GraphAlignment/DESCRIPTION' ... OK
* this is package 'GraphAlignment' version '1.18.0'
* checking package namespace information ... OK
* checking package dependencies ... OK
* checking if this is a source package ... OK
* checking if there is a namespace ... OK
* checking whether package 'GraphAlignment' can be installed ... OK
* checking installed package size ... OK
* checking package directory ... OK
* checking for portable file names ... OK
* checking for sufficient/correct file permissions ... OK
* checking DESCRIPTION meta-information ... OK
* checking top-level files ... OK
* checking index information ... OK
* checking package subdirectories ... OK
* checking R files for non-ASCII characters ... OK
* checking R files for syntax errors ... OK
* checking whether the package can be loaded ... OK
* checking whether the package can be loaded with stated dependencies ... OK
* checking whether the package can be unloaded cleanly ... OK
* checking whether the namespace can be loaded with stated dependencies ... OK
* checking whether the namespace can be unloaded cleanly ... OK
* checking for unstated dependencies in R code ... OK
* checking S3 generic/method consistency ... OK
* checking replacement functions ... OK
* checking foreign function calls ... OK
* checking R code for possible problems ... OK
* checking Rd files ... OK
* checking Rd metadata ... OK
* checking Rd cross-references ... OK
* checking for missing documentation entries ... OK
* checking for code/documentation mismatches ... OK
* checking Rd \usage sections ... OK
* checking Rd contents ... OK
* checking for unstated dependencies in examples ... OK
* checking line endings in C/C++/Fortran sources/headers ... OK
* checking line endings in Makefiles ... OK
* checking for portable use of $(BLAS_LIBS) and $(LAPACK_LIBS) ... OK
* checking compiled code ... NOTE
File '/loc/home/hpages/test-puck5/bbs-2.10-bioc/meat/GraphAlignment.Rcheck/GraphAlignment/libs/GraphAlignment.so':
  Found 'putchar', possibly from 'putchar' (C)
    Object: 'lap.o'

Compiled code should not call functions which might terminate R nor
write to stdout/stderr instead of to the console.

See 'Writing portable packages' in the 'Writing R Extensions' manual.
* checking installed files from 'inst/doc' ... OK
* checking examples ... OK
* checking for unstated dependencies in vignettes ... OK
* checking package vignettes in 'inst/doc' ... OK
* checking running R code from vignettes ... SKIPPED
* checking re-building of vignettes ... SKIPPED
* checking PDF version of manual ... OK

NOTE: There was 1 note.
See
  '/loc/home/hpages/test-puck5/bbs-2.10-bioc/meat/GraphAlignment.Rcheck/00check.log'
for details.

GraphAlignment.Rcheck/00install.out:

* installing *source* package 'GraphAlignment' ...
** libs
gcc -std=gnu99 -I/home/hpages/test-puck5/bbs-2.10-bioc/R/include -DNDEBUG  -I/usr/local/include    -fpic  -g -O2  -c GA_alloc.c -o GA_alloc.o
gcc -std=gnu99 -I/home/hpages/test-puck5/bbs-2.10-bioc/R/include -DNDEBUG  -I/usr/local/include    -fpic  -g -O2  -c GA_matrix.c -o GA_matrix.o
gcc -std=gnu99 -I/home/hpages/test-puck5/bbs-2.10-bioc/R/include -DNDEBUG  -I/usr/local/include    -fpic  -g -O2  -c GA_matrix_R.c -o GA_matrix_R.o
gcc -std=gnu99 -I/home/hpages/test-puck5/bbs-2.10-bioc/R/include -DNDEBUG  -I/usr/local/include    -fpic  -g -O2  -c GA_message.c -o GA_message.o
gcc -std=gnu99 -I/home/hpages/test-puck5/bbs-2.10-bioc/R/include -DNDEBUG  -I/usr/local/include    -fpic  -g -O2  -c GA_vector.c -o GA_vector.o
gcc -std=gnu99 -I/home/hpages/test-puck5/bbs-2.10-bioc/R/include -DNDEBUG  -I/usr/local/include    -fpic  -g -O2  -c GA_vector_R.c -o GA_vector_R.o
gcc -std=gnu99 -I/home/hpages/test-puck5/bbs-2.10-bioc/R/include -DNDEBUG  -I/usr/local/include    -fpic  -g -O2  -c GraphAlignment.c -o GraphAlignment.o
gcc -std=gnu99 -I/home/hpages/test-puck5/bbs-2.10-bioc/R/include -DNDEBUG  -I/usr/local/include    -fpic  -g -O2  -c lap.c -o lap.o
lap.c: In function 'LAP_checklap':
lap.c:348:14: warning: ignoring return value of 'scanf', declared with attribute warn_unused_result [-Wunused-result]
lap.c:358:12: warning: ignoring return value of 'scanf', declared with attribute warn_unused_result [-Wunused-result]
lap.c:371:12: warning: ignoring return value of 'scanf', declared with attribute warn_unused_result [-Wunused-result]
lap.c:384:12: warning: ignoring return value of 'scanf', declared with attribute warn_unused_result [-Wunused-result]
lap.c:394:12: warning: ignoring return value of 'scanf', declared with attribute warn_unused_result [-Wunused-result]
gcc -std=gnu99 -shared -L/usr/local/lib -o GraphAlignment.so GA_alloc.o GA_matrix.o GA_matrix_R.o GA_message.o GA_vector.o GA_vector_R.o GraphAlignment.o lap.o -L/home/hpages/test-puck5/bbs-2.10-bioc/R/lib -lR
installing to /loc/home/hpages/test-puck5/bbs-2.10-bioc/meat/GraphAlignment.Rcheck/GraphAlignment/libs
** R
** inst
** preparing package for lazy loading
** help
*** installing help indices
** building package indices
** installing vignettes
   'GraphAlignment.Rnw' 
** testing if installed package can be loaded

* DONE (GraphAlignment)

GraphAlignment.Rcheck/GraphAlignment-Ex.timings:

nameusersystemelapsed
AlignNetworks0.0760.0000.074
AlignedPairs0.0680.0000.067
AnalyzeAlignment0.0720.0000.074
ComputeLinkParameters0.0280.0000.032
ComputeM0.0400.0040.047
ComputeNodeParameters0.0160.0000.012
ComputeScores0.1040.0000.106
CreateScoreMatrix0.0000.0040.003
EncodeDirectedGraph0.0000.0000.001
GenerateExample0.0000.0000.001
GetBinNumber000
InitialAlignment0.0000.0000.001
InvertPermutation0.0040.0000.000
LinearAssignment000
MatrixToBin0.0000.0000.002
Permute0.0040.0000.001
Trace000
VectorToBin000