Rsubread 1.6.4 Wei Shi
Snapshot Date: 2012-09-23 17:01:39 -0700 (Sun, 23 Sep 2012) | URL: https://hedgehog.fhcrc.org/bioconductor/branches/RELEASE_2_10/madman/Rpacks/Rsubread | Last Changed Rev: 66516 / Revision: 69725 | Last Changed Date: 2012-06-07 18:57:49 -0700 (Thu, 07 Jun 2012) |
| lamb2 | Linux (openSUSE 11.4) / x86_64 | OK | [ OK ] | |
moscato2 | Windows Server 2008 R2 Enterprise SP1 (64-bit) / x64 | N O T S U P P O R T E D |
petty | Mac OS X Leopard (10.5.8) / i386 | N O T S U P P O R T E D |
* using log directory ‘/loc/home/biocbuild/bbs-2.10-bioc/meat/Rsubread.Rcheck’
* using R version 2.15.1 (2012-06-22)
* using platform: x86_64-unknown-linux-gnu (64-bit)
* using session charset: UTF-8
* using option ‘--no-vignettes’
* checking for file ‘Rsubread/DESCRIPTION’ ... OK
* checking extension type ... Package
* this is package ‘Rsubread’ version ‘1.6.4’
* checking package namespace information ... OK
* checking package dependencies ... OK
* checking if this is a source package ... OK
* checking if there is a namespace ... OK
* checking whether package ‘Rsubread’ can be installed ... OK
* checking installed package size ... NOTE
installed size is 84.1Mb
sub-directories of 1Mb or more:
annot 82.5Mb
* checking package directory ... OK
* checking for portable file names ... OK
* checking for sufficient/correct file permissions ... OK
* checking DESCRIPTION meta-information ... OK
* checking top-level files ... OK
* checking index information ... OK
* checking package subdirectories ... OK
* checking R files for non-ASCII characters ... OK
* checking R files for syntax errors ... OK
* checking whether the package can be loaded ... OK
* checking whether the package can be loaded with stated dependencies ... OK
* checking whether the package can be unloaded cleanly ... OK
* checking whether the namespace can be loaded with stated dependencies ... OK
* checking whether the namespace can be unloaded cleanly ... OK
* checking for unstated dependencies in R code ... OK
* checking S3 generic/method consistency ... OK
* checking replacement functions ... OK
* checking foreign function calls ... OK
* checking R code for possible problems ... OK
* checking Rd files ... NOTE
prepare_Rd: callSNPs.Rd:32: Dropping empty section \examples
prepare_Rd: featureCounts.Rd:54: Dropping empty section \examples
prepare_Rd: removeDupReads.Rd:27: Dropping empty section \examples
prepare_Rd: sam2bed.Rd:26-27: Dropping empty section \examples
prepare_Rd: subjunc.Rd:35-36: Dropping empty section \references
prepare_Rd: subjunc.Rd:40-41: Dropping empty section \examples
* checking Rd metadata ... OK
* checking Rd cross-references ... OK
* checking for missing documentation entries ... OK
* checking for code/documentation mismatches ... OK
* checking Rd \usage sections ... OK
* checking Rd contents ... OK
* checking for unstated dependencies in examples ... OK
* checking line endings in C/C++/Fortran sources/headers ... OK
* checking line endings in Makefiles ... OK
* checking for portable compilation flags in Makevars ... OK
* checking for portable use of $(BLAS_LIBS) and $(LAPACK_LIBS) ... OK
* checking compiled code ... NOTE
File ‘/loc/home/biocbuild/bbs-2.10-bioc/meat/Rsubread.Rcheck/Rsubread/libs/Rsubread.so’:
Found ‘exit’, possibly from ‘exit’ (C)
Objects: ‘SNP_calling.o’, ‘gene-algorithms.o’, ‘propmapped.o’,
‘readSummary.o’, ‘removeDuplicatedReads.o’, ‘sam2bed.o’
Found ‘printf’, possibly from ‘printf’ (C)
Objects: ‘SNP_calling.o’, ‘aligner.o’, ‘detectionCallAnnotation.o’,
‘exon-align.o’, ‘fullscan.o’, ‘gene-algorithms.o’,
‘index-builder.o’, ‘input-files.o’, ‘processExons.o’,
‘propmapped.o’, ‘readSummary.o’, ‘removeDuplicatedReads.o’,
‘sorted-hashtable.o’
Found ‘putchar’, possibly from ‘putchar’ (C)
Objects: ‘aligner.o’, ‘exon-align.o’, ‘gene-algorithms.o’,
‘index-builder.o’
Found ‘puts’, possibly from ‘printf’ (C), ‘puts’ (C)
Objects: ‘SNP_calling.o’, ‘aligner.o’, ‘detectionCallAnnotation.o’,
‘exon-align.o’, ‘fullscan.o’, ‘gene-algorithms.o’,
‘gene-value-index.o’, ‘index-builder.o’, ‘input-files.o’,
‘processExons.o’, ‘propmapped.o’, ‘readSummary.o’,
‘removeDuplicatedReads.o’, ‘sam2bed.o’, ‘sorted-hashtable.o’
Found ‘stdout’, possibly from ‘stdout’ (C)
Objects: ‘aligner.o’, ‘exon-align.o’, ‘gene-algorithms.o’,
‘index-builder.o’
Compiled code should not call functions which might terminate R nor
write to stdout/stderr instead of to the console.
See ‘Writing portable packages’ in the ‘Writing R Extensions’ manual.
* checking installed files from ‘inst/doc’ ... OK
* checking examples ... OK
* checking for unstated dependencies in vignettes ... OK
* checking package vignettes in ‘inst/doc’ ... OK
* checking running R code from vignettes ... SKIPPED
* checking re-building of vignettes ... SKIPPED
* checking PDF version of manual ... OK
NOTE: There were 3 notes.
See
‘/loc/home/biocbuild/bbs-2.10-bioc/meat/Rsubread.Rcheck/00check.log’
for details.
* installing *source* package ‘Rsubread’ ...
** libs
gcc -std=gnu99 -I/home/biocbuild/bbs-2.10-bioc/R/include -DNDEBUG -I/usr/local/include -DMAKE_FOR_EXON -fpic -g -O2 -Wall -c R_wrapper.c -o R_wrapper.o
gcc -std=gnu99 -I/home/biocbuild/bbs-2.10-bioc/R/include -DNDEBUG -I/usr/local/include -DMAKE_FOR_EXON -fpic -g -O2 -Wall -c SNP_calling.c -o SNP_calling.o
SNP_calling.c:881:3: warning: "/*" within comment
SNP_calling.c:901:3: warning: "/*" within comment
SNP_calling.c: In function ‘SNP_prepare_groups’:
SNP_calling.c:940:8: warning: unused variable ‘filename’
SNP_calling.c: In function ‘main_SNPcalling’:
SNP_calling.c:1110:1: warning: control reaches end of non-void function
SNP_calling.c: In function ‘prepare_working_units’:
SNP_calling.c:250:8: warning: ‘fseg’ may be used uninitialized in this function
SNP_calling.c:255:8: warning: ‘chr’ may be used uninitialized in this function
SNP_calling.c:257:10: warning: ‘base_length’ may be used uninitialized in this function
SNP_calling.c:258:6: warning: ‘this_chr_seg’ may be used uninitialized in this function
gcc -std=gnu99 -I/home/biocbuild/bbs-2.10-bioc/R/include -DNDEBUG -I/usr/local/include -DMAKE_FOR_EXON -fpic -g -O2 -Wall -c aligner.c -o aligner.o
gene-algorithms.h:24:13: warning: inline function ‘add_gene_vote_weighted’ declared but never defined
gene-algorithms.h:23:13: warning: inline function ‘add_gene_vote’ declared but never defined
gene-algorithms.h:24:13: warning: inline function ‘add_gene_vote_weighted’ declared but never defined
gene-algorithms.h:23:13: warning: inline function ‘add_gene_vote’ declared but never defined
gcc -std=gnu99 -I/home/biocbuild/bbs-2.10-bioc/R/include -DNDEBUG -I/usr/local/include -DMAKE_FOR_EXON -fpic -g -O2 -Wall -c atgcContent.c -o atgcContent.o
atgcContent.c: In function ‘retrieve_sequence’:
atgcContent.c:54:7: warning: unused variable ‘data_ready’
atgcContent.c:52:7: warning: unused variable ‘offset’
atgcContent.c:51:7: warning: unused variable ‘readlen’
atgcContent.c: In function ‘atgcContent’:
atgcContent.c:90:7: warning: ‘readlen’ may be used uninitialized in this function
gcc -std=gnu99 -I/home/biocbuild/bbs-2.10-bioc/R/include -DNDEBUG -I/usr/local/include -DMAKE_FOR_EXON -fpic -g -O2 -Wall -c detectionCall.c -o detectionCall.o
detectionCall.c: In function ‘build_ir_data_structure_map’:
detectionCall.c:156:32: warning: unused variable ‘read_entrezid’
detectionCall.c: In function ‘simplify_SAM_file’:
detectionCall.c:194:9: warning: unused variable ‘z’
gcc -std=gnu99 -I/home/biocbuild/bbs-2.10-bioc/R/include -DNDEBUG -I/usr/local/include -DMAKE_FOR_EXON -fpic -g -O2 -Wall -c detectionCallAnnotation.c -o detectionCallAnnotation.o
detectionCallAnnotation.c: In function ‘build_ir_data_structure’:
detectionCallAnnotation.c:96:32: warning: unused variable ‘read_length’
detectionCallAnnotation.c: In function ‘breakIntegenicRegion’:
detectionCallAnnotation.c:131:47: warning: unused variable ‘read_length’
detectionCallAnnotation.c:131:10: warning: unused variable ‘read_entrezid’
gcc -std=gnu99 -I/home/biocbuild/bbs-2.10-bioc/R/include -DNDEBUG -I/usr/local/include -DMAKE_FOR_EXON -fpic -g -O2 -Wall -c exon-algorithms.c -o exon-algorithms.o
gene-algorithms.h:24:13: warning: inline function ‘add_gene_vote_weighted’ declared but never defined
gene-algorithms.h:23:13: warning: inline function ‘add_gene_vote’ declared but never defined
gene-algorithms.h:24:13: warning: inline function ‘add_gene_vote_weighted’ declared but never defined
gene-algorithms.h:23:13: warning: inline function ‘add_gene_vote’ declared but never defined
gcc -std=gnu99 -I/home/biocbuild/bbs-2.10-bioc/R/include -DNDEBUG -I/usr/local/include -DMAKE_FOR_EXON -fpic -g -O2 -Wall -c exon-align.c -o exon-align.o
gene-algorithms.h:24:13: warning: inline function ‘add_gene_vote_weighted’ declared but never defined
gene-algorithms.h:23:13: warning: inline function ‘add_gene_vote’ declared but never defined
gene-algorithms.h:24:13: warning: inline function ‘add_gene_vote_weighted’ declared but never defined
gene-algorithms.h:23:13: warning: inline function ‘add_gene_vote’ declared but never defined
gcc -std=gnu99 -I/home/biocbuild/bbs-2.10-bioc/R/include -DNDEBUG -I/usr/local/include -DMAKE_FOR_EXON -fpic -g -O2 -Wall -c fullscan.c -o fullscan.o
gene-algorithms.h:24:13: warning: inline function ‘add_gene_vote_weighted’ declared but never defined
gene-algorithms.h:23:13: warning: inline function ‘add_gene_vote’ declared but never defined
gene-algorithms.h:24:13: warning: inline function ‘add_gene_vote_weighted’ declared but never defined
gene-algorithms.h:23:13: warning: inline function ‘add_gene_vote’ declared but never defined
gcc -std=gnu99 -I/home/biocbuild/bbs-2.10-bioc/R/include -DNDEBUG -I/usr/local/include -DMAKE_FOR_EXON -fpic -g -O2 -Wall -c gene-algorithms.c -o gene-algorithms.o
gcc -std=gnu99 -I/home/biocbuild/bbs-2.10-bioc/R/include -DNDEBUG -I/usr/local/include -DMAKE_FOR_EXON -fpic -g -O2 -Wall -c gene-value-index.c -o gene-value-index.o
gene-algorithms.h:24:13: warning: inline function ‘add_gene_vote_weighted’ declared but never defined
gene-algorithms.h:23:13: warning: inline function ‘add_gene_vote’ declared but never defined
gene-algorithms.h:24:13: warning: inline function ‘add_gene_vote_weighted’ declared but never defined
gene-algorithms.h:23:13: warning: inline function ‘add_gene_vote’ declared but never defined
gcc -std=gnu99 -I/home/biocbuild/bbs-2.10-bioc/R/include -DNDEBUG -I/usr/local/include -DMAKE_FOR_EXON -fpic -g -O2 -Wall -c hashtable.c -o hashtable.o
gcc -std=gnu99 -I/home/biocbuild/bbs-2.10-bioc/R/include -DNDEBUG -I/usr/local/include -DMAKE_FOR_EXON -fpic -g -O2 -Wall -c index-builder.c -o index-builder.o
gene-algorithms.h:24:13: warning: inline function ‘add_gene_vote_weighted’ declared but never defined
gene-algorithms.h:23:13: warning: inline function ‘add_gene_vote’ declared but never defined
gene-algorithms.h:24:13: warning: inline function ‘add_gene_vote_weighted’ declared but never defined
gene-algorithms.h:23:13: warning: inline function ‘add_gene_vote’ declared but never defined
gcc -std=gnu99 -I/home/biocbuild/bbs-2.10-bioc/R/include -DNDEBUG -I/usr/local/include -DMAKE_FOR_EXON -fpic -g -O2 -Wall -c input-files.c -o input-files.o
gcc -std=gnu99 -I/home/biocbuild/bbs-2.10-bioc/R/include -DNDEBUG -I/usr/local/include -DMAKE_FOR_EXON -fpic -g -O2 -Wall -c processExons.c -o processExons.o
processExons.c: In function ‘find_chr’:
processExons.c:216:10: warning: unused variable ‘pt’
gcc -std=gnu99 -I/home/biocbuild/bbs-2.10-bioc/R/include -DNDEBUG -I/usr/local/include -DMAKE_FOR_EXON -fpic -g -O2 -Wall -c propmapped.c -o propmapped.o
propmapped.c: In function ‘propmapped’:
propmapped.c:44:1: warning: control reaches end of non-void function
gcc -std=gnu99 -I/home/biocbuild/bbs-2.10-bioc/R/include -DNDEBUG -I/usr/local/include -DMAKE_FOR_EXON -fpic -g -O2 -Wall -c qualityScores.c -o qualityScores.o
qualityScores.c: In function ‘retrieve_scores’:
qualityScores.c:17:7: warning: unused variable ‘data_ready’
gcc -std=gnu99 -I/home/biocbuild/bbs-2.10-bioc/R/include -DNDEBUG -I/usr/local/include -DMAKE_FOR_EXON -fpic -g -O2 -Wall -c readSummary.c -o readSummary.o
readSummary.c: In function ‘readSummary’:
readSummary.c:122:3: warning: format ‘%d’ expects type ‘int’, but argument 5 has type ‘long int’
readSummary.c:122:3: warning: format ‘%d’ expects type ‘int’, but argument 6 has type ‘long int’
readSummary.c:134:1: warning: control reaches end of non-void function
readSummary.c:15:5: warning: ‘read_length’ may be used uninitialized in this function
gcc -std=gnu99 -I/home/biocbuild/bbs-2.10-bioc/R/include -DNDEBUG -I/usr/local/include -DMAKE_FOR_EXON -fpic -g -O2 -Wall -c removeDuplicatedReads.c -o removeDuplicatedReads.o
removeDuplicatedReads.c: In function ‘main_removeDuplicatedReads’:
removeDuplicatedReads.c:429:1: warning: control reaches end of non-void function
removeDuplicatedReads.c: In function ‘prepare_groups’:
removeDuplicatedReads.c:293:8: warning: ‘filename’ may be used uninitialized in this function
gcc -std=gnu99 -I/home/biocbuild/bbs-2.10-bioc/R/include -DNDEBUG -I/usr/local/include -DMAKE_FOR_EXON -fpic -g -O2 -Wall -c sam2bed.c -o sam2bed.o
sam2bed.c: In function ‘sam2bed’:
sam2bed.c:46:1: warning: control reaches end of non-void function
gcc -std=gnu99 -I/home/biocbuild/bbs-2.10-bioc/R/include -DNDEBUG -I/usr/local/include -DMAKE_FOR_EXON -fpic -g -O2 -Wall -c sorted-hashtable.c -o sorted-hashtable.o
gene-algorithms.h:24:13: warning: inline function ‘add_gene_vote_weighted’ declared but never defined
gene-algorithms.h:23:13: warning: inline function ‘add_gene_vote’ declared but never defined
gene-algorithms.h:24:13: warning: inline function ‘add_gene_vote_weighted’ declared but never defined
gene-algorithms.h:23:13: warning: inline function ‘add_gene_vote’ declared but never defined
gcc -std=gnu99 -shared -L/usr/local/lib64 -o Rsubread.so R_wrapper.o SNP_calling.o aligner.o atgcContent.o detectionCall.o detectionCallAnnotation.o exon-algorithms.o exon-align.o fullscan.o gene-algorithms.o gene-value-index.o hashtable.o index-builder.o input-files.o processExons.o propmapped.o qualityScores.o readSummary.o removeDuplicatedReads.o sam2bed.o sorted-hashtable.o -lpthread -DMAKE_FOR_EXON -L/home/biocbuild/bbs-2.10-bioc/R/lib -lR
installing to /loc/home/biocbuild/bbs-2.10-bioc/meat/Rsubread.Rcheck/Rsubread/libs
** R
** inst
** preparing package for lazy loading
** help
*** installing help indices
** building package indices
** installing vignettes
‘Rsubread.Rnw’
** testing if installed package can be loaded
* DONE (Rsubread)