Back to the "Multiple platform build/check report" A  B  C  D  E  F  G  H  I  J  K  L  M  N  O  P  Q  R [S] T  U  V  W  X  Y  Z 

Package 496/554HostnameOS / ArchBUILDCHECKBUILD BIN
SLGI 1.16.0
Nolwenn Le Meur
Snapshot Date: 2012-03-31 17:01:49 -0700 (Sat, 31 Mar 2012)
URL: https://hedgehog.fhcrc.org/bioconductor/branches/RELEASE_2_10/madman/Rpacks/SLGI
Last Changed Rev: 64678 / Revision: 64719
Last Changed Date: 2012-03-30 15:05:02 -0700 (Fri, 30 Mar 2012)
lamb2 Linux (openSUSE 11.4) / x86_64  OK  OK 
puck5 Linux (Ubuntu 12.04) / x86_64  OK [ OK ]
moscato2 Windows Server 2008 R2 Enterprise SP1 (64-bit) / x64  OK  OK  OK 
petty Mac OS X Leopard (10.5.8) / i386  OK  OK  OK 

Summary

Package: SLGI
Version: 1.16.0
Command: /home/hpages/test-puck5/bbs-2.10-bioc/R/bin/R CMD check --no-vignettes --timings SLGI_1.16.0.tar.gz
StartedAt: 2012-04-01 03:27:38 -0700 (Sun, 01 Apr 2012)
EndedAt: 2012-04-01 03:31:58 -0700 (Sun, 01 Apr 2012)
EllapsedTime: 259.8 seconds
RetCode: 0
Status:  OK 
CheckDir: SLGI.Rcheck
Warnings: 0

Command output

* using log directory '/loc/home/hpages/test-puck5/bbs-2.10-bioc/meat/SLGI.Rcheck'
* using R version 2.15.0 RC (2012-03-22 r58802)
* using platform: x86_64-unknown-linux-gnu (64-bit)
* using session charset: ISO8859-1
* using option '--no-vignettes'
* checking for file 'SLGI/DESCRIPTION' ... OK
* this is package 'SLGI' version '1.16.0'
* checking package namespace information ... OK
* checking package dependencies ... OK
* checking if this is a source package ... OK
* checking if there is a namespace ... OK
* checking whether package 'SLGI' can be installed ... OK
* checking installed package size ... NOTE
  installed size is 15.9Mb
  sub-directories of 1Mb or more:
    data      4.2Mb
    extdata  11.3Mb
* checking package directory ... OK
* checking for portable file names ... OK
* checking for sufficient/correct file permissions ... OK
* checking DESCRIPTION meta-information ... OK
* checking top-level files ... OK
* checking index information ... OK
* checking package subdirectories ... OK
* checking R files for non-ASCII characters ... OK
* checking R files for syntax errors ... OK
* checking whether the package can be loaded ... OK
* checking whether the package can be loaded with stated dependencies ... OK
* checking whether the package can be unloaded cleanly ... OK
* checking whether the namespace can be loaded with stated dependencies ... OK
* checking whether the namespace can be unloaded cleanly ... OK
* checking for unstated dependencies in R code ... OK
* checking S3 generic/method consistency ... OK
* checking replacement functions ... OK
* checking foreign function calls ... OK
* checking R code for possible problems ... OK
* checking Rd files ... OK
* checking Rd metadata ... OK
* checking Rd cross-references ... OK
* checking for missing documentation entries ... OK
* checking for code/documentation mismatches ... OK
* checking Rd \usage sections ... OK
* checking Rd contents ... OK
* checking for unstated dependencies in examples ... OK
* checking contents of 'data' directory ... OK
* checking data for non-ASCII characters ... OK
* checking data for ASCII and uncompressed saves ... OK
* checking installed files from 'inst/doc' ... OK
* checking examples ... OK
* checking for unstated dependencies in vignettes ... OK
* checking package vignettes in 'inst/doc' ... OK
* checking running R code from vignettes ... SKIPPED
* checking re-building of vignettes ... SKIPPED
* checking PDF version of manual ... OK

NOTE: There was 1 note.
See
  '/loc/home/hpages/test-puck5/bbs-2.10-bioc/meat/SLGI.Rcheck/00check.log'
for details.

SLGI.Rcheck/00install.out:

* installing *source* package 'SLGI' ...
** R
** data
** inst
** preparing package for lazy loading
No methods found in "BiocGenerics" for requests: plot
Creating a generic function for 'plot' from package 'graphics' in package 'SLGI'
** help
*** installing help indices
** building package indices
** installing vignettes
   'SLGI.Rnw' 
** testing if installed package can be loaded
No methods found in "BiocGenerics" for requests: plot

* DONE (SLGI)

SLGI.Rcheck/SLGI-Ex.timings:

nameusersystemelapsed
Atong0.0080.0040.027
AtongFnDomain4.3040.0684.394
AtongPair0.3640.0040.386
SDL0.0080.0000.030
SGA0.0080.0000.029
SGD.SL0.1400.0000.154
TFmat0.0720.0120.105
byComplex0.4360.0320.499
comemberIn0.8480.0080.899
compare14.865 0.01614.952
congruence0.0040.0000.002
createSquareMatrix0.2320.0160.266
domainDist2.0640.0282.112
essglist0.0040.0040.029
getInteraction0.0040.0000.003
getSharedDomains0.4960.0040.512
getSharedInteraction0.0040.0000.001
getTestedPairs0.0080.0000.010
getUniquePairs0.0160.0000.019
gi20050.0400.0040.074
gi20070.1040.0000.183
gi2Interactome000
hyperG0.0040.0000.005
iSummary26.098 0.04026.200
modelSLGI18.909 0.00818.987
normInteraction5.9720.0086.036
plot16.166 0.02016.246
seqMatcherAlign000
sharedBy2.8280.0362.881
sharedInt0.0000.0000.003
siResult-class16.257 0.00816.317
test2Interact0.0040.0000.003
topInteraction8.4520.0088.516
twoWayTable8.4090.0848.506
withinComplex0.7600.0200.812