Back to the "Multiple platform build/check report" | [A] B C D E F G H I J K L M N O P Q R S T U V W X Y Z |
Package 39/553 | Hostname | OS / Arch | BUILD | CHECK | BUILD BIN | ||||
aroma.light 1.24.0 Henrik Bengtsson
| lamb2 | Linux (openSUSE 11.4) / x86_64 | [ OK ] | WARNINGS | |||||
moscato2 | Windows Server 2008 R2 Enterprise SP1 (64-bit) / x64 | OK | WARNINGS | OK | |||||
petty | Mac OS X Leopard (10.5.8) / i386 | OK | WARNINGS | OK |
Package: aroma.light |
Version: 1.24.0 |
Command: /home/biocbuild/bbs-2.10-bioc/R/bin/R CMD build --keep-empty-dirs --no-resave-data aroma.light |
StartedAt: 2012-09-23 20:29:59 -0700 (Sun, 23 Sep 2012) |
EndedAt: 2012-09-23 20:30:01 -0700 (Sun, 23 Sep 2012) |
EllapsedTime: 1.8 seconds |
RetCode: 0 |
Status: OK |
PackageFile: aroma.light_1.24.0.tar.gz |
PackageFileSize: 385.8 KiB |
* checking for file ‘aroma.light/DESCRIPTION’ ... OK * preparing ‘aroma.light’: * checking DESCRIPTION meta-information ... OK * checking for LF line-endings in source and make files * checking for empty or unneeded directories * building ‘aroma.light_1.24.0.tar.gz’