fabia 2.2.0 Sepp Hochreiter
Snapshot Date: 2012-03-31 17:01:49 -0700 (Sat, 31 Mar 2012) | URL: https://hedgehog.fhcrc.org/bioconductor/branches/RELEASE_2_10/madman/Rpacks/fabia | Last Changed Rev: 64678 / Revision: 64719 | Last Changed Date: 2012-03-30 15:05:02 -0700 (Fri, 30 Mar 2012) |
| lamb2 | Linux (openSUSE 11.4) / x86_64 | OK | OK | |
puck5 | Linux (Ubuntu 12.04) / x86_64 | OK | [ OK ] | |
moscato2 | Windows Server 2008 R2 Enterprise SP1 (64-bit) / x64 | OK | OK | OK |
petty | Mac OS X Leopard (10.5.8) / i386 | OK | OK | OK |
* installing *source* package 'fabia' ...
checking for gcc... gcc -std=gnu99
checking for C compiler default output file name... a.out
checking whether the C compiler works... yes
checking whether we are cross compiling... no
checking for suffix of executables...
checking for suffix of object files... o
checking whether we are using the GNU C compiler... yes
checking whether gcc -std=gnu99 accepts -g... yes
checking for gcc -std=gnu99 option to accept ANSI C... none needed
checking how to run the C preprocessor... gcc -std=gnu99 -E
configure: creating ./config.status
config.status: creating src/Makevars
** libs
gcc -std=gnu99 -I/home/hpages/test-puck5/bbs-2.10-bioc/R/include -DNDEBUG -I/usr/local/include -I/usr/local/include -g -O2 -fpic -g -O2 -c fabiac.c -o fabiac.o
fabiac.c: In function 'readSpfabicResult':
fabiac.c:3342:11: warning: ignoring return value of 'fscanf', declared with attribute warn_unused_result [-Wunused-result]
fabiac.c:3350:11: warning: ignoring return value of 'fscanf', declared with attribute warn_unused_result [-Wunused-result]
fabiac.c:3373:8: warning: ignoring return value of 'fscanf', declared with attribute warn_unused_result [-Wunused-result]
fabiac.c:3377:12: warning: ignoring return value of 'fscanf', declared with attribute warn_unused_result [-Wunused-result]
fabiac.c:3380:8: warning: ignoring return value of 'fscanf', declared with attribute warn_unused_result [-Wunused-result]
fabiac.c:3383:12: warning: ignoring return value of 'fscanf', declared with attribute warn_unused_result [-Wunused-result]
fabiac.c:3386:8: warning: ignoring return value of 'fscanf', declared with attribute warn_unused_result [-Wunused-result]
fabiac.c:3417:11: warning: ignoring return value of 'fscanf', declared with attribute warn_unused_result [-Wunused-result]
fabiac.c:3423:11: warning: ignoring return value of 'fscanf', declared with attribute warn_unused_result [-Wunused-result]
fabiac.c:3444:12: warning: ignoring return value of 'fscanf', declared with attribute warn_unused_result [-Wunused-result]
fabiac.c:3447:8: warning: ignoring return value of 'fscanf', declared with attribute warn_unused_result [-Wunused-result]
fabiac.c:3462:8: warning: ignoring return value of 'fscanf', declared with attribute warn_unused_result [-Wunused-result]
fabiac.c:3478:12: warning: ignoring return value of 'fscanf', declared with attribute warn_unused_result [-Wunused-result]
fabiac.c:3481:8: warning: ignoring return value of 'fscanf', declared with attribute warn_unused_result [-Wunused-result]
fabiac.c: In function 'readSamplesSpfabic':
fabiac.c:3121:11: warning: ignoring return value of 'fscanf', declared with attribute warn_unused_result [-Wunused-result]
fabiac.c:3129:11: warning: ignoring return value of 'fscanf', declared with attribute warn_unused_result [-Wunused-result]
fabiac.c:3156:10: warning: ignoring return value of 'fscanf', declared with attribute warn_unused_result [-Wunused-result]
fabiac.c:3159:12: warning: ignoring return value of 'fscanf', declared with attribute warn_unused_result [-Wunused-result]
fabiac.c:3162:10: warning: ignoring return value of 'fscanf', declared with attribute warn_unused_result [-Wunused-result]
fabiac.c:3164:12: warning: ignoring return value of 'fscanf', declared with attribute warn_unused_result [-Wunused-result]
fabiac.c:3167:10: warning: ignoring return value of 'fscanf', declared with attribute warn_unused_result [-Wunused-result]
fabiac.c:3189:14: warning: ignoring return value of 'fscanf', declared with attribute warn_unused_result [-Wunused-result]
fabiac.c:3191:9: warning: ignoring return value of 'fscanf', declared with attribute warn_unused_result [-Wunused-result]
fabiac.c:3193:14: warning: ignoring return value of 'fscanf', declared with attribute warn_unused_result [-Wunused-result]
fabiac.c:3195:9: warning: ignoring return value of 'fscanf', declared with attribute warn_unused_result [-Wunused-result]
fabiac.c:3197:14: warning: ignoring return value of 'fscanf', declared with attribute warn_unused_result [-Wunused-result]
fabiac.c:3200:14: warning: ignoring return value of 'fscanf', declared with attribute warn_unused_result [-Wunused-result]
fabiac.c:3203:16: warning: ignoring return value of 'fscanf', declared with attribute warn_unused_result [-Wunused-result]
fabiac.c:3206:14: warning: ignoring return value of 'fscanf', declared with attribute warn_unused_result [-Wunused-result]
fabiac.c:3208:16: warning: ignoring return value of 'fscanf', declared with attribute warn_unused_result [-Wunused-result]
fabiac.c:3211:14: warning: ignoring return value of 'fscanf', declared with attribute warn_unused_result [-Wunused-result]
fabiac.c: In function 'samplesPerFeature':
fabiac.c:2887:11: warning: ignoring return value of 'fscanf', declared with attribute warn_unused_result [-Wunused-result]
fabiac.c:2895:11: warning: ignoring return value of 'fscanf', declared with attribute warn_unused_result [-Wunused-result]
fabiac.c:2931:10: warning: ignoring return value of 'fscanf', declared with attribute warn_unused_result [-Wunused-result]
fabiac.c:2934:12: warning: ignoring return value of 'fscanf', declared with attribute warn_unused_result [-Wunused-result]
fabiac.c:2937:10: warning: ignoring return value of 'fscanf', declared with attribute warn_unused_result [-Wunused-result]
fabiac.c:2939:12: warning: ignoring return value of 'fscanf', declared with attribute warn_unused_result [-Wunused-result]
fabiac.c:2942:10: warning: ignoring return value of 'fscanf', declared with attribute warn_unused_result [-Wunused-result]
fabiac.c:2964:14: warning: ignoring return value of 'fscanf', declared with attribute warn_unused_result [-Wunused-result]
fabiac.c:2966:9: warning: ignoring return value of 'fscanf', declared with attribute warn_unused_result [-Wunused-result]
fabiac.c:2968:14: warning: ignoring return value of 'fscanf', declared with attribute warn_unused_result [-Wunused-result]
fabiac.c:2970:9: warning: ignoring return value of 'fscanf', declared with attribute warn_unused_result [-Wunused-result]
fabiac.c:2972:14: warning: ignoring return value of 'fscanf', declared with attribute warn_unused_result [-Wunused-result]
fabiac.c:2975:14: warning: ignoring return value of 'fscanf', declared with attribute warn_unused_result [-Wunused-result]
fabiac.c:2978:16: warning: ignoring return value of 'fscanf', declared with attribute warn_unused_result [-Wunused-result]
fabiac.c:2981:14: warning: ignoring return value of 'fscanf', declared with attribute warn_unused_result [-Wunused-result]
fabiac.c:2983:16: warning: ignoring return value of 'fscanf', declared with attribute warn_unused_result [-Wunused-result]
fabiac.c:2986:14: warning: ignoring return value of 'fscanf', declared with attribute warn_unused_result [-Wunused-result]
fabiac.c: In function 'spfabic':
fabiac.c:1469:11: warning: ignoring return value of 'fscanf', declared with attribute warn_unused_result [-Wunused-result]
fabiac.c:1477:11: warning: ignoring return value of 'fscanf', declared with attribute warn_unused_result [-Wunused-result]
fabiac.c:1504:10: warning: ignoring return value of 'fscanf', declared with attribute warn_unused_result [-Wunused-result]
fabiac.c:1507:12: warning: ignoring return value of 'fscanf', declared with attribute warn_unused_result [-Wunused-result]
fabiac.c:1510:10: warning: ignoring return value of 'fscanf', declared with attribute warn_unused_result [-Wunused-result]
fabiac.c:1512:12: warning: ignoring return value of 'fscanf', declared with attribute warn_unused_result [-Wunused-result]
fabiac.c:1515:10: warning: ignoring return value of 'fscanf', declared with attribute warn_unused_result [-Wunused-result]
fabiac.c:1537:14: warning: ignoring return value of 'fscanf', declared with attribute warn_unused_result [-Wunused-result]
fabiac.c:1539:9: warning: ignoring return value of 'fscanf', declared with attribute warn_unused_result [-Wunused-result]
fabiac.c:1541:14: warning: ignoring return value of 'fscanf', declared with attribute warn_unused_result [-Wunused-result]
fabiac.c:1543:9: warning: ignoring return value of 'fscanf', declared with attribute warn_unused_result [-Wunused-result]
fabiac.c:1545:14: warning: ignoring return value of 'fscanf', declared with attribute warn_unused_result [-Wunused-result]
fabiac.c:1548:12: warning: ignoring return value of 'fscanf', declared with attribute warn_unused_result [-Wunused-result]
fabiac.c:1551:14: warning: ignoring return value of 'fscanf', declared with attribute warn_unused_result [-Wunused-result]
fabiac.c:1554:12: warning: ignoring return value of 'fscanf', declared with attribute warn_unused_result [-Wunused-result]
fabiac.c:1556:14: warning: ignoring return value of 'fscanf', declared with attribute warn_unused_result [-Wunused-result]
fabiac.c:1559:12: warning: ignoring return value of 'fscanf', declared with attribute warn_unused_result [-Wunused-result]
gcc -std=gnu99 -shared -L/usr/local/lib -o fabia.so fabiac.o -L/home/hpages/test-puck5/bbs-2.10-bioc/R/lib -lR
installing to /loc/home/hpages/test-puck5/bbs-2.10-bioc/meat/fabia.Rcheck/fabia/libs
** R
** demo
** inst
** preparing package for lazy loading
Creating a generic function for 'plot' from package 'graphics' in package 'fabia'
** help
*** installing help indices
** building package indices
** installing vignettes
'fabia.Rnw'
** testing if installed package can be loaded
* DONE (fabia)