Back to the "Multiple platform build/check report" A  B  C  D  E  F  G  H  I  J  K  L  M  N  O  P  Q  R  S [T] U  V  W  X  Y  Z 

Package 530/554HostnameOS / ArchBUILDCHECKBUILD BIN
topGO 2.8.0
Adrian Alexa
Snapshot Date: 2012-03-31 17:01:49 -0700 (Sat, 31 Mar 2012)
URL: https://hedgehog.fhcrc.org/bioconductor/branches/RELEASE_2_10/madman/Rpacks/topGO
Last Changed Rev: 64678 / Revision: 64719
Last Changed Date: 2012-03-30 15:05:02 -0700 (Fri, 30 Mar 2012)
lamb2 Linux (openSUSE 11.4) / x86_64  OK  OK 
puck5 Linux (Ubuntu 12.04) / x86_64  OK [ OK ]
moscato2 Windows Server 2008 R2 Enterprise SP1 (64-bit) / x64  OK  OK  OK 
petty Mac OS X Leopard (10.5.8) / i386  OK  OK  OK 

Summary

Package: topGO
Version: 2.8.0
Command: /home/hpages/test-puck5/bbs-2.10-bioc/R/bin/R CMD check --no-vignettes --timings topGO_2.8.0.tar.gz
StartedAt: 2012-04-01 03:44:47 -0700 (Sun, 01 Apr 2012)
EndedAt: 2012-04-01 03:47:02 -0700 (Sun, 01 Apr 2012)
EllapsedTime: 135.0 seconds
RetCode: 0
Status:  OK 
CheckDir: topGO.Rcheck
Warnings: 0

Command output

* using log directory '/loc/home/hpages/test-puck5/bbs-2.10-bioc/meat/topGO.Rcheck'
* using R version 2.15.0 RC (2012-03-22 r58802)
* using platform: x86_64-unknown-linux-gnu (64-bit)
* using session charset: ISO8859-1
* using option '--no-vignettes'
* checking for file 'topGO/DESCRIPTION' ... OK
* checking extension type ... Package
* this is package 'topGO' version '2.8.0'
* checking package namespace information ... OK
* checking package dependencies ... OK
* checking if this is a source package ... OK
* checking if there is a namespace ... OK
* checking whether package 'topGO' can be installed ... OK
* checking installed package size ... OK
* checking package directory ... OK
* checking for portable file names ... OK
* checking for sufficient/correct file permissions ... OK
* checking DESCRIPTION meta-information ... OK
* checking top-level files ... OK
* checking index information ... OK
* checking package subdirectories ... OK
* checking R files for non-ASCII characters ... OK
* checking R files for syntax errors ... OK
* checking whether the package can be loaded ... OK
* checking whether the package can be loaded with stated dependencies ... OK
* checking whether the package can be unloaded cleanly ... OK
* checking whether the namespace can be loaded with stated dependencies ... OK
* checking whether the namespace can be unloaded cleanly ... OK
* checking for unstated dependencies in R code ... OK
* checking S3 generic/method consistency ... OK
* checking replacement functions ... OK
* checking foreign function calls ... OK
* checking R code for possible problems ... NOTE
getPvalues: warning in pt(t.stats, df = length(classlabel) - 2, lower =
  FALSE): partial argument match of 'lower' to 'lower.tail'
* checking Rd files ... OK
* checking Rd metadata ... OK
* checking Rd cross-references ... OK
* checking for missing documentation entries ... OK
* checking for code/documentation mismatches ... OK
* checking Rd \usage sections ... OK
* checking Rd contents ... OK
* checking for unstated dependencies in examples ... OK
* checking contents of 'data' directory ... OK
* checking data for non-ASCII characters ... OK
* checking data for ASCII and uncompressed saves ... OK
* checking installed files from 'inst/doc' ... OK
* checking examples ... OK
* checking for unstated dependencies in vignettes ... OK
* checking package vignettes in 'inst/doc' ... OK
* checking running R code from vignettes ... SKIPPED
* checking re-building of vignettes ... SKIPPED
* checking PDF version of manual ... OK

NOTE: There was 1 note.
See
  '/loc/home/hpages/test-puck5/bbs-2.10-bioc/meat/topGO.Rcheck/00check.log'
for details.

topGO.Rcheck/00install.out:

* installing *source* package 'topGO' ...
** R
** data
** inst
** preparing package for lazy loading
Creating a generic function for 'print' from package 'base' in package 'topGO'
** help
*** installing help indices
** building package indices
** installing vignettes
   'topGO.Rnw' 
** testing if installed package can be loaded

groupGOTerms: 	GOBPTerm, GOMFTerm, GOCCTerm environments built.

* DONE (topGO)

topGO.Rcheck/topGO-Ex.timings:

nameusersystemelapsed
GOdata0.0440.0000.063
annFUN1.4640.0241.536
classicCount-class000
classicExpr-class0.0000.0000.001
classicScore-class0.0040.0000.005
dagFunctions000
diagnosticMethods0.5440.0040.569
elimExpr-class0.0000.0000.001
elimScore-class000
geneList0.0000.0040.013
getPvalues3.2960.0843.436
getSigGroups3.8120.0083.834
groupGOTerms0.3080.0000.308
inducedGraph0.0680.0000.080
parentChild-class0.0000.0000.001
printGraph-methods000
topGOdata-class5.6130.0525.708
topGOresult-class0.0320.0000.043