Back to the "Multiple platform build/check report"

Package 18/126HostnameOS / ArchBUILDCHECKBUILD BIN
bsseqData 0.1.1
Kasper Daniel Hansen
Snapshot Date: 2012-08-01 10:15:23 -0700 (Wed, 01 Aug 2012)
URL: https://hedgehog.fhcrc.org/bioc-data/trunk/experiment/pkgs/bsseqData
Last Changed Rev: 2103 / Revision: 2112
Last Changed Date: 2012-07-20 10:34:40 -0700 (Fri, 20 Jul 2012)
lamb2 Linux (openSUSE 11.4) / x86_64  OK  ERROR 
moscato2 Windows Server 2008 R2 Enterprise SP1 (64-bit) / x64  OK [ ERROR ] ERROR 
petty Mac OS X Leopard (10.5.8) / i386  OK  ERROR  ERROR 

Summary

Package: bsseqData
Version: 0.1.1
Command: rm -rf bsseqData.buildbin-libdir && mkdir bsseqData.buildbin-libdir && E:\biocbld\bbs-2.10-bioc\R\bin\R.exe CMD INSTALL --build --merge-multiarch --library=bsseqData.buildbin-libdir bsseqData_0.1.1.tar.gz >bsseqData-install.out 2>&1 && E:\biocbld\bbs-2.10-bioc\R\bin\R.exe CMD check --library=bsseqData.buildbin-libdir --install="check:bsseqData-install.out" --force-multiarch --no-vignettes --timings bsseqData_0.1.1.tar.gz && mv bsseqData.buildbin-libdir/* bsseqData.Rcheck/ && rmdir bsseqData.buildbin-libdir
StartedAt: 2012-08-01 12:40:36 -0700 (Wed, 01 Aug 2012)
EndedAt: 2012-08-01 12:41:32 -0700 (Wed, 01 Aug 2012)
EllapsedTime: 56.3 seconds
RetCode: 1
Status:  ERROR  
CheckDir: None
Warnings: NA

Command output