BitSeq 1.3.7 Peter Glaus
Snapshot Date: 2013-03-24 17:01:43 -0700 (Sun, 24 Mar 2013) | URL: https://hedgehog.fhcrc.org/bioconductor/trunk/madman/Rpacks/BitSeq | Last Changed Rev: 74691 / Revision: 74774 | Last Changed Date: 2013-03-22 11:26:02 -0700 (Fri, 22 Mar 2013) |
| george2 | Linux (Ubuntu 12.04.1 LTS) / x86_64 | OK | [ OK ] | |
moscato2 | Windows Server 2008 R2 Enterprise SP1 (64-bit) / x64 | OK | OK | OK |
petty | Mac OS X Leopard (10.5.8) / i386 | OK | OK | OK |
* using log directory ‘/home/biocbuild/bbs-2.12-bioc/meat/BitSeq.Rcheck’
* using R version 3.0.0 beta (2013-03-19 r62328)
* using platform: x86_64-unknown-linux-gnu (64-bit)
* using session charset: UTF-8
* using option ‘--no-vignettes’
* checking for file ‘BitSeq/DESCRIPTION’ ... OK
* checking extension type ... Package
* this is package ‘BitSeq’ version ‘1.3.7’
* checking package namespace information ... OK
* checking package dependencies ... OK
* checking if this is a source package ... OK
* checking if there is a namespace ... OK
* checking for hidden files and directories ... OK
* checking for portable file names ... OK
* checking for sufficient/correct file permissions ... OK
* checking whether package ‘BitSeq’ can be installed ... [78s/81s] OK
* checking installed package size ... NOTE
installed size is 11.9Mb
sub-directories of 1Mb or more:
extdata 4.5Mb
libs 7.0Mb
* checking package directory ... OK
* checking DESCRIPTION meta-information ... NOTE
Components with restrictions not permitted:
Artistic-2.0 + file LICENSE
* checking top-level files ... OK
* checking for left-over files ... OK
* checking index information ... OK
* checking package subdirectories ... OK
* checking R files for non-ASCII characters ... OK
* checking R files for syntax errors ... OK
* checking whether the package can be loaded ... OK
* checking whether the package can be loaded with stated dependencies ... OK
* checking whether the package can be unloaded cleanly ... OK
* checking whether the namespace can be loaded with stated dependencies ... OK
* checking whether the namespace can be unloaded cleanly ... OK
* checking for unstated dependencies in R code ... OK
* checking S3 generic/method consistency ... OK
* checking replacement functions ... OK
* checking foreign function calls ... OK
* checking R code for possible problems ... OK
* checking Rd files ... OK
* checking Rd metadata ... OK
* checking Rd cross-references ... OK
* checking for missing documentation entries ... OK
* checking for code/documentation mismatches ... OK
* checking Rd \usage sections ... OK
* checking Rd contents ... OK
* checking for unstated dependencies in examples ... OK
* checking line endings in C/C++/Fortran sources/headers ... OK
* checking line endings in Makefiles ... OK
* checking for portable compilation flags in Makevars ... OK
* checking for portable use of $(BLAS_LIBS) and $(LAPACK_LIBS) ... OK
* checking compiled code ... OK
* checking installed files from ‘inst/doc’ ... OK
* checking examples ... [11s/12s] OK
* checking for unstated dependencies in vignettes ... OK
* checking package vignettes in ‘inst/doc’ ... OK
* checking running R code from vignettes ... SKIPPED
* checking re-building of vignettes ... SKIPPED
* checking PDF version of manual ... OK
NOTE: There were 2 notes.
See
‘/home/biocbuild/bbs-2.12-bioc/meat/BitSeq.Rcheck/00check.log’
for details.
* installing *source* package ‘BitSeq’ ...
checking whether the C++ compiler works... yes
checking for C++ compiler default output file name... a.out
checking for suffix of executables...
checking whether we are cross compiling... no
checking for suffix of object files... o
checking whether we are using the GNU C++ compiler... yes
checking whether g++ accepts -g... yes
checking for gcc -std=gnu99 option to support OpenMP... -fopenmp
configure: SAM_INCLUDE: /home/biocbuild/bbs-2.12-bioc/R/library/Rsamtools/usretc//Rsamtools.mk
configure: creating ./config.status
config.status: creating src/Makevars
config.status: creating src/Makevars.win
** libs
g++ -I/home/biocbuild/bbs-2.12-bioc/R/include -DNDEBUG -DPACKAGE_NAME=\"Bitseq\" -DPACKAGE_TARNAME=\"bitseq\" -DPACKAGE_VERSION=\"1.3.6\" -DPACKAGE_STRING=\"Bitseq\ 1.3.6\" -DPACKAGE_BUGREPORT=\"glaus@cs.man.ac.uk\" -DPACKAGE_URL=\"\" -DSUPPORT_OPENMP=1 -DBIOC_BUILD=1 -D_USE_KNETFILE -D_FILE_OFFSET_BITS=64 -D_LARGEFILE64_SOURCE -I/usr/local/include -I"/home/biocbuild/bbs-2.12-bioc/R/library/Rsamtools/include" -I"/home/biocbuild/bbs-2.12-bioc/R/library/zlibbioc/include" -I. -fopenmp -fpic -g -O2 -Wall -c ArgumentParser.cpp -o ArgumentParser.o
g++ -I/home/biocbuild/bbs-2.12-bioc/R/include -DNDEBUG -DPACKAGE_NAME=\"Bitseq\" -DPACKAGE_TARNAME=\"bitseq\" -DPACKAGE_VERSION=\"1.3.6\" -DPACKAGE_STRING=\"Bitseq\ 1.3.6\" -DPACKAGE_BUGREPORT=\"glaus@cs.man.ac.uk\" -DPACKAGE_URL=\"\" -DSUPPORT_OPENMP=1 -DBIOC_BUILD=1 -D_USE_KNETFILE -D_FILE_OFFSET_BITS=64 -D_LARGEFILE64_SOURCE -I/usr/local/include -I"/home/biocbuild/bbs-2.12-bioc/R/library/Rsamtools/include" -I"/home/biocbuild/bbs-2.12-bioc/R/library/zlibbioc/include" -I. -fopenmp -fpic -g -O2 -Wall -c CollapsedSampler.cpp -o CollapsedSampler.o
g++ -I/home/biocbuild/bbs-2.12-bioc/R/include -DNDEBUG -DPACKAGE_NAME=\"Bitseq\" -DPACKAGE_TARNAME=\"bitseq\" -DPACKAGE_VERSION=\"1.3.6\" -DPACKAGE_STRING=\"Bitseq\ 1.3.6\" -DPACKAGE_BUGREPORT=\"glaus@cs.man.ac.uk\" -DPACKAGE_URL=\"\" -DSUPPORT_OPENMP=1 -DBIOC_BUILD=1 -D_USE_KNETFILE -D_FILE_OFFSET_BITS=64 -D_LARGEFILE64_SOURCE -I/usr/local/include -I"/home/biocbuild/bbs-2.12-bioc/R/library/Rsamtools/include" -I"/home/biocbuild/bbs-2.12-bioc/R/library/zlibbioc/include" -I. -fopenmp -fpic -g -O2 -Wall -c FileHeader.cpp -o FileHeader.o
g++ -I/home/biocbuild/bbs-2.12-bioc/R/include -DNDEBUG -DPACKAGE_NAME=\"Bitseq\" -DPACKAGE_TARNAME=\"bitseq\" -DPACKAGE_VERSION=\"1.3.6\" -DPACKAGE_STRING=\"Bitseq\ 1.3.6\" -DPACKAGE_BUGREPORT=\"glaus@cs.man.ac.uk\" -DPACKAGE_URL=\"\" -DSUPPORT_OPENMP=1 -DBIOC_BUILD=1 -D_USE_KNETFILE -D_FILE_OFFSET_BITS=64 -D_LARGEFILE64_SOURCE -I/usr/local/include -I"/home/biocbuild/bbs-2.12-bioc/R/library/Rsamtools/include" -I"/home/biocbuild/bbs-2.12-bioc/R/library/zlibbioc/include" -I. -fopenmp -fpic -g -O2 -Wall -c GibbsParameters.cpp -o GibbsParameters.o
g++ -I/home/biocbuild/bbs-2.12-bioc/R/include -DNDEBUG -DPACKAGE_NAME=\"Bitseq\" -DPACKAGE_TARNAME=\"bitseq\" -DPACKAGE_VERSION=\"1.3.6\" -DPACKAGE_STRING=\"Bitseq\ 1.3.6\" -DPACKAGE_BUGREPORT=\"glaus@cs.man.ac.uk\" -DPACKAGE_URL=\"\" -DSUPPORT_OPENMP=1 -DBIOC_BUILD=1 -D_USE_KNETFILE -D_FILE_OFFSET_BITS=64 -D_LARGEFILE64_SOURCE -I/usr/local/include -I"/home/biocbuild/bbs-2.12-bioc/R/library/Rsamtools/include" -I"/home/biocbuild/bbs-2.12-bioc/R/library/zlibbioc/include" -I. -fopenmp -fpic -g -O2 -Wall -c GibbsSampler.cpp -o GibbsSampler.o
g++ -I/home/biocbuild/bbs-2.12-bioc/R/include -DNDEBUG -DPACKAGE_NAME=\"Bitseq\" -DPACKAGE_TARNAME=\"bitseq\" -DPACKAGE_VERSION=\"1.3.6\" -DPACKAGE_STRING=\"Bitseq\ 1.3.6\" -DPACKAGE_BUGREPORT=\"glaus@cs.man.ac.uk\" -DPACKAGE_URL=\"\" -DSUPPORT_OPENMP=1 -DBIOC_BUILD=1 -D_USE_KNETFILE -D_FILE_OFFSET_BITS=64 -D_LARGEFILE64_SOURCE -I/usr/local/include -I"/home/biocbuild/bbs-2.12-bioc/R/library/Rsamtools/include" -I"/home/biocbuild/bbs-2.12-bioc/R/library/zlibbioc/include" -I. -fopenmp -fpic -g -O2 -Wall -c PosteriorSamples.cpp -o PosteriorSamples.o
g++ -I/home/biocbuild/bbs-2.12-bioc/R/include -DNDEBUG -DPACKAGE_NAME=\"Bitseq\" -DPACKAGE_TARNAME=\"bitseq\" -DPACKAGE_VERSION=\"1.3.6\" -DPACKAGE_STRING=\"Bitseq\ 1.3.6\" -DPACKAGE_BUGREPORT=\"glaus@cs.man.ac.uk\" -DPACKAGE_URL=\"\" -DSUPPORT_OPENMP=1 -DBIOC_BUILD=1 -D_USE_KNETFILE -D_FILE_OFFSET_BITS=64 -D_LARGEFILE64_SOURCE -I/usr/local/include -I"/home/biocbuild/bbs-2.12-bioc/R/library/Rsamtools/include" -I"/home/biocbuild/bbs-2.12-bioc/R/library/zlibbioc/include" -I. -fopenmp -fpic -g -O2 -Wall -c R_init_BitSeq.cpp -o R_init_BitSeq.o
g++ -I/home/biocbuild/bbs-2.12-bioc/R/include -DNDEBUG -DPACKAGE_NAME=\"Bitseq\" -DPACKAGE_TARNAME=\"bitseq\" -DPACKAGE_VERSION=\"1.3.6\" -DPACKAGE_STRING=\"Bitseq\ 1.3.6\" -DPACKAGE_BUGREPORT=\"glaus@cs.man.ac.uk\" -DPACKAGE_URL=\"\" -DSUPPORT_OPENMP=1 -DBIOC_BUILD=1 -D_USE_KNETFILE -D_FILE_OFFSET_BITS=64 -D_LARGEFILE64_SOURCE -I/usr/local/include -I"/home/biocbuild/bbs-2.12-bioc/R/library/Rsamtools/include" -I"/home/biocbuild/bbs-2.12-bioc/R/library/zlibbioc/include" -I. -fopenmp -fpic -g -O2 -Wall -c ReadDistribution.cpp -o ReadDistribution.o
g++ -I/home/biocbuild/bbs-2.12-bioc/R/include -DNDEBUG -DPACKAGE_NAME=\"Bitseq\" -DPACKAGE_TARNAME=\"bitseq\" -DPACKAGE_VERSION=\"1.3.6\" -DPACKAGE_STRING=\"Bitseq\ 1.3.6\" -DPACKAGE_BUGREPORT=\"glaus@cs.man.ac.uk\" -DPACKAGE_URL=\"\" -DSUPPORT_OPENMP=1 -DBIOC_BUILD=1 -D_USE_KNETFILE -D_FILE_OFFSET_BITS=64 -D_LARGEFILE64_SOURCE -I/usr/local/include -I"/home/biocbuild/bbs-2.12-bioc/R/library/Rsamtools/include" -I"/home/biocbuild/bbs-2.12-bioc/R/library/zlibbioc/include" -I. -fopenmp -fpic -g -O2 -Wall -c Sampler.cpp -o Sampler.o
g++ -I/home/biocbuild/bbs-2.12-bioc/R/include -DNDEBUG -DPACKAGE_NAME=\"Bitseq\" -DPACKAGE_TARNAME=\"bitseq\" -DPACKAGE_VERSION=\"1.3.6\" -DPACKAGE_STRING=\"Bitseq\ 1.3.6\" -DPACKAGE_BUGREPORT=\"glaus@cs.man.ac.uk\" -DPACKAGE_URL=\"\" -DSUPPORT_OPENMP=1 -DBIOC_BUILD=1 -D_USE_KNETFILE -D_FILE_OFFSET_BITS=64 -D_LARGEFILE64_SOURCE -I/usr/local/include -I"/home/biocbuild/bbs-2.12-bioc/R/library/Rsamtools/include" -I"/home/biocbuild/bbs-2.12-bioc/R/library/zlibbioc/include" -I. -fopenmp -fpic -g -O2 -Wall -c TagAlignments.cpp -o TagAlignments.o
g++ -I/home/biocbuild/bbs-2.12-bioc/R/include -DNDEBUG -DPACKAGE_NAME=\"Bitseq\" -DPACKAGE_TARNAME=\"bitseq\" -DPACKAGE_VERSION=\"1.3.6\" -DPACKAGE_STRING=\"Bitseq\ 1.3.6\" -DPACKAGE_BUGREPORT=\"glaus@cs.man.ac.uk\" -DPACKAGE_URL=\"\" -DSUPPORT_OPENMP=1 -DBIOC_BUILD=1 -D_USE_KNETFILE -D_FILE_OFFSET_BITS=64 -D_LARGEFILE64_SOURCE -I/usr/local/include -I"/home/biocbuild/bbs-2.12-bioc/R/library/Rsamtools/include" -I"/home/biocbuild/bbs-2.12-bioc/R/library/zlibbioc/include" -I. -fopenmp -fpic -g -O2 -Wall -c TranscriptExpression.cpp -o TranscriptExpression.o
g++ -I/home/biocbuild/bbs-2.12-bioc/R/include -DNDEBUG -DPACKAGE_NAME=\"Bitseq\" -DPACKAGE_TARNAME=\"bitseq\" -DPACKAGE_VERSION=\"1.3.6\" -DPACKAGE_STRING=\"Bitseq\ 1.3.6\" -DPACKAGE_BUGREPORT=\"glaus@cs.man.ac.uk\" -DPACKAGE_URL=\"\" -DSUPPORT_OPENMP=1 -DBIOC_BUILD=1 -D_USE_KNETFILE -D_FILE_OFFSET_BITS=64 -D_LARGEFILE64_SOURCE -I/usr/local/include -I"/home/biocbuild/bbs-2.12-bioc/R/library/Rsamtools/include" -I"/home/biocbuild/bbs-2.12-bioc/R/library/zlibbioc/include" -I. -fopenmp -fpic -g -O2 -Wall -c TranscriptInfo.cpp -o TranscriptInfo.o
g++ -I/home/biocbuild/bbs-2.12-bioc/R/include -DNDEBUG -DPACKAGE_NAME=\"Bitseq\" -DPACKAGE_TARNAME=\"bitseq\" -DPACKAGE_VERSION=\"1.3.6\" -DPACKAGE_STRING=\"Bitseq\ 1.3.6\" -DPACKAGE_BUGREPORT=\"glaus@cs.man.ac.uk\" -DPACKAGE_URL=\"\" -DSUPPORT_OPENMP=1 -DBIOC_BUILD=1 -D_USE_KNETFILE -D_FILE_OFFSET_BITS=64 -D_LARGEFILE64_SOURCE -I/usr/local/include -I"/home/biocbuild/bbs-2.12-bioc/R/library/Rsamtools/include" -I"/home/biocbuild/bbs-2.12-bioc/R/library/zlibbioc/include" -I. -fopenmp -fpic -g -O2 -Wall -c TranscriptSequence.cpp -o TranscriptSequence.o
g++ -I/home/biocbuild/bbs-2.12-bioc/R/include -DNDEBUG -DPACKAGE_NAME=\"Bitseq\" -DPACKAGE_TARNAME=\"bitseq\" -DPACKAGE_VERSION=\"1.3.6\" -DPACKAGE_STRING=\"Bitseq\ 1.3.6\" -DPACKAGE_BUGREPORT=\"glaus@cs.man.ac.uk\" -DPACKAGE_URL=\"\" -DSUPPORT_OPENMP=1 -DBIOC_BUILD=1 -D_USE_KNETFILE -D_FILE_OFFSET_BITS=64 -D_LARGEFILE64_SOURCE -I/usr/local/include -I"/home/biocbuild/bbs-2.12-bioc/R/library/Rsamtools/include" -I"/home/biocbuild/bbs-2.12-bioc/R/library/zlibbioc/include" -I. -fopenmp -fpic -g -O2 -Wall -c common.cpp -o common.o
g++ -I/home/biocbuild/bbs-2.12-bioc/R/include -DNDEBUG -DPACKAGE_NAME=\"Bitseq\" -DPACKAGE_TARNAME=\"bitseq\" -DPACKAGE_VERSION=\"1.3.6\" -DPACKAGE_STRING=\"Bitseq\ 1.3.6\" -DPACKAGE_BUGREPORT=\"glaus@cs.man.ac.uk\" -DPACKAGE_URL=\"\" -DSUPPORT_OPENMP=1 -DBIOC_BUILD=1 -D_USE_KNETFILE -D_FILE_OFFSET_BITS=64 -D_LARGEFILE64_SOURCE -I/usr/local/include -I"/home/biocbuild/bbs-2.12-bioc/R/library/Rsamtools/include" -I"/home/biocbuild/bbs-2.12-bioc/R/library/zlibbioc/include" -I. -fopenmp -fpic -g -O2 -Wall -c estimateDE.cpp -o estimateDE.o
g++ -I/home/biocbuild/bbs-2.12-bioc/R/include -DNDEBUG -DPACKAGE_NAME=\"Bitseq\" -DPACKAGE_TARNAME=\"bitseq\" -DPACKAGE_VERSION=\"1.3.6\" -DPACKAGE_STRING=\"Bitseq\ 1.3.6\" -DPACKAGE_BUGREPORT=\"glaus@cs.man.ac.uk\" -DPACKAGE_URL=\"\" -DSUPPORT_OPENMP=1 -DBIOC_BUILD=1 -D_USE_KNETFILE -D_FILE_OFFSET_BITS=64 -D_LARGEFILE64_SOURCE -I/usr/local/include -I"/home/biocbuild/bbs-2.12-bioc/R/library/Rsamtools/include" -I"/home/biocbuild/bbs-2.12-bioc/R/library/zlibbioc/include" -I. -fopenmp -fpic -g -O2 -Wall -c estimateExpression.cpp -o estimateExpression.o
g++ -I/home/biocbuild/bbs-2.12-bioc/R/include -DNDEBUG -DPACKAGE_NAME=\"Bitseq\" -DPACKAGE_TARNAME=\"bitseq\" -DPACKAGE_VERSION=\"1.3.6\" -DPACKAGE_STRING=\"Bitseq\ 1.3.6\" -DPACKAGE_BUGREPORT=\"glaus@cs.man.ac.uk\" -DPACKAGE_URL=\"\" -DSUPPORT_OPENMP=1 -DBIOC_BUILD=1 -D_USE_KNETFILE -D_FILE_OFFSET_BITS=64 -D_LARGEFILE64_SOURCE -I/usr/local/include -I"/home/biocbuild/bbs-2.12-bioc/R/library/Rsamtools/include" -I"/home/biocbuild/bbs-2.12-bioc/R/library/zlibbioc/include" -I. -fopenmp -fpic -g -O2 -Wall -c estimateHyperPar.cpp -o estimateHyperPar.o
g++ -I/home/biocbuild/bbs-2.12-bioc/R/include -DNDEBUG -DPACKAGE_NAME=\"Bitseq\" -DPACKAGE_TARNAME=\"bitseq\" -DPACKAGE_VERSION=\"1.3.6\" -DPACKAGE_STRING=\"Bitseq\ 1.3.6\" -DPACKAGE_BUGREPORT=\"glaus@cs.man.ac.uk\" -DPACKAGE_URL=\"\" -DSUPPORT_OPENMP=1 -DBIOC_BUILD=1 -D_USE_KNETFILE -D_FILE_OFFSET_BITS=64 -D_LARGEFILE64_SOURCE -I/usr/local/include -I"/home/biocbuild/bbs-2.12-bioc/R/library/Rsamtools/include" -I"/home/biocbuild/bbs-2.12-bioc/R/library/zlibbioc/include" -I. -fopenmp -fpic -g -O2 -Wall -c getGeneExpression.cpp -o getGeneExpression.o
g++ -I/home/biocbuild/bbs-2.12-bioc/R/include -DNDEBUG -DPACKAGE_NAME=\"Bitseq\" -DPACKAGE_TARNAME=\"bitseq\" -DPACKAGE_VERSION=\"1.3.6\" -DPACKAGE_STRING=\"Bitseq\ 1.3.6\" -DPACKAGE_BUGREPORT=\"glaus@cs.man.ac.uk\" -DPACKAGE_URL=\"\" -DSUPPORT_OPENMP=1 -DBIOC_BUILD=1 -D_USE_KNETFILE -D_FILE_OFFSET_BITS=64 -D_LARGEFILE64_SOURCE -I/usr/local/include -I"/home/biocbuild/bbs-2.12-bioc/R/library/Rsamtools/include" -I"/home/biocbuild/bbs-2.12-bioc/R/library/zlibbioc/include" -I. -fopenmp -fpic -g -O2 -Wall -c getVariance.cpp -o getVariance.o
g++ -I/home/biocbuild/bbs-2.12-bioc/R/include -DNDEBUG -DPACKAGE_NAME=\"Bitseq\" -DPACKAGE_TARNAME=\"bitseq\" -DPACKAGE_VERSION=\"1.3.6\" -DPACKAGE_STRING=\"Bitseq\ 1.3.6\" -DPACKAGE_BUGREPORT=\"glaus@cs.man.ac.uk\" -DPACKAGE_URL=\"\" -DSUPPORT_OPENMP=1 -DBIOC_BUILD=1 -D_USE_KNETFILE -D_FILE_OFFSET_BITS=64 -D_LARGEFILE64_SOURCE -I/usr/local/include -I"/home/biocbuild/bbs-2.12-bioc/R/library/Rsamtools/include" -I"/home/biocbuild/bbs-2.12-bioc/R/library/zlibbioc/include" -I. -fopenmp -fpic -g -O2 -Wall -c getWithinGeneExpression.cpp -o getWithinGeneExpression.o
g++ -I/home/biocbuild/bbs-2.12-bioc/R/include -DNDEBUG -DPACKAGE_NAME=\"Bitseq\" -DPACKAGE_TARNAME=\"bitseq\" -DPACKAGE_VERSION=\"1.3.6\" -DPACKAGE_STRING=\"Bitseq\ 1.3.6\" -DPACKAGE_BUGREPORT=\"glaus@cs.man.ac.uk\" -DPACKAGE_URL=\"\" -DSUPPORT_OPENMP=1 -DBIOC_BUILD=1 -D_USE_KNETFILE -D_FILE_OFFSET_BITS=64 -D_LARGEFILE64_SOURCE -I/usr/local/include -I"/home/biocbuild/bbs-2.12-bioc/R/library/Rsamtools/include" -I"/home/biocbuild/bbs-2.12-bioc/R/library/zlibbioc/include" -I. -fopenmp -fpic -g -O2 -Wall -c lowess.cpp -o lowess.o
g++ -I/home/biocbuild/bbs-2.12-bioc/R/include -DNDEBUG -DPACKAGE_NAME=\"Bitseq\" -DPACKAGE_TARNAME=\"bitseq\" -DPACKAGE_VERSION=\"1.3.6\" -DPACKAGE_STRING=\"Bitseq\ 1.3.6\" -DPACKAGE_BUGREPORT=\"glaus@cs.man.ac.uk\" -DPACKAGE_URL=\"\" -DSUPPORT_OPENMP=1 -DBIOC_BUILD=1 -D_USE_KNETFILE -D_FILE_OFFSET_BITS=64 -D_LARGEFILE64_SOURCE -I/usr/local/include -I"/home/biocbuild/bbs-2.12-bioc/R/library/Rsamtools/include" -I"/home/biocbuild/bbs-2.12-bioc/R/library/zlibbioc/include" -I. -fopenmp -fpic -g -O2 -Wall -c misc.cpp -o misc.o
g++ -I/home/biocbuild/bbs-2.12-bioc/R/include -DNDEBUG -DPACKAGE_NAME=\"Bitseq\" -DPACKAGE_TARNAME=\"bitseq\" -DPACKAGE_VERSION=\"1.3.6\" -DPACKAGE_STRING=\"Bitseq\ 1.3.6\" -DPACKAGE_BUGREPORT=\"glaus@cs.man.ac.uk\" -DPACKAGE_URL=\"\" -DSUPPORT_OPENMP=1 -DBIOC_BUILD=1 -D_USE_KNETFILE -D_FILE_OFFSET_BITS=64 -D_LARGEFILE64_SOURCE -I/usr/local/include -I"/home/biocbuild/bbs-2.12-bioc/R/library/Rsamtools/include" -I"/home/biocbuild/bbs-2.12-bioc/R/library/zlibbioc/include" -I. -fopenmp -fpic -g -O2 -Wall -c parseAlignment.cpp -o parseAlignment.o
g++ -I/home/biocbuild/bbs-2.12-bioc/R/include -DNDEBUG -DPACKAGE_NAME=\"Bitseq\" -DPACKAGE_TARNAME=\"bitseq\" -DPACKAGE_VERSION=\"1.3.6\" -DPACKAGE_STRING=\"Bitseq\ 1.3.6\" -DPACKAGE_BUGREPORT=\"glaus@cs.man.ac.uk\" -DPACKAGE_URL=\"\" -DSUPPORT_OPENMP=1 -DBIOC_BUILD=1 -D_USE_KNETFILE -D_FILE_OFFSET_BITS=64 -D_LARGEFILE64_SOURCE -I/usr/local/include -I"/home/biocbuild/bbs-2.12-bioc/R/library/Rsamtools/include" -I"/home/biocbuild/bbs-2.12-bioc/R/library/zlibbioc/include" -I. -fopenmp -fpic -g -O2 -Wall -c transposeFiles.cpp -o transposeFiles.o
g++ -shared -L/usr/local/lib -o BitSeq.so ArgumentParser.o CollapsedSampler.o FileHeader.o GibbsParameters.o GibbsSampler.o PosteriorSamples.o R_init_BitSeq.o ReadDistribution.o Sampler.o TagAlignments.o TranscriptExpression.o TranscriptInfo.o TranscriptSequence.o common.o estimateDE.o estimateExpression.o estimateHyperPar.o getGeneExpression.o getVariance.o getWithinGeneExpression.o lowess.o misc.o parseAlignment.o transposeFiles.o -fopenmp /home/biocbuild/bbs-2.12-bioc/R/library/Rsamtools/usrlib//libbam.a /home/biocbuild/bbs-2.12-bioc/R/library/Rsamtools/usrlib//libbcf.a /home/biocbuild/bbs-2.12-bioc/R/library/Rsamtools/usrlib//libtabix.a -lz -pthread -L/home/biocbuild/bbs-2.12-bioc/R/lib -lR
installing to /home/biocbuild/bbs-2.12-bioc/meat/BitSeq.Rcheck/BitSeq/libs
** R
** inst
** preparing package for lazy loading
** help
*** installing help indices
** building package indices
** installing vignettes
‘BitSeq.Rnw’
** testing if installed package can be loaded
* DONE (BitSeq)