QUALIFIER 1.3.3 Mike Jiang
Snapshot Date: 2013-03-10 17:01:18 -0700 (Sun, 10 Mar 2013) | URL: https://hedgehog.fhcrc.org/bioconductor/trunk/madman/Rpacks/QUALIFIER | Last Changed Rev: 73559 / Revision: 74144 | Last Changed Date: 2013-02-15 11:06:54 -0800 (Fri, 15 Feb 2013) |
| george2 | Linux (Ubuntu 12.04.1 LTS) / x86_64 | ERROR | skipped | |
moscato2 | Windows Server 2008 R2 Enterprise SP1 (64-bit) / x64 | [ ERROR ] | skipped | skipped |
petty | Mac OS X Leopard (10.5.8) / i386 | ERROR | skipped | skipped |
* checking for file 'QUALIFIER/DESCRIPTION' ... OK
* preparing 'QUALIFIER':
* checking DESCRIPTION meta-information ... OK
* installing the package to re-build vignettes
-----------------------------------
ERROR: dependency 'flowWorkspace' is not available for package 'QUALIFIER'
* removing 'E:/biocbld/bbs-2.12-bioc/tmpdir/RtmpArpLvg/Rinstd5c722870fb/QUALIFIER'
-----------------------------------
ERROR: package installation failed